BEGIN:VCALENDAR
VERSION:2.0
PRODID:-//Wolf Creek Race Management - ECPv6.15.20//NONSGML v1.0//EN
CALSCALE:GREGORIAN
METHOD:PUBLISH
X-ORIGINAL-URL:https://wolfcreektrackclub.com
X-WR-CALDESC:Events for Wolf Creek Race Management
REFRESH-INTERVAL;VALUE=DURATION:PT1H
X-Robots-Tag:noindex
X-PUBLISHED-TTL:PT1H
BEGIN:VTIMEZONE
TZID:America/New_York
BEGIN:DAYLIGHT
TZOFFSETFROM:-0500
TZOFFSETTO:-0400
TZNAME:EDT
DTSTART:20250309T070000
END:DAYLIGHT
BEGIN:STANDARD
TZOFFSETFROM:-0400
TZOFFSETTO:-0500
TZNAME:EST
DTSTART:20251102T060000
END:STANDARD
BEGIN:DAYLIGHT
TZOFFSETFROM:-0500
TZOFFSETTO:-0400
TZNAME:EDT
DTSTART:20260308T070000
END:DAYLIGHT
BEGIN:STANDARD
TZOFFSETFROM:-0400
TZOFFSETTO:-0500
TZNAME:EST
DTSTART:20261101T060000
END:STANDARD
BEGIN:DAYLIGHT
TZOFFSETFROM:-0500
TZOFFSETTO:-0400
TZNAME:EDT
DTSTART:20270314T070000
END:DAYLIGHT
BEGIN:STANDARD
TZOFFSETFROM:-0400
TZOFFSETTO:-0500
TZNAME:EST
DTSTART:20271107T060000
END:STANDARD
END:VTIMEZONE
BEGIN:VEVENT
DTSTART;TZID=America/New_York:20260321T093000
DTEND;TZID=America/New_York:20260321T160000
DTSTAMP:20260424T152255
CREATED:20260120T143013Z
LAST-MODIFIED:20260120T143013Z
UID:22950-1774085400-1774108800@wolfcreektrackclub.com
SUMMARY:Upper St. Clair Rust Buster Invitational
DESCRIPTION:
URL:https://wolfcreektrackclub.com/event/upper-st-clair-rust-buster-invitational/
LOCATION:Upper St. Clair\, 1825 McLaughlin Run Rd\, Pittsburgh\, PA\, 15241\, United States
ATTACH;FMTTYPE=image/jpeg:https://wolfcreektrackclub.com/wp-content/uploads/2026/01/Upper-St.-Clair.jpg
END:VEVENT
END:VCALENDAR