BEGIN:VCALENDAR
VERSION:2.0
PRODID:-//Wolf Creek Race Management - ECPv6.15.20//NONSGML v1.0//EN
CALSCALE:GREGORIAN
METHOD:PUBLISH
X-WR-CALNAME:Wolf Creek Race Management
X-ORIGINAL-URL:https://wolfcreektrackclub.com
X-WR-CALDESC:Events for Wolf Creek Race Management
REFRESH-INTERVAL;VALUE=DURATION:PT1H
X-Robots-Tag:noindex
X-PUBLISHED-TTL:PT1H
BEGIN:VTIMEZONE
TZID:America/New_York
BEGIN:DAYLIGHT
TZOFFSETFROM:-0500
TZOFFSETTO:-0400
TZNAME:EDT
DTSTART:20250309T070000
END:DAYLIGHT
BEGIN:STANDARD
TZOFFSETFROM:-0400
TZOFFSETTO:-0500
TZNAME:EST
DTSTART:20251102T060000
END:STANDARD
BEGIN:DAYLIGHT
TZOFFSETFROM:-0500
TZOFFSETTO:-0400
TZNAME:EDT
DTSTART:20260308T070000
END:DAYLIGHT
BEGIN:STANDARD
TZOFFSETFROM:-0400
TZOFFSETTO:-0500
TZNAME:EST
DTSTART:20261101T060000
END:STANDARD
BEGIN:DAYLIGHT
TZOFFSETFROM:-0500
TZOFFSETTO:-0400
TZNAME:EDT
DTSTART:20270314T070000
END:DAYLIGHT
BEGIN:STANDARD
TZOFFSETFROM:-0400
TZOFFSETTO:-0500
TZNAME:EST
DTSTART:20271107T060000
END:STANDARD
END:VTIMEZONE
BEGIN:VEVENT
DTSTART;TZID=America/New_York:20260323T153000
DTEND;TZID=America/New_York:20260323T183000
DTSTAMP:20260424T142616
CREATED:20260120T154755Z
LAST-MODIFIED:20260303T183210Z
UID:22963-1774279800-1774290600@wolfcreektrackclub.com
SUMMARY:Mars @ Hampton HS T&F Meet
DESCRIPTION:
URL:https://wolfcreektrackclub.com/event/mars-hampton-hs-tf-meet-2/
LOCATION:Hampton High School\, 2929 McCully Rd\, Allison Park\, PA\, 15202\, United States
END:VEVENT
BEGIN:VEVENT
DTSTART;TZID=America/New_York:20260323T154500
DTEND;TZID=America/New_York:20260323T184500
DTSTAMP:20260424T142616
CREATED:20260224T202232Z
LAST-MODIFIED:20260224T202232Z
UID:23191-1774280700-1774291500@wolfcreektrackclub.com
SUMMARY:Hampton & Fox Chapel @ Pine-Richland MS T&F Meet
DESCRIPTION:
URL:https://wolfcreektrackclub.com/event/hampton-fox-chapel-pine-richland-ms-tf-meet/
LOCATION:Pine-Richland High School\, 700 Warrendale Road\, Gibsonia\, PA\, 15044\, United States
ATTACH;FMTTYPE=image/webp:https://wolfcreektrackclub.com/wp-content/uploads/2026/01/Pine-Richland-Logo-e1771964486299.webp
END:VEVENT
BEGIN:VEVENT
DTSTART;TZID=America/New_York:20260323T160000
DTEND;TZID=America/New_York:20260323T190000
DTSTAMP:20260424T142616
CREATED:20260120T154756Z
LAST-MODIFIED:20260303T155017Z
UID:22964-1774281600-1774292400@wolfcreektrackclub.com
SUMMARY:Pine-Richland @ Seneca Valley HS T&F Meet
DESCRIPTION:
URL:https://wolfcreektrackclub.com/event/pine-richland-seneca-valley-hs-tf-meet-2/
LOCATION:Seneca Valley High School\, 128 Seneca School Road\, Harmony\, PA\, 16037\, United States
ATTACH;FMTTYPE=image/png:https://wolfcreektrackclub.com/wp-content/uploads/2026/01/Seneca-Valley-07.png
END:VEVENT
BEGIN:VEVENT
DTSTART;TZID=America/New_York:20260323T160000
DTEND;TZID=America/New_York:20260323T190000
DTSTAMP:20260424T142616
CREATED:20260224T204741Z
LAST-MODIFIED:20260224T204741Z
UID:23193-1774281600-1774292400@wolfcreektrackclub.com
SUMMARY:West Perry @ Camp Hill HS T&F Meet
DESCRIPTION:
URL:https://wolfcreektrackclub.com/event/west-perry-camp-hill-hs-tf-meet/
LOCATION:Camp Hill High School\, 100 South 24th Street\, Camp Hill\, PA\, 17011\, United States
ATTACH;FMTTYPE=image/png:https://wolfcreektrackclub.com/wp-content/uploads/2026/02/169-AR-Camp-Hill-Logo.png
END:VEVENT
END:VCALENDAR