BEGIN:VCALENDAR
VERSION:2.0
PRODID:-//Wolf Creek Race Management - ECPv6.15.20//NONSGML v1.0//EN
CALSCALE:GREGORIAN
METHOD:PUBLISH
X-WR-CALNAME:Wolf Creek Race Management
X-ORIGINAL-URL:https://wolfcreektrackclub.com
X-WR-CALDESC:Events for Wolf Creek Race Management
REFRESH-INTERVAL;VALUE=DURATION:PT1H
X-Robots-Tag:noindex
X-PUBLISHED-TTL:PT1H
BEGIN:VTIMEZONE
TZID:America/New_York
BEGIN:DAYLIGHT
TZOFFSETFROM:-0500
TZOFFSETTO:-0400
TZNAME:EDT
DTSTART:20250309T070000
END:DAYLIGHT
BEGIN:STANDARD
TZOFFSETFROM:-0400
TZOFFSETTO:-0500
TZNAME:EST
DTSTART:20251102T060000
END:STANDARD
BEGIN:DAYLIGHT
TZOFFSETFROM:-0500
TZOFFSETTO:-0400
TZNAME:EDT
DTSTART:20260308T070000
END:DAYLIGHT
BEGIN:STANDARD
TZOFFSETFROM:-0400
TZOFFSETTO:-0500
TZNAME:EST
DTSTART:20261101T060000
END:STANDARD
BEGIN:DAYLIGHT
TZOFFSETFROM:-0500
TZOFFSETTO:-0400
TZNAME:EDT
DTSTART:20270314T070000
END:DAYLIGHT
BEGIN:STANDARD
TZOFFSETFROM:-0400
TZOFFSETTO:-0500
TZNAME:EST
DTSTART:20271107T060000
END:STANDARD
END:VTIMEZONE
BEGIN:VEVENT
DTSTART;TZID=America/New_York:20260421T153000
DTEND;TZID=America/New_York:20260421T183000
DTSTAMP:20260421T065532
CREATED:20260317T182554Z
LAST-MODIFIED:20260317T182554Z
UID:23486-1776785400-1776796200@wolfcreektrackclub.com
SUMMARY:Bethel Park @ Trinity HS T&F Meet
DESCRIPTION:
URL:https://wolfcreektrackclub.com/event/bethel-park-trinity-hs-tf-meet/
LOCATION:Trinity High School\, 231 Park Avenue\, Washington\, PA\, 15301\, United States
END:VEVENT
BEGIN:VEVENT
DTSTART;TZID=America/New_York:20260421T154500
DTEND;TZID=America/New_York:20260421T184500
DTSTAMP:20260421T065532
CREATED:20260120T172945Z
LAST-MODIFIED:20260403T180242Z
UID:23065-1776786300-1776797100@wolfcreektrackclub.com
SUMMARY:Fox Chapel\, North Allegheny @ Pine Richland HS T&F Meet
DESCRIPTION:
URL:https://wolfcreektrackclub.com/event/fox-chapel-north-allegheny-pine-richland-hs/
LOCATION:Pine-Richland High School\, 700 Warrendale Road\, Gibsonia\, PA\, 15044\, United States
END:VEVENT
BEGIN:VEVENT
DTSTART;TZID=America/New_York:20260421T160000
DTEND;TZID=America/New_York:20260421T190000
DTSTAMP:20260421T065532
CREATED:20260120T155258Z
LAST-MODIFIED:20260403T181351Z
UID:23023-1776787200-1776798000@wolfcreektrackclub.com
SUMMARY:Sharpsville @ Hickory HS T&F Meet
DESCRIPTION:
URL:https://wolfcreektrackclub.com/event/sharpsville-hickory-hs-tf-meet/
LOCATION:Hickory High School\, 640 N Hermitage Road\, Hermitage\, PA\, 16148\, United States
END:VEVENT
BEGIN:VEVENT
DTSTART;TZID=America/New_York:20260421T160000
DTEND;TZID=America/New_York:20260421T190000
DTSTAMP:20260421T065532
CREATED:20260120T155259Z
LAST-MODIFIED:20260403T190731Z
UID:23024-1776787200-1776798000@wolfcreektrackclub.com
SUMMARY:Butler @ Seneca Valley HS T&F Meet
DESCRIPTION:
URL:https://wolfcreektrackclub.com/event/butler-seneca-valley-hs-tf-meet/
LOCATION:Seneca Valley High School\, 128 Seneca School Road\, Harmony\, PA\, 16037\, United States
END:VEVENT
BEGIN:VEVENT
DTSTART;TZID=America/New_York:20260421T160000
DTEND;TZID=America/New_York:20260421T190000
DTSTAMP:20260421T065532
CREATED:20260227T024110Z
LAST-MODIFIED:20260414T144954Z
UID:23353-1776787200-1776798000@wolfcreektrackclub.com
SUMMARY:Mars Area @ North Hills MS T&F Meet
DESCRIPTION:
URL:https://wolfcreektrackclub.com/event/mars-area-north-hills-ms-tf-meet/
LOCATION:North Hills HS Martorelli Stadium\, 5336 Perrysville Ave\, Pittsburgh\, PA\, 15229\, United States
END:VEVENT
END:VCALENDAR