BEGIN:VCALENDAR
VERSION:2.0
PRODID:-//Wolf Creek Race Management - ECPv6.15.20//NONSGML v1.0//EN
CALSCALE:GREGORIAN
METHOD:PUBLISH
X-WR-CALNAME:Wolf Creek Race Management
X-ORIGINAL-URL:https://wolfcreektrackclub.com
X-WR-CALDESC:Events for Wolf Creek Race Management
REFRESH-INTERVAL;VALUE=DURATION:PT1H
X-Robots-Tag:noindex
X-PUBLISHED-TTL:PT1H
BEGIN:VTIMEZONE
TZID:America/New_York
BEGIN:DAYLIGHT
TZOFFSETFROM:-0500
TZOFFSETTO:-0400
TZNAME:EDT
DTSTART:20250309T070000
END:DAYLIGHT
BEGIN:STANDARD
TZOFFSETFROM:-0400
TZOFFSETTO:-0500
TZNAME:EST
DTSTART:20251102T060000
END:STANDARD
BEGIN:DAYLIGHT
TZOFFSETFROM:-0500
TZOFFSETTO:-0400
TZNAME:EDT
DTSTART:20260308T070000
END:DAYLIGHT
BEGIN:STANDARD
TZOFFSETFROM:-0400
TZOFFSETTO:-0500
TZNAME:EST
DTSTART:20261101T060000
END:STANDARD
BEGIN:DAYLIGHT
TZOFFSETFROM:-0500
TZOFFSETTO:-0400
TZNAME:EDT
DTSTART:20270314T070000
END:DAYLIGHT
BEGIN:STANDARD
TZOFFSETFROM:-0400
TZOFFSETTO:-0500
TZNAME:EST
DTSTART:20271107T060000
END:STANDARD
END:VTIMEZONE
BEGIN:VEVENT
DTSTART;TZID=America/New_York:20260422T153000
DTEND;TZID=America/New_York:20260422T183000
DTSTAMP:20260422T034841
CREATED:20260120T155300Z
LAST-MODIFIED:20260403T191534Z
UID:23026-1776871800-1776882600@wolfcreektrackclub.com
SUMMARY:Mon Valley Area Sr Rec Invitational
DESCRIPTION:
URL:https://wolfcreektrackclub.com/event/mon-valley-area-sr-rec-invitational/
LOCATION:McKeesport High School\, 1960 Eden Park Blvd\, McKeesport\, PA\, 15132\, United States
END:VEVENT
BEGIN:VEVENT
DTSTART;TZID=America/New_York:20260422T154500
DTEND;TZID=America/New_York:20260422T154500
DTSTAMP:20260422T034841
CREATED:20260120T173215Z
LAST-MODIFIED:20260120T173215Z
UID:23067-1776872700-1776872700@wolfcreektrackclub.com
SUMMARY:Butler\, Shaler @ Pine Richland MS
DESCRIPTION:
URL:https://wolfcreektrackclub.com/event/butler-shaler-pine-richland-ms/
LOCATION:Pine-Richland High School\, 700 Warrendale Road\, Gibsonia\, PA\, 15044\, United States
END:VEVENT
BEGIN:VEVENT
DTSTART;TZID=America/New_York:20260422T160000
DTEND;TZID=America/New_York:20260422T190000
DTSTAMP:20260422T034841
CREATED:20260413T225952Z
LAST-MODIFIED:20260413T225952Z
UID:23891-1776873600-1776884400@wolfcreektrackclub.com
SUMMARY:Seneca\, Northwestern @ General McLane MS T&F Meet
DESCRIPTION:
URL:https://wolfcreektrackclub.com/event/seneca-northwestern-general-mclane-ms-tf-meet/
LOCATION:General McClane High School\, 11761 Edinboro Road\, Edinboro\, PA\, 16412\, United States
END:VEVENT
END:VCALENDAR