BEGIN:VCALENDAR
VERSION:2.0
PRODID:-//Wolf Creek Race Management - ECPv6.15.20//NONSGML v1.0//EN
CALSCALE:GREGORIAN
METHOD:PUBLISH
X-ORIGINAL-URL:https://wolfcreektrackclub.com
X-WR-CALDESC:Events for Wolf Creek Race Management
REFRESH-INTERVAL;VALUE=DURATION:PT1H
X-Robots-Tag:noindex
X-PUBLISHED-TTL:PT1H
BEGIN:VTIMEZONE
TZID:America/New_York
BEGIN:DAYLIGHT
TZOFFSETFROM:-0500
TZOFFSETTO:-0400
TZNAME:EDT
DTSTART:20250309T070000
END:DAYLIGHT
BEGIN:STANDARD
TZOFFSETFROM:-0400
TZOFFSETTO:-0500
TZNAME:EST
DTSTART:20251102T060000
END:STANDARD
BEGIN:DAYLIGHT
TZOFFSETFROM:-0500
TZOFFSETTO:-0400
TZNAME:EDT
DTSTART:20260308T070000
END:DAYLIGHT
BEGIN:STANDARD
TZOFFSETFROM:-0400
TZOFFSETTO:-0500
TZNAME:EST
DTSTART:20261101T060000
END:STANDARD
BEGIN:DAYLIGHT
TZOFFSETFROM:-0500
TZOFFSETTO:-0400
TZNAME:EDT
DTSTART:20270314T070000
END:DAYLIGHT
BEGIN:STANDARD
TZOFFSETFROM:-0400
TZOFFSETTO:-0500
TZNAME:EST
DTSTART:20271107T060000
END:STANDARD
END:VTIMEZONE
BEGIN:VEVENT
DTSTART;TZID=America/New_York:20260425T090000
DTEND;TZID=America/New_York:20260425T130000
DTSTAMP:20260424T124908
CREATED:20260406T164704Z
LAST-MODIFIED:20260424T012421Z
UID:23787-1777107600-1777122000@wolfcreektrackclub.com
SUMMARY:RTCS Invitational @ RMU
DESCRIPTION:
URL:https://wolfcreektrackclub.com/event/rtcs-invitational-rmu/
LOCATION:RMU Island Sports Center\, 7600 Grand Ave\, Pittsburgh\, PA\, 15225\, United States
END:VEVENT
BEGIN:VEVENT
DTSTART;TZID=America/New_York:20260425T090000
DTEND;TZID=America/New_York:20260425T150000
DTSTAMP:20260424T124908
CREATED:20260120T155328Z
LAST-MODIFIED:20260406T165630Z
UID:23033-1777107600-1777129200@wolfcreektrackclub.com
SUMMARY:City of Hermitage Invitational
DESCRIPTION:
URL:https://wolfcreektrackclub.com/event/city-of-hermitage-invitational/
LOCATION:Hickory High School\, 640 N Hermitage Road\, Hermitage\, PA\, 16148\, United States
END:VEVENT
BEGIN:VEVENT
DTSTART;TZID=America/New_York:20260425T140000
DTEND;TZID=America/New_York:20260425T200000
DTSTAMP:20260424T124908
CREATED:20260120T155316Z
LAST-MODIFIED:20260424T012523Z
UID:23032-1777125600-1777147200@wolfcreektrackclub.com
SUMMARY:(CANCELLED) RMU Benson Hodge Memorial Invitational
DESCRIPTION:
URL:https://wolfcreektrackclub.com/event/rmu-benson-hodge-memorial-invitational/
LOCATION:RMU Island Sports Center\, 7600 Grand Ave\, Pittsburgh\, PA\, 15225\, United States
END:VEVENT
END:VCALENDAR