BEGIN:VCALENDAR
VERSION:2.0
PRODID:-//Wolf Creek Race Management - ECPv6.15.20//NONSGML v1.0//EN
CALSCALE:GREGORIAN
METHOD:PUBLISH
X-WR-CALNAME:Wolf Creek Race Management
X-ORIGINAL-URL:https://wolfcreektrackclub.com
X-WR-CALDESC:Events for Wolf Creek Race Management
REFRESH-INTERVAL;VALUE=DURATION:PT1H
X-Robots-Tag:noindex
X-PUBLISHED-TTL:PT1H
BEGIN:VTIMEZONE
TZID:America/New_York
BEGIN:DAYLIGHT
TZOFFSETFROM:-0500
TZOFFSETTO:-0400
TZNAME:EDT
DTSTART:20250309T070000
END:DAYLIGHT
BEGIN:STANDARD
TZOFFSETFROM:-0400
TZOFFSETTO:-0500
TZNAME:EST
DTSTART:20251102T060000
END:STANDARD
BEGIN:DAYLIGHT
TZOFFSETFROM:-0500
TZOFFSETTO:-0400
TZNAME:EDT
DTSTART:20260308T070000
END:DAYLIGHT
BEGIN:STANDARD
TZOFFSETFROM:-0400
TZOFFSETTO:-0500
TZNAME:EST
DTSTART:20261101T060000
END:STANDARD
BEGIN:DAYLIGHT
TZOFFSETFROM:-0500
TZOFFSETTO:-0400
TZNAME:EDT
DTSTART:20270314T070000
END:DAYLIGHT
BEGIN:STANDARD
TZOFFSETFROM:-0400
TZOFFSETTO:-0500
TZNAME:EST
DTSTART:20271107T060000
END:STANDARD
END:VTIMEZONE
BEGIN:VEVENT
DTSTART;TZID=America/New_York:20260430T130000
DTEND;TZID=America/New_York:20260430T170000
DTSTAMP:20260424T124701
CREATED:20260322T193523Z
LAST-MODIFIED:20260322T193523Z
UID:23545-1777554000-1777568400@wolfcreektrackclub.com
SUMMARY:Bobby Mo Don't Run Slow Invitational
DESCRIPTION:
URL:https://wolfcreektrackclub.com/event/bobby-mo-dont-run-slow-invitational-2/
LOCATION:RMU Island Sports Center\, 7600 Grand Ave\, Pittsburgh\, PA\, 15225\, United States
END:VEVENT
BEGIN:VEVENT
DTSTART;TZID=America/New_York:20260430T140000
DTEND;TZID=America/New_York:20260430T140000
DTSTAMP:20260424T124701
CREATED:20260120T155344Z
LAST-MODIFIED:20260414T161227Z
UID:23040-1777557600-1777557600@wolfcreektrackclub.com
SUMMARY:Mercer County Jr High T&F Championships
DESCRIPTION:
URL:https://wolfcreektrackclub.com/event/mercer-county-jr-high-tf-championships/
LOCATION:Greenville Senior High School\, 9 Donation Road\, Greenville\, PA\, 16125\, United States
END:VEVENT
BEGIN:VEVENT
DTSTART;TZID=America/New_York:20260430T160000
DTEND;TZID=America/New_York:20260430T190000
DTSTAMP:20260424T124701
CREATED:20260413T225739Z
LAST-MODIFIED:20260413T225739Z
UID:23889-1777564800-1777575600@wolfcreektrackclub.com
SUMMARY:Butler @ Seneca Valley MS T&F Meet
DESCRIPTION:
URL:https://wolfcreektrackclub.com/event/butler-seneca-valley-ms-tf-meet/
LOCATION:Seneca Valley High School\, 128 Seneca School Road\, Harmony\, PA\, 16037\, United States
END:VEVENT
END:VCALENDAR