BEGIN:VCALENDAR
VERSION:2.0
PRODID:-//Wolf Creek Race Management - ECPv6.15.20//NONSGML v1.0//EN
CALSCALE:GREGORIAN
METHOD:PUBLISH
X-ORIGINAL-URL:https://wolfcreektrackclub.com
X-WR-CALDESC:Events for Wolf Creek Race Management
REFRESH-INTERVAL;VALUE=DURATION:PT1H
X-Robots-Tag:noindex
X-PUBLISHED-TTL:PT1H
BEGIN:VTIMEZONE
TZID:America/New_York
BEGIN:DAYLIGHT
TZOFFSETFROM:-0500
TZOFFSETTO:-0400
TZNAME:EDT
DTSTART:20250309T070000
END:DAYLIGHT
BEGIN:STANDARD
TZOFFSETFROM:-0400
TZOFFSETTO:-0500
TZNAME:EST
DTSTART:20251102T060000
END:STANDARD
BEGIN:DAYLIGHT
TZOFFSETFROM:-0500
TZOFFSETTO:-0400
TZNAME:EDT
DTSTART:20260308T070000
END:DAYLIGHT
BEGIN:STANDARD
TZOFFSETFROM:-0400
TZOFFSETTO:-0500
TZNAME:EST
DTSTART:20261101T060000
END:STANDARD
BEGIN:DAYLIGHT
TZOFFSETFROM:-0500
TZOFFSETTO:-0400
TZNAME:EDT
DTSTART:20270314T070000
END:DAYLIGHT
BEGIN:STANDARD
TZOFFSETFROM:-0400
TZOFFSETTO:-0500
TZNAME:EST
DTSTART:20271107T060000
END:STANDARD
END:VTIMEZONE
BEGIN:VEVENT
DTSTART;TZID=America/New_York:20260509T090000
DTEND;TZID=America/New_York:20260509T103000
DTSTAMP:20260424T142726
CREATED:20260414T182851Z
LAST-MODIFIED:20260414T182851Z
UID:23940-1778317200-1778322600@wolfcreektrackclub.com
SUMMARY:Wolf Pack 3 Mile
DESCRIPTION:
URL:https://wolfcreektrackclub.com/event/wolf-pack-3-mile-2/
LOCATION:Bartlett Shelter (Schenley Park)\, Bartlett St\, Pittsburgh\, PA\, 15217\, United States
END:VEVENT
BEGIN:VEVENT
DTSTART;TZID=America/New_York:20260509T093000
DTEND;TZID=America/New_York:20260509T120000
DTSTAMP:20260424T142726
CREATED:20260414T173947Z
LAST-MODIFIED:20260414T173947Z
UID:23936-1778319000-1778328000@wolfcreektrackclub.com
SUMMARY:Wheeling Park King and Queen of the Hill 5K
DESCRIPTION:
URL:https://wolfcreektrackclub.com/event/wheeling-park-king-and-queen-of-the-hill-5k/
LOCATION:Wheeling Park\, 1801 National Road\, Wheeling\, WV\, 26003\, United States
END:VEVENT
BEGIN:VEVENT
DTSTART;TZID=America/New_York:20260509T120000
DTEND;TZID=America/New_York:20260509T120000
DTSTAMP:20260424T142726
CREATED:20260120T155400Z
LAST-MODIFIED:20260120T155400Z
UID:23046-1778328000-1778328000@wolfcreektrackclub.com
SUMMARY:Butler Jr High T&F Invitational
DESCRIPTION:
URL:https://wolfcreektrackclub.com/event/butler-jr-high-tf-invitational-3/
END:VEVENT
END:VCALENDAR