BEGIN:VCALENDAR
VERSION:2.0
PRODID:-//Wolf Creek Race Management - ECPv6.15.20//NONSGML v1.0//EN
CALSCALE:GREGORIAN
METHOD:PUBLISH
X-WR-CALNAME:Wolf Creek Race Management
X-ORIGINAL-URL:https://wolfcreektrackclub.com
X-WR-CALDESC:Events for Wolf Creek Race Management
REFRESH-INTERVAL;VALUE=DURATION:PT1H
X-Robots-Tag:noindex
X-PUBLISHED-TTL:PT1H
BEGIN:VTIMEZONE
TZID:America/New_York
BEGIN:DAYLIGHT
TZOFFSETFROM:-0500
TZOFFSETTO:-0400
TZNAME:EDT
DTSTART:20240310T070000
END:DAYLIGHT
BEGIN:STANDARD
TZOFFSETFROM:-0400
TZOFFSETTO:-0500
TZNAME:EST
DTSTART:20241103T060000
END:STANDARD
BEGIN:DAYLIGHT
TZOFFSETFROM:-0500
TZOFFSETTO:-0400
TZNAME:EDT
DTSTART:20250309T070000
END:DAYLIGHT
BEGIN:STANDARD
TZOFFSETFROM:-0400
TZOFFSETTO:-0500
TZNAME:EST
DTSTART:20251102T060000
END:STANDARD
BEGIN:DAYLIGHT
TZOFFSETFROM:-0500
TZOFFSETTO:-0400
TZNAME:EDT
DTSTART:20260308T070000
END:DAYLIGHT
BEGIN:STANDARD
TZOFFSETFROM:-0400
TZOFFSETTO:-0500
TZNAME:EST
DTSTART:20261101T060000
END:STANDARD
END:VTIMEZONE
BEGIN:VEVENT
DTSTART;TZID=America/New_York:20251005T140000
DTEND;TZID=America/New_York:20251005T153000
DTSTAMP:20260421T201334
CREATED:20250708T124306Z
LAST-MODIFIED:20250708T124306Z
UID:21670-1759672800-1759678200@wolfcreektrackclub.com
SUMMARY:Diocese of Greensburg CYO Youth XC Championships
DESCRIPTION:
URL:https://wolfcreektrackclub.com/event/diocese-of-greensburg-cyo-youth-xc-championships/
ATTACH;FMTTYPE=image/png:https://wolfcreektrackclub.com/wp-content/uploads/2022/06/diocgreen-1.png
END:VEVENT
BEGIN:VEVENT
DTSTART;TZID=America/New_York:20251005T110000
DTEND;TZID=America/New_York:20251005T140000
DTSTAMP:20260421T201334
CREATED:20250829T164525Z
LAST-MODIFIED:20250829T164525Z
UID:21992-1759662000-1759672800@wolfcreektrackclub.com
SUMMARY:Oglebay 0.5k Beer Dash
DESCRIPTION:
URL:https://wolfcreektrackclub.com/event/oglebay-0-5k-beer-dash-2/
LOCATION:Oglebay Park\, 465 Lodge Drive\, Wheeling\, WV\, 26003\, United States
ATTACH;FMTTYPE=image/jpeg:https://wolfcreektrackclub.com/wp-content/uploads/2024/09/beer-dash.jpg
END:VEVENT
BEGIN:VEVENT
DTSTART;TZID=America/New_York:20251001T160000
DTEND;TZID=America/New_York:20251001T170000
DTSTAMP:20260421T201334
CREATED:20250630T155249Z
LAST-MODIFIED:20250630T155249Z
UID:21543-1759334400-1759338000@wolfcreektrackclub.com
SUMMARY:Avonworth MS XC Meet
DESCRIPTION:
URL:https://wolfcreektrackclub.com/event/avonworth-ms-xc-meet-3/
LOCATION:Ohio Township Park\, 325 Nicholson Rd\, Sewickley\, PA\, 15143\, United States
ATTACH;FMTTYPE=image/jpeg:https://wolfcreektrackclub.com/wp-content/uploads/2025/06/avonworth-logo.jpg
END:VEVENT
BEGIN:VEVENT
DTSTART;TZID=America/New_York:20251001T153000
DTEND;TZID=America/New_York:20251001T173000
DTSTAMP:20260421T201334
CREATED:20250730T190615Z
LAST-MODIFIED:20250730T190615Z
UID:21782-1759332600-1759339800@wolfcreektrackclub.com
SUMMARY:Fox Chapel & Pine-Richland @ Mars MS XC Meet
DESCRIPTION:
URL:https://wolfcreektrackclub.com/event/fox-chapel-pine-richland-mars-ms-xc-meet/
LOCATION:Mars Athletic Complex\, 1775 Three Degree Road\, Mars\, PA\, 16046\, United States
ATTACH;FMTTYPE=image/png:https://wolfcreektrackclub.com/wp-content/uploads/2021/09/mars.png
END:VEVENT
BEGIN:VEVENT
DTSTART;TZID=America/New_York:20251001T150000
DTEND;TZID=America/New_York:20251001T180000
DTSTAMP:20260421T201334
CREATED:20250701T133656Z
LAST-MODIFIED:20250701T133656Z
UID:21596-1759330800-1759341600@wolfcreektrackclub.com
SUMMARY:WAADA Middle School XC Championships
DESCRIPTION:
URL:https://wolfcreektrackclub.com/event/waada-middle-school-xc-championships-2/
LOCATION:White Oak Park\, 2621 McClintock Road\, White Oak\, PA\, 15131\, United States
ATTACH;FMTTYPE=image/png:https://wolfcreektrackclub.com/wp-content/uploads/2022/09/waada.png
END:VEVENT
BEGIN:VEVENT
DTSTART;TZID=America/New_York:20250930T160000
DTEND;TZID=America/New_York:20250930T170000
DTSTAMP:20260421T201334
CREATED:20250630T155924Z
LAST-MODIFIED:20250630T155924Z
UID:21549-1759248000-1759251600@wolfcreektrackclub.com
SUMMARY:Mars\, CC & OC @ Seneca Valley HS XC Meet
DESCRIPTION:
URL:https://wolfcreektrackclub.com/event/mars-cc-oc-seneca-valley-hs-xc-meet/
LOCATION:Seneca Valley High School\, 128 Seneca School Road\, Harmony\, PA\, 16037\, United States
ATTACH;FMTTYPE=image/png:https://wolfcreektrackclub.com/wp-content/uploads/2021/09/sv.png
END:VEVENT
BEGIN:VEVENT
DTSTART;TZID=America/New_York:20250930T153000
DTEND;TZID=America/New_York:20250930T173000
DTSTAMP:20260421T201334
CREATED:20250701T153139Z
LAST-MODIFIED:20250707T200626Z
UID:21620-1759246200-1759253400@wolfcreektrackclub.com
SUMMARY:WPIAL DII Section 4 XC Championships
DESCRIPTION:
URL:https://wolfcreektrackclub.com/event/xc-section-championship/
LOCATION:Hartwood Acres Park\, 4000 Middle Rd\, Allison Park\, PA\, 15101\, United States
ATTACH;FMTTYPE=image/png:https://wolfcreektrackclub.com/wp-content/uploads/2025/07/Hampton.png
END:VEVENT
BEGIN:VEVENT
DTSTART;TZID=America/New_York:20250930T153000
DTEND;TZID=America/New_York:20250930T170000
DTSTAMP:20260421T201334
CREATED:20250703T134458Z
LAST-MODIFIED:20250703T134458Z
UID:21643-1759246200-1759251600@wolfcreektrackclub.com
SUMMARY:North Hills @ Pine-Richland HS XC Meet
DESCRIPTION:
URL:https://wolfcreektrackclub.com/event/north-hills-pine-richland-hs-xc-meet-2/
LOCATION:Pine-Richland High School\, 700 Warrendale Road\, Gibsonia\, PA\, 15044\, United States
ATTACH;FMTTYPE=image/png:https://wolfcreektrackclub.com/wp-content/uploads/2023/08/PR03.png
END:VEVENT
BEGIN:VEVENT
DTSTART;TZID=America/New_York:20250930T153000
DTEND;TZID=America/New_York:20250930T170000
DTSTAMP:20260421T201334
CREATED:20250701T133435Z
LAST-MODIFIED:20250701T133435Z
UID:21594-1759246200-1759251600@wolfcreektrackclub.com
SUMMARY:Beaver Falls & Laurel @ New Brighton XC Meet
DESCRIPTION:
URL:https://wolfcreektrackclub.com/event/beaver-falls-laurel-new-brighton-xc-meet/
LOCATION:Brush Creek Park\, Route 588\, Beaver Falls\, PA\, 15010\, United States
ATTACH;FMTTYPE=image/png:https://wolfcreektrackclub.com/wp-content/uploads/2025/07/nb.png
END:VEVENT
BEGIN:VEVENT
DTSTART;TZID=America/New_York:20250928T140000
DTEND;TZID=America/New_York:20250928T153000
DTSTAMP:20260421T201334
CREATED:20250708T124121Z
LAST-MODIFIED:20250708T124121Z
UID:21668-1759068000-1759073400@wolfcreektrackclub.com
SUMMARY:Diocese of Greensburg CYO Youth XC Meet
DESCRIPTION:
URL:https://wolfcreektrackclub.com/event/diocese-of-greensburg-cyo-youth-xc-meet-4/
LOCATION:Geibel Catholic High School\, 611 E Crawford Ave\, Connellsville\, PA\, 15425\, United States
ATTACH;FMTTYPE=image/png:https://wolfcreektrackclub.com/wp-content/uploads/2022/06/diocgreen-1.png
END:VEVENT
BEGIN:VEVENT
DTSTART;TZID=America/New_York:20250927T093000
DTEND;TZID=America/New_York:20250927T110000
DTSTAMP:20260421T201334
CREATED:20250708T125511Z
LAST-MODIFIED:20250708T125511Z
UID:21675-1758965400-1758970800@wolfcreektrackclub.com
SUMMARY:Run for Hope + Miracle Mile
DESCRIPTION:
URL:https://wolfcreektrackclub.com/event/run-for-hope-miracle-mile/
LOCATION:Henning Park\, 1652 Clyde Aly\, Ambridge\, PA\, United States
ATTACH;FMTTYPE=image/png:https://wolfcreektrackclub.com/wp-content/uploads/2025/07/genericImage-websiteLogo-257688-1751892353.195-0.bOA8gb.png
END:VEVENT
BEGIN:VEVENT
DTSTART;TZID=America/New_York:20250927T090000
DTEND;TZID=America/New_York:20250927T170000
DTSTAMP:20260421T201334
CREATED:20250708T125002Z
LAST-MODIFIED:20250708T125002Z
UID:21672-1758963600-1758992400@wolfcreektrackclub.com
SUMMARY:Knightmare Dash 5k
DESCRIPTION:
URL:https://wolfcreektrackclub.com/event/knightmare-dash-5k/
LOCATION:Gannon University Recreation & Wellness Center\, 130 W 4th St\, Erie\, PA\, United States
END:VEVENT
BEGIN:VEVENT
DTSTART;TZID=America/New_York:20250927T090000
DTEND;TZID=America/New_York:20250927T143000
DTSTAMP:20260421T201334
CREATED:20250630T162932Z
LAST-MODIFIED:20250630T162932Z
UID:21573-1758963600-1758983400@wolfcreektrackclub.com
SUMMARY:BattleAxe 5K
DESCRIPTION:
URL:https://wolfcreektrackclub.com/event/battleaxe-5k/
LOCATION:Morris Twp. Community Center\, 1699 Browns Creek Rd\, Nineveh\, PA\, 15353\, United States
ATTACH;FMTTYPE=image/jpeg:https://wolfcreektrackclub.com/wp-content/uploads/2025/06/raceBanner-H1mNCpRf-bOmf9j-huge.jpg
END:VEVENT
BEGIN:VEVENT
DTSTART;TZID=America/New_York:20250927T080000
DTEND;TZID=America/New_York:20250927T093000
DTSTAMP:20260421T201334
CREATED:20250729T151909Z
LAST-MODIFIED:20250729T151909Z
UID:21766-1758960000-1758965400@wolfcreektrackclub.com
SUMMARY:Kelly Roggensack Memorial Races
DESCRIPTION:
URL:https://wolfcreektrackclub.com/event/kelly-roggensack-memorial-races-2/
LOCATION:Francican University of Steubeville\, 1235 University Blvd\, Steubenville\, OH\, 43952\, United States
ATTACH;FMTTYPE=image/png:https://wolfcreektrackclub.com/wp-content/uploads/2022/09/rogg.png
END:VEVENT
BEGIN:VEVENT
DTSTART;TZID=America/New_York:20250926T160000
DTEND;TZID=America/New_York:20250926T183000
DTSTAMP:20260421T201334
CREATED:20250630T115439Z
LAST-MODIFIED:20250630T115439Z
UID:21527-1758902400-1758911400@wolfcreektrackclub.com
SUMMARY:Wheeling Park Fall Classic XC Invitational
DESCRIPTION:
URL:https://wolfcreektrackclub.com/event/wheeling-park-fall-classic-xc-invitational-2/
LOCATION:Wheeling Park High School\, 1976 Park View Road\, Wheeling\, WV\, 26003\, United States
ATTACH;FMTTYPE=image/png:https://wolfcreektrackclub.com/wp-content/uploads/2024/08/WP.png
END:VEVENT
BEGIN:VEVENT
DTSTART;TZID=America/New_York:20250926T100000
DTEND;TZID=America/New_York:20250926T140000
DTSTAMP:20260421T201334
CREATED:20250808T122837Z
LAST-MODIFIED:20250808T122837Z
UID:21815-1758880800-1758895200@wolfcreektrackclub.com
SUMMARY:Hornets Challenge
DESCRIPTION:
URL:https://wolfcreektrackclub.com/event/hornets-challenge-2/
LOCATION:Holy Sepulcher Church\, 1304 E. Cruikshank Road\, Butler\, PA\, 16002\, United States
ATTACH;FMTTYPE=image/png:https://wolfcreektrackclub.com/wp-content/uploads/2024/08/hornet.png
END:VEVENT
BEGIN:VEVENT
DTSTART;TZID=America/New_York:20250924T160000
DTEND;TZID=America/New_York:20250924T173000
DTSTAMP:20260421T201334
CREATED:20250829T152735Z
LAST-MODIFIED:20250829T152735Z
UID:21985-1758729600-1758735000@wolfcreektrackclub.com
SUMMARY:East Allegheny @ Shady Side Academy HS XC Meet
DESCRIPTION:
URL:https://wolfcreektrackclub.com/event/east-allegheny-shady-side-academy-hs-xc-meet/
LOCATION:Shady Side Academy\, 423 Fox Chapel Road\, Pittsburgh\, PA\, 15238\, United States
ATTACH;FMTTYPE=image/png:https://wolfcreektrackclub.com/wp-content/uploads/2025/08/SSA.png
END:VEVENT
BEGIN:VEVENT
DTSTART;TZID=America/New_York:20250924T160000
DTEND;TZID=America/New_York:20250924T170000
DTSTAMP:20260421T201334
CREATED:20250630T155723Z
LAST-MODIFIED:20250630T155723Z
UID:21547-1758729600-1758733200@wolfcreektrackclub.com
SUMMARY:Butler & Hampton @ Seneca Valley MS XC Meet
DESCRIPTION:
URL:https://wolfcreektrackclub.com/event/butler-hampton-seneca-valley-ms-xc-meet/
LOCATION:Seneca Valley High School\, 128 Seneca School Road\, Harmony\, PA\, 16037\, United States
ATTACH;FMTTYPE=image/png:https://wolfcreektrackclub.com/wp-content/uploads/2021/09/sv.png
END:VEVENT
BEGIN:VEVENT
DTSTART;TZID=America/New_York:20250924T153000
DTEND;TZID=America/New_York:20250924T170000
DTSTAMP:20260421T201334
CREATED:20250703T134256Z
LAST-MODIFIED:20250703T134256Z
UID:21641-1758727800-1758733200@wolfcreektrackclub.com
SUMMARY:North Hills @ Pine-Richland MS XC Meet
DESCRIPTION:
URL:https://wolfcreektrackclub.com/event/north-hills-pine-richland-ms-xc-meet/
LOCATION:Pine-Richland High School\, 700 Warrendale Road\, Gibsonia\, PA\, 15044\, United States
ATTACH;FMTTYPE=image/png:https://wolfcreektrackclub.com/wp-content/uploads/2025/07/Pine-Richland.png
END:VEVENT
BEGIN:VEVENT
DTSTART;TZID=America/New_York:20250923T160000
DTEND;TZID=America/New_York:20250923T173000
DTSTAMP:20260421T201334
CREATED:20250826T113708Z
LAST-MODIFIED:20250826T113708Z
UID:21921-1758643200-1758648600@wolfcreektrackclub.com
SUMMARY:Avonworth @ Sewickley Academy HS XC Meet
DESCRIPTION:
URL:https://wolfcreektrackclub.com/event/avonworth-sewickley-academy-hs-xc-meet/
LOCATION:Sewickley Heights Borough Park\, Hallaway Rd\, Sewickley\, PA\, 15143\, United States
ATTACH;FMTTYPE=image/png:https://wolfcreektrackclub.com/wp-content/uploads/2025/08/sewickley_panthers.png
END:VEVENT
BEGIN:VEVENT
DTSTART;TZID=America/New_York:20250923T160000
DTEND;TZID=America/New_York:20250923T173000
DTSTAMP:20260421T201334
CREATED:20250701T152946Z
LAST-MODIFIED:20250701T152946Z
UID:21618-1758643200-1758648600@wolfcreektrackclub.com
SUMMARY:North Allegheny & Seneca Valley @ North Hills HS XC Meet
DESCRIPTION:
URL:https://wolfcreektrackclub.com/event/north-allegheny-seneca-valley-north-hills-hs-xc-meet-2/
LOCATION:Pie Traynor Field\, S Ridge Dr\, Allison Park\, PA\, 15101\, United States
ATTACH;FMTTYPE=image/png:https://wolfcreektrackclub.com/wp-content/uploads/2025/07/13286.png
END:VEVENT
BEGIN:VEVENT
DTSTART;TZID=America/New_York:20250923T153000
DTEND;TZID=America/New_York:20250923T173000
DTSTAMP:20260421T201334
CREATED:20250730T190121Z
LAST-MODIFIED:20250730T190121Z
UID:21780-1758641400-1758648600@wolfcreektrackclub.com
SUMMARY:Pine-Richland & Shaler @ Mars HS XC Meet
DESCRIPTION:
URL:https://wolfcreektrackclub.com/event/pine-richland-shaler-mars-hs-xc-meet-2/
LOCATION:Adams Township Park\, Mars\, PA\, United States
ATTACH;FMTTYPE=image/png:https://wolfcreektrackclub.com/wp-content/uploads/2021/09/mars.png
END:VEVENT
BEGIN:VEVENT
DTSTART;TZID=America/New_York:20250923T153000
DTEND;TZID=America/New_York:20250923T170000
DTSTAMP:20260421T201334
CREATED:20250701T145851Z
LAST-MODIFIED:20250701T145851Z
UID:21616-1758641400-1758646800@wolfcreektrackclub.com
SUMMARY:Deer Lakes @ Hampton HS XC Meet
DESCRIPTION:
URL:https://wolfcreektrackclub.com/event/deer-lakes-hampton-hs-xc-meet/
LOCATION:Hampton Community Park\, 3101 McCully Road\, Allison Park\, PA\, 15101\, United States
ATTACH;FMTTYPE=image/png:https://wolfcreektrackclub.com/wp-content/uploads/2025/07/Hampton.png
END:VEVENT
BEGIN:VEVENT
DTSTART;TZID=America/New_York:20250923T153000
DTEND;TZID=America/New_York:20250923T170000
DTSTAMP:20260421T201334
CREATED:20250701T133043Z
LAST-MODIFIED:20250701T133043Z
UID:21591-1758641400-1758646800@wolfcreektrackclub.com
SUMMARY:Ellwood City & Mohawk @ New Brighton XC Meet
DESCRIPTION:
URL:https://wolfcreektrackclub.com/event/ellwood-city-mohawk-new-brighton-xc-meet/
LOCATION:Brush Creek Park\, Route 588\, Beaver Falls\, PA\, 15010\, United States
ATTACH;FMTTYPE=image/png:https://wolfcreektrackclub.com/wp-content/uploads/2025/07/nb.png
END:VEVENT
BEGIN:VEVENT
DTSTART;TZID=America/New_York:20250921T140000
DTEND;TZID=America/New_York:20250921T153000
DTSTAMP:20260421T201334
CREATED:20250708T123903Z
LAST-MODIFIED:20250708T123903Z
UID:21666-1758463200-1758468600@wolfcreektrackclub.com
SUMMARY:Diocese of Greensburg CYO Youth XC Meet
DESCRIPTION:
URL:https://wolfcreektrackclub.com/event/diocese-of-greensburg-cyo-youth-xc-meet-3/
LOCATION:Greensburg Central Catholic High School\, 911 Armory Dr\, Greensburg\, PA\, 15601\, United States
ATTACH;FMTTYPE=image/png:https://wolfcreektrackclub.com/wp-content/uploads/2022/06/diocgreen-1.png
END:VEVENT
BEGIN:VEVENT
DTSTART;TZID=America/New_York:20250921T073000
DTEND;TZID=America/New_York:20250921T110000
DTSTAMP:20260421T201334
CREATED:20250630T162610Z
LAST-MODIFIED:20250630T162610Z
UID:21571-1758439800-1758452400@wolfcreektrackclub.com
SUMMARY:The Baker's Dozen Half Marathon and the Half Dozen 10K
DESCRIPTION:
URL:https://wolfcreektrackclub.com/event/the-bakers-dozen-half-marathon-and-the-half-dozen-10k/
LOCATION:Brady’s Run Park\, 121 Bradys Run Rd\, Beaver Falls\, PA\, 15010\, United States
END:VEVENT
BEGIN:VEVENT
DTSTART;TZID=America/New_York:20250920T090000
DTEND;TZID=America/New_York:20250920T130000
DTSTAMP:20260421T201334
CREATED:20250730T145941Z
LAST-MODIFIED:20250730T145941Z
UID:21778-1758358800-1758373200@wolfcreektrackclub.com
SUMMARY:Wild & Wet XC Invitational
DESCRIPTION:
URL:https://wolfcreektrackclub.com/event/wild-wet-xc-invitational-2/
LOCATION:Cameron High School\, 2012 Blue and Gold Rd\, Cameron\, WV\, 26033\, United States
ATTACH;FMTTYPE=image/png:https://wolfcreektrackclub.com/wp-content/uploads/2022/08/wildwet.png
END:VEVENT
BEGIN:VEVENT
DTSTART;TZID=America/New_York:20250920T090000
DTEND;TZID=America/New_York:20250920T120000
DTSTAMP:20260421T201334
CREATED:20250626T175750Z
LAST-MODIFIED:20250626T175750Z
UID:21522-1758358800-1758369600@wolfcreektrackclub.com
SUMMARY:Scottdale Fall Festival 5k & 10k
DESCRIPTION:
URL:https://wolfcreektrackclub.com/event/scottdale-fall-festival-5k-10k-4/
LOCATION:Scottdale Fall Festival\, 151 Pittsburgh St\, Scottdale\, PA\, 15683\, United States
ATTACH;FMTTYPE=image/png:https://wolfcreektrackclub.com/wp-content/uploads/2025/06/scott.png
END:VEVENT
BEGIN:VEVENT
DTSTART;TZID=America/New_York:20250920T083000
DTEND;TZID=America/New_York:20250920T130000
DTSTAMP:20260421T201334
CREATED:20250630T162243Z
LAST-MODIFIED:20250630T162243Z
UID:21568-1758357000-1758373200@wolfcreektrackclub.com
SUMMARY:Suzanne Kresser Memorial 5k Run/Walk/1K
DESCRIPTION:
URL:https://wolfcreektrackclub.com/event/suzanne-kresser-memorial-5k-run-walk-1k/
LOCATION:Jim Wood Park\, 220 Canterbury Blvd\, Steubenville\, OH\, 43952\, United States
ATTACH;FMTTYPE=image/jpeg:https://wolfcreektrackclub.com/wp-content/uploads/2025/06/raceBanner-a8D8IaAt-bM7SII.jpg
END:VEVENT
BEGIN:VEVENT
DTSTART;TZID=America/New_York:20250920T080000
DTEND;TZID=America/New_York:20250920T140000
DTSTAMP:20260421T201334
CREATED:20250902T154216Z
LAST-MODIFIED:20250902T154216Z
UID:22024-1758355200-1758376800@wolfcreektrackclub.com
SUMMARY:Weather the Storm Triathlon
DESCRIPTION:
URL:https://wolfcreektrackclub.com/event/weather-the-storm-triathlon/
LOCATION:The Bridge Sports Complex\, 400 Forrester Boulevard\, Bridgeport\, WV\, United States
ATTACH;FMTTYPE=image/png:https://wolfcreektrackclub.com/wp-content/uploads/2025/09/wts.png
END:VEVENT
END:VCALENDAR