BEGIN:VCALENDAR
VERSION:2.0
PRODID:-//Wolf Creek Race Management - ECPv6.15.20//NONSGML v1.0//EN
CALSCALE:GREGORIAN
METHOD:PUBLISH
X-WR-CALNAME:Wolf Creek Race Management
X-ORIGINAL-URL:https://wolfcreektrackclub.com
X-WR-CALDESC:Events for Wolf Creek Race Management
REFRESH-INTERVAL;VALUE=DURATION:PT1H
X-Robots-Tag:noindex
X-PUBLISHED-TTL:PT1H
BEGIN:VTIMEZONE
TZID:America/New_York
BEGIN:DAYLIGHT
TZOFFSETFROM:-0500
TZOFFSETTO:-0400
TZNAME:EDT
DTSTART:20220313T070000
END:DAYLIGHT
BEGIN:STANDARD
TZOFFSETFROM:-0400
TZOFFSETTO:-0500
TZNAME:EST
DTSTART:20221106T060000
END:STANDARD
BEGIN:DAYLIGHT
TZOFFSETFROM:-0500
TZOFFSETTO:-0400
TZNAME:EDT
DTSTART:20230312T070000
END:DAYLIGHT
BEGIN:STANDARD
TZOFFSETFROM:-0400
TZOFFSETTO:-0500
TZNAME:EST
DTSTART:20231105T060000
END:STANDARD
BEGIN:DAYLIGHT
TZOFFSETFROM:-0500
TZOFFSETTO:-0400
TZNAME:EDT
DTSTART:20240310T070000
END:DAYLIGHT
BEGIN:STANDARD
TZOFFSETFROM:-0400
TZOFFSETTO:-0500
TZNAME:EST
DTSTART:20241103T060000
END:STANDARD
END:VTIMEZONE
BEGIN:VEVENT
DTSTART;TZID=America/New_York:20231202T080000
DTEND;TZID=America/New_York:20231202T170000
DTSTAMP:20260421T041343
CREATED:20230705T164729Z
LAST-MODIFIED:20230705T164857Z
UID:15789-1701504000-1701536400@wolfcreektrackclub.com
SUMMARY:New River Gorge Trail Festival - Winter Edition
DESCRIPTION:
URL:https://wolfcreektrackclub.com/event/new-river-gorge-trail-festival-winter-edition-2/
LOCATION:New River Gorge National Park & Preserve\, Park Drive 25840\, Fayetteville\, WV\, 25840\, United States
ATTACH;FMTTYPE=image/png:https://wolfcreektrackclub.com/wp-content/uploads/2022/08/nrgw.png
ORGANIZER;CN="Wolf Creek Race Management":MAILTO:info@wolfcreektrackclub.com
END:VEVENT
BEGIN:VEVENT
DTSTART;TZID=America/New_York:20231123T090000
DTEND;TZID=America/New_York:20231123T223000
DTSTAMP:20260421T041343
CREATED:20230801T181546Z
LAST-MODIFIED:20230801T181630Z
UID:15900-1700730000-1700778600@wolfcreektrackclub.com
SUMMARY:8th Annual Grateful Gallop 5k presented by GCAFCU
DESCRIPTION:
URL:https://wolfcreektrackclub.com/event/8th-annual-grateful-gallop-5k-presented-by-gcafcu/
LOCATION:Greewood Drive & Hunters Farm\, Greenwood Drive\, Grove City\, PA\, 16127\, United States
ATTACH;FMTTYPE=image/png:https://wolfcreektrackclub.com/wp-content/uploads/2023/08/8th-Annual-YouTube-Thumbnail.png
ORGANIZER;CN="Wolf Creek Race Management":MAILTO:info@wolfcreektrackclub.com
END:VEVENT
BEGIN:VEVENT
DTSTART;TZID=America/New_York:20231123T090000
DTEND;TZID=America/New_York:20231123T110000
DTSTAMP:20260421T041343
CREATED:20231009T140126Z
LAST-MODIFIED:20231009T140216Z
UID:16796-1700730000-1700737200@wolfcreektrackclub.com
SUMMARY:Seneca Valley Turkey Chase
DESCRIPTION:
URL:https://wolfcreektrackclub.com/event/seneca-valley-turkey-chase/
LOCATION:PA
ATTACH;FMTTYPE=image/png:https://wolfcreektrackclub.com/wp-content/uploads/2021/10/SV-TC.png
END:VEVENT
BEGIN:VEVENT
DTSTART;TZID=America/New_York:20231123T090000
DTEND;TZID=America/New_York:20231123T110000
DTSTAMP:20260421T041343
CREATED:20231009T135607Z
LAST-MODIFIED:20231009T135706Z
UID:16794-1700730000-1700737200@wolfcreektrackclub.com
SUMMARY:Bobcats Turkey Trot
DESCRIPTION:
URL:https://wolfcreektrackclub.com/event/bobcats-turkey-trot-2/
LOCATION:PA
ATTACH;FMTTYPE=image/png:https://wolfcreektrackclub.com/wp-content/uploads/2022/10/bobcat-1.png
END:VEVENT
BEGIN:VEVENT
DTSTART;TZID=America/New_York:20231123T090000
DTEND;TZID=America/New_York:20231123T103000
DTSTAMP:20260421T041343
CREATED:20231114T164526Z
LAST-MODIFIED:20231114T164526Z
UID:17059-1700730000-1700735400@wolfcreektrackclub.com
SUMMARY:YWCA Turkey Trot
DESCRIPTION:
URL:https://wolfcreektrackclub.com/event/ywca-turkey-trot/
LOCATION:YWCA Activity Building\, 201 N Franklin St\, Titusville\, PA\, 16354\, United States
ATTACH;FMTTYPE=image/png:https://wolfcreektrackclub.com/wp-content/uploads/2023/11/ywca-e1729257348698.png
END:VEVENT
BEGIN:VEVENT
DTSTART;TZID=America/New_York:20231123T090000
DTEND;TZID=America/New_York:20231123T103000
DTSTAMP:20260421T041343
CREATED:20231114T162908Z
LAST-MODIFIED:20231114T162908Z
UID:17054-1700730000-1700735400@wolfcreektrackclub.com
SUMMARY:Mifflinburg Turkey Trot
DESCRIPTION:
URL:https://wolfcreektrackclub.com/event/mifflinburg-turkey-trot-2/
LOCATION:Mifflinburg Community Park\, 131 N. 5th Street\, Mifflinburg\, PA\, 17844\, United States
ATTACH;FMTTYPE=image/png:https://wolfcreektrackclub.com/wp-content/uploads/2023/11/miff.png
END:VEVENT
BEGIN:VEVENT
DTSTART;TZID=America/New_York:20231123T080000
DTEND;TZID=America/New_York:20231123T103000
DTSTAMP:20260421T041343
CREATED:20231123T024131Z
LAST-MODIFIED:20231123T024131Z
UID:17130-1700726400-1700735400@wolfcreektrackclub.com
SUMMARY:33rd Annual YMCA of Greater Pittsburgh Turkey Trot Presented by UPMC Health Plan
DESCRIPTION:Join Us for the 33rd Annual YMCA Turkey Trot -A Celebration of Community and Giving!
URL:https://wolfcreektrackclub.com/event/33rd-annual-ymca-of-greater-pittsburgh-turkey-trot-presented-by-upmc-health-plan/
LOCATION:Pittsburgh\, PA\, Pittsburgh\, PA
ATTACH;FMTTYPE=image/png:https://wolfcreektrackclub.com/wp-content/uploads/2023/11/n9cmav5vtyzfbmge._original.png
END:VEVENT
BEGIN:VEVENT
DTSTART;TZID=America/New_York:20231123T073000
DTEND;TZID=America/New_York:20231123T090000
DTSTAMP:20260421T041343
CREATED:20231114T155356Z
LAST-MODIFIED:20231114T155356Z
UID:17052-1700724600-1700730000@wolfcreektrackclub.com
SUMMARY:Thanksgiving Day Bethel Park Recreation Turkey Trot 5k
DESCRIPTION:
URL:https://wolfcreektrackclub.com/event/thanksgiving-day-bethel-park-recreation-turkey-trot-5k/
LOCATION:Montour Trail\, 515 Clifton Road\, Bethel Park\, PA\, 15102\, United States
ATTACH;FMTTYPE=image/png:https://wolfcreektrackclub.com/wp-content/uploads/2021/10/BP-TT.png
END:VEVENT
BEGIN:VEVENT
DTSTART;TZID=America/New_York:20231114T183000
DTEND;TZID=America/New_York:20231114T203000
DTSTAMP:20260421T041343
CREATED:20231009T142114Z
LAST-MODIFIED:20231009T142114Z
UID:16798-1699986600-1699993800@wolfcreektrackclub.com
SUMMARY:PR Track 5k Classic
DESCRIPTION:
URL:https://wolfcreektrackclub.com/event/pr-track-5k-classic-2/
LOCATION:Pine-Richland High School\, 700 Warrendale Road\, Gibsonia\, PA\, 15044\, United States
ATTACH;FMTTYPE=image/png:https://wolfcreektrackclub.com/wp-content/uploads/2021/09/pr5k-1.png
END:VEVENT
BEGIN:VEVENT
DTSTART;TZID=America/New_York:20231111T083000
DTEND;TZID=America/New_York:20231111T120000
DTSTAMP:20260421T041343
CREATED:20230310T151406Z
LAST-MODIFIED:20230310T151406Z
UID:14870-1699691400-1699704000@wolfcreektrackclub.com
SUMMARY:Harvest Moon Race
DESCRIPTION:
URL:https://wolfcreektrackclub.com/event/harvest-moon-race/
LOCATION:St. Philip’s Church\, 1629 Beaver Grade Road\, Coraopolis\, PA\, 15108\, United States
ATTACH;FMTTYPE=image/png:https://wolfcreektrackclub.com/wp-content/uploads/2023/03/harvestm.png
END:VEVENT
BEGIN:VEVENT
DTSTART;TZID=America/New_York:20231111T080000
DTEND;TZID=America/New_York:20231111T170000
DTSTAMP:20260421T041343
CREATED:20230815T143035Z
LAST-MODIFIED:20230815T143035Z
UID:16064-1699689600-1699722000@wolfcreektrackclub.com
SUMMARY:Resilient Service Members Classic
DESCRIPTION:
URL:https://wolfcreektrackclub.com/event/resilient-service-members-classic-2/
LOCATION:Raccoon Creek State Park\, 195 Cabin Rd #15050\, Georgetown\, PA\, 15043\, United States
ATTACH;FMTTYPE=image/png:https://wolfcreektrackclub.com/wp-content/uploads/2023/01/rr100bg.png
END:VEVENT
BEGIN:VEVENT
DTSTART;TZID=America/New_York:20231104T090000
DTEND;TZID=America/New_York:20231104T113000
DTSTAMP:20260421T041343
CREATED:20230901T180512Z
LAST-MODIFIED:20230901T180512Z
UID:16203-1699088400-1699097400@wolfcreektrackclub.com
SUMMARY:Santa Run 5k/10k
DESCRIPTION:
URL:https://wolfcreektrackclub.com/event/santa-run-5k-10k/
LOCATION:Bridgewater Marina\, 404 Brkich Way\, Beaver\, PA\, 15009\, United States
ATTACH;FMTTYPE=image/png:https://wolfcreektrackclub.com/wp-content/uploads/2023/09/beaver-ymca-1200-x-400-px-2-e1729258052806.png
END:VEVENT
BEGIN:VEVENT
DTSTART;TZID=America/New_York:20231104T090000
DTEND;TZID=America/New_York:20231104T103000
DTSTAMP:20260421T041343
CREATED:20230912T122851Z
LAST-MODIFIED:20230912T122851Z
UID:16282-1699088400-1699093800@wolfcreektrackclub.com
SUMMARY:Trick or Trot 5k
DESCRIPTION:
URL:https://wolfcreektrackclub.com/event/trick-or-trot-5k-2/
LOCATION:Camp Hill Methodist Church\, 417 South 22nd Street\, Camp Hill\, PA\, 17011\, United States
ATTACH;FMTTYPE=image/png:https://wolfcreektrackclub.com/wp-content/uploads/2021/10/camphill.png
END:VEVENT
BEGIN:VEVENT
DTSTART;TZID=America/New_York:20231104T070000
DTEND;TZID=America/New_York:20231104T090000
DTSTAMP:20260421T041343
CREATED:20230808T174056Z
LAST-MODIFIED:20230808T174056Z
UID:15952-1699081200-1699088400@wolfcreektrackclub.com
SUMMARY:Run of the Dead
DESCRIPTION:
URL:https://wolfcreektrackclub.com/event/run-of-the-dead-2/
LOCATION:Patton Park\, 2301 Woodmere St\, Detroit\, MI\, 48209\, United States
ATTACH;FMTTYPE=image/png:https://wolfcreektrackclub.com/wp-content/uploads/2023/08/roftdead.png
END:VEVENT
BEGIN:VEVENT
DTSTART;TZID=America/New_York:20231103T183000
DTEND;TZID=America/New_York:20231103T200000
DTSTAMP:20260421T041343
CREATED:20230821T155439Z
LAST-MODIFIED:20230821T155439Z
UID:16116-1699036200-1699041600@wolfcreektrackclub.com
SUMMARY:GCC Twilight 5k
DESCRIPTION:
URL:https://wolfcreektrackclub.com/event/gcc-twilight-5k-3/
LOCATION:Grove City College\, 100 Campus Lane\, Grove City\, PA\, 16127\, United States
ATTACH;FMTTYPE=image/png:https://wolfcreektrackclub.com/wp-content/uploads/2022/09/gcc.png
END:VEVENT
BEGIN:VEVENT
DTSTART;TZID=America/New_York:20231028T110000
DTEND;TZID=America/New_York:20231028T130000
DTSTAMP:20260421T041343
CREATED:20230810T135829Z
LAST-MODIFIED:20230810T135829Z
UID:15999-1698490800-1698498000@wolfcreektrackclub.com
SUMMARY:Presidents AC XC Championships
DESCRIPTION:
URL:https://wolfcreektrackclub.com/event/presidents-ac-xc-championships/
LOCATION:Thiel College\, 75 College Ave\, Greenville\, PA\, 16125\, United States
ATTACH;FMTTYPE=image/png:https://wolfcreektrackclub.com/wp-content/uploads/2021/10/pacxc.png
END:VEVENT
BEGIN:VEVENT
DTSTART;TZID=America/New_York:20231028T090000
DTEND;TZID=America/New_York:20231028T120000
DTSTAMP:20260421T041343
CREATED:20230808T154949Z
LAST-MODIFIED:20230914T160405Z
UID:15942-1698483600-1698494400@wolfcreektrackclub.com
SUMMARY:North Ridge Nightmare
DESCRIPTION:
URL:https://wolfcreektrackclub.com/event/north-ridge-nightmare-2/
LOCATION:Rose Barn\, 10280 Pearce Mill Rd\, Allison Park\, 15101\, United States
ATTACH;FMTTYPE=image/png:https://wolfcreektrackclub.com/wp-content/uploads/2023/08/northridgenightmare.png
END:VEVENT
BEGIN:VEVENT
DTSTART;TZID=America/New_York:20231028T090000
DTEND;TZID=America/New_York:20231028T103000
DTSTAMP:20260421T041343
CREATED:20230823T144813Z
LAST-MODIFIED:20230823T144813Z
UID:16125-1698483600-1698489000@wolfcreektrackclub.com
SUMMARY:Wilkins Township Halloween 5k
DESCRIPTION:
URL:https://wolfcreektrackclub.com/event/wilkins-township-halloween-5k/
LOCATION:Wilkins Elementary STEAM Academy\, 362 Churchill Road\, Pittsburgh\, PA\, 15235\, United States
ATTACH;FMTTYPE=image/png:https://wolfcreektrackclub.com/wp-content/uploads/2023/08/Wilkins.png
END:VEVENT
BEGIN:VEVENT
DTSTART;TZID=America/New_York:20231028T083000
DTEND;TZID=America/New_York:20231028T100000
DTSTAMP:20260421T041343
CREATED:20230823T140818Z
LAST-MODIFIED:20230823T140818Z
UID:16123-1698481800-1698487200@wolfcreektrackclub.com
SUMMARY:North Allegheny Foundation Trick or Trot
DESCRIPTION:
URL:https://wolfcreektrackclub.com/event/north-allegheny-foundation-trick-or-trot-2/
LOCATION:North Alleghey Marshall Middle School\, 5145 Wexford Run Road\, Wexford\, PA\, 15090\, United States
ATTACH;FMTTYPE=image/png:https://wolfcreektrackclub.com/wp-content/uploads/2021/09/na-trick.png
END:VEVENT
BEGIN:VEVENT
DTSTART;TZID=America/New_York:20231022T091500
DTEND;TZID=America/New_York:20231022T133000
DTSTAMP:20260421T041343
CREATED:20230821T155140Z
LAST-MODIFIED:20230821T155140Z
UID:16114-1697966100-1697981400@wolfcreektrackclub.com
SUMMARY:Pacers XC Invitational
DESCRIPTION:
URL:https://wolfcreektrackclub.com/event/pacers-xc-invitational-2/
LOCATION:Mingo Creek County Park\, Mingo Creek Road\, Finleyville\, PA\, 15332\, United States
ATTACH;FMTTYPE=image/png:https://wolfcreektrackclub.com/wp-content/uploads/2022/09/pacers.png
END:VEVENT
BEGIN:VEVENT
DTSTART;TZID=America/New_York:20231021T090000
DTEND;TZID=America/New_York:20231021T110000
DTSTAMP:20260421T041343
CREATED:20230912T123708Z
LAST-MODIFIED:20230912T123708Z
UID:16284-1697878800-1697886000@wolfcreektrackclub.com
SUMMARY:Steps with St. Dymphna 5k Walk/Run
DESCRIPTION:
URL:https://wolfcreektrackclub.com/event/steps-with-st-dymphna-5k-walk-run/
LOCATION:St. Vincent College\, 300 Fraser Purchase Road\, Latrobe\, PA\, 15650\, United States
ATTACH;FMTTYPE=image/png:https://wolfcreektrackclub.com/wp-content/uploads/2023/09/campusmin-1.png
END:VEVENT
BEGIN:VEVENT
DTSTART;TZID=America/New_York:20231016T161500
DTEND;TZID=America/New_York:20231016T183000
DTSTAMP:20260421T041343
CREATED:20230808T161333Z
LAST-MODIFIED:20230808T161354Z
UID:15948-1697472900-1697481000@wolfcreektrackclub.com
SUMMARY:JV XC Twilight Showcase
DESCRIPTION:
URL:https://wolfcreektrackclub.com/event/jv-xc-twilight-showcase-2/
LOCATION:Seneca Valley High School\, 128 Seneca School Road\, Harmony\, PA\, 16037\, United States
ATTACH;FMTTYPE=image/png:https://wolfcreektrackclub.com/wp-content/uploads/2022/08/show.png
END:VEVENT
BEGIN:VEVENT
DTSTART;TZID=America/New_York:20231014T094500
DTEND;TZID=America/New_York:20231014T113000
DTSTAMP:20260421T041343
CREATED:20230818T170450Z
LAST-MODIFIED:20230818T170450Z
UID:16080-1697276700-1697283000@wolfcreektrackclub.com
SUMMARY:RMU XC Invitational
DESCRIPTION:
URL:https://wolfcreektrackclub.com/event/rmu-xc-invitational-2/
LOCATION:Youthtowne\, 150 Youthtowne Drive\, Clinton\, PA\, 15026\, United States
ATTACH;FMTTYPE=image/png:https://wolfcreektrackclub.com/wp-content/uploads/2022/09/rmu.png
END:VEVENT
BEGIN:VEVENT
DTSTART;TZID=America/New_York:20231014T090000
DTEND;TZID=America/New_York:20231014T160000
DTSTAMP:20260421T041343
CREATED:20230719T010105Z
LAST-MODIFIED:20230719T010105Z
UID:15843-1697274000-1697299200@wolfcreektrackclub.com
SUMMARY:West Penn Triathlon
DESCRIPTION:An adventure race like no other… paddle\, peddle and pace from the Conemaugh River to the West Penn Trail in beautiful\, historic Saltsburg\, PA. \n\n\n\n\n\n\nLeg One: The Paddle\n\nThe race begins on the Conemaugh River. Racers will launch a kayak or canoe from the Conemaugh Dam and paddle 7-miles downriver to Historic Saltsburg. The paddle consists of mostly flat water with some Class I ripples. We will have volunteers to assist racers entering and exiting the water. All participants must wear a PFD (life jacket). \n\n\n\n\n\nLeg Two: The Ride\n\nThe cycling portion of our race is a 14-mile trail ride to Conemaugh Dam and back. The trail is primarily a crushed stone bike path\, with several short paved sections\, and a several mile section of varying grades. Road bikes\, cross bikes\, hybrids\, and tandems are all acceptable. Participants must wear a helmet. \n\n\n\n\n\nLeg Three: The Run\n\nThe final stage of the triathlon is a true 5k. The trail leads runners along the Kiskiminetas River to Blackleggs Creek on the Kiski Section of the West Penn Trail. You’ll cross the Jack Maguire Bridge and turn around to make your way back to the finish line.
URL:https://wolfcreektrackclub.com/event/west-penn-triathlon/
LOCATION:W Penn Trail\, Saltsburg\, Pennsylvania
ATTACH;FMTTYPE=image/png:https://wolfcreektrackclub.com/wp-content/uploads/2023/07/cvc.png
END:VEVENT
BEGIN:VEVENT
DTSTART;TZID=America/New_York:20231014T090000
DTEND;TZID=America/New_York:20231014T130000
DTSTAMP:20260421T041343
CREATED:20230815T132233Z
LAST-MODIFIED:20230815T132233Z
UID:16062-1697274000-1697288400@wolfcreektrackclub.com
SUMMARY:Stop\, Drop & Run
DESCRIPTION:
URL:https://wolfcreektrackclub.com/event/stop-drop-run-2/
LOCATION:Monaca #4 Station\, 913 Taylor Ave\, Monaca\, PA\, 15061\, United States
ATTACH;FMTTYPE=image/png:https://wolfcreektrackclub.com/wp-content/uploads/2022/09/stopdrop.png
END:VEVENT
BEGIN:VEVENT
DTSTART;TZID=America/New_York:20231014T080000
DTEND;TZID=America/New_York:20231014T120000
DTSTAMP:20260421T041343
CREATED:20230808T160135Z
LAST-MODIFIED:20230808T160135Z
UID:15945-1697270400-1697284800@wolfcreektrackclub.com
SUMMARY:FAAP Fall Classic
DESCRIPTION:
URL:https://wolfcreektrackclub.com/event/faap-fall-classic-2/
LOCATION:Pie Traynor Field\, S Ridge Dr\, Allison Park\, PA\, 15101\, United States
ATTACH;FMTTYPE=image/png:https://wolfcreektrackclub.com/wp-content/uploads/2023/08/faap-1.png
END:VEVENT
BEGIN:VEVENT
DTSTART;TZID=America/New_York:20231010T161500
DTEND;TZID=America/New_York:20231010T190000
DTSTAMP:20260421T041343
CREATED:20230810T134059Z
LAST-MODIFIED:20230810T134059Z
UID:15992-1696954500-1696964400@wolfcreektrackclub.com
SUMMARY:North Allegheny Middle School XC Invitational
DESCRIPTION:
URL:https://wolfcreektrackclub.com/event/north-allegheny-middle-school-xc-invitational-2/
LOCATION:North Alleghey Marshall Middle School\, 5145 Wexford Run Road\, Wexford\, PA\, 15090\, United States
ATTACH;FMTTYPE=image/png:https://wolfcreektrackclub.com/wp-content/uploads/2021/09/na-ms-xc.png
END:VEVENT
BEGIN:VEVENT
DTSTART;TZID=America/New_York:20231010T160000
DTEND;TZID=America/New_York:20231010T173000
DTSTAMP:20260421T041343
CREATED:20230907T153518Z
LAST-MODIFIED:20230907T153518Z
UID:16253-1696953600-1696959000@wolfcreektrackclub.com
SUMMARY:Meadville\, Erie & Cathedral Prep @ McDowell HS XC Meet
DESCRIPTION:
URL:https://wolfcreektrackclub.com/event/meadville-erie-cathedral-prep-mcdowell-hs-xc-meet/
LOCATION:Brown’s Farm\, 5774 Sterrettania Rd\, Fairview\, PA\, 16415\, United States
ATTACH;FMTTYPE=image/png:https://wolfcreektrackclub.com/wp-content/uploads/2023/09/mcdowell001.png
END:VEVENT
BEGIN:VEVENT
DTSTART;TZID=America/New_York:20231008T140000
DTEND;TZID=America/New_York:20231008T163000
DTSTAMP:20260421T041343
CREATED:20230309T153735Z
LAST-MODIFIED:20230309T153735Z
UID:14840-1696773600-1696782600@wolfcreektrackclub.com
SUMMARY:Diocese of Greensburg XC Championship
DESCRIPTION:
URL:https://wolfcreektrackclub.com/event/diocese-of-greensburg-xc-championship/
LOCATION:St. Vincent College\, 300 Fraser Purchase Road\, Latrobe\, PA\, 15650\, United States
ATTACH;FMTTYPE=image/png:https://wolfcreektrackclub.com/wp-content/uploads/2022/06/diocgreen-1.png
END:VEVENT
BEGIN:VEVENT
DTSTART;TZID=America/New_York:20231008T083000
DTEND;TZID=America/New_York:20231008T110000
DTSTAMP:20260421T041343
CREATED:20230808T195748Z
LAST-MODIFIED:20230808T195748Z
UID:15955-1696753800-1696762800@wolfcreektrackclub.com
SUMMARY:Scouting the Moon 5k/10k
DESCRIPTION:
URL:https://wolfcreektrackclub.com/event/scouting-the-moon-5k-10k/
LOCATION:Moon Park\, 1350 Ewing Rd\, Moon Twp\, PA\, 15108\, United States
ATTACH;FMTTYPE=image/png:https://wolfcreektrackclub.com/wp-content/uploads/2023/08/scouting.png
END:VEVENT
END:VCALENDAR