BEGIN:VCALENDAR
VERSION:2.0
PRODID:-//Wolf Creek Race Management - ECPv6.15.20//NONSGML v1.0//EN
CALSCALE:GREGORIAN
METHOD:PUBLISH
X-WR-CALNAME:Wolf Creek Race Management
X-ORIGINAL-URL:https://wolfcreektrackclub.com
X-WR-CALDESC:Events for Wolf Creek Race Management
REFRESH-INTERVAL;VALUE=DURATION:PT1H
X-Robots-Tag:noindex
X-PUBLISHED-TTL:PT1H
BEGIN:VTIMEZONE
TZID:America/New_York
BEGIN:DAYLIGHT
TZOFFSETFROM:-0500
TZOFFSETTO:-0400
TZNAME:EDT
DTSTART:20240310T070000
END:DAYLIGHT
BEGIN:STANDARD
TZOFFSETFROM:-0400
TZOFFSETTO:-0500
TZNAME:EST
DTSTART:20241103T060000
END:STANDARD
BEGIN:DAYLIGHT
TZOFFSETFROM:-0500
TZOFFSETTO:-0400
TZNAME:EDT
DTSTART:20250309T070000
END:DAYLIGHT
BEGIN:STANDARD
TZOFFSETFROM:-0400
TZOFFSETTO:-0500
TZNAME:EST
DTSTART:20251102T060000
END:STANDARD
BEGIN:DAYLIGHT
TZOFFSETFROM:-0500
TZOFFSETTO:-0400
TZNAME:EDT
DTSTART:20260308T070000
END:DAYLIGHT
BEGIN:STANDARD
TZOFFSETFROM:-0400
TZOFFSETTO:-0500
TZNAME:EST
DTSTART:20261101T060000
END:STANDARD
END:VTIMEZONE
BEGIN:VEVENT
DTSTART;TZID=America/New_York:20250417T150000
DTEND;TZID=America/New_York:20250417T190000
DTSTAMP:20260421T041230
CREATED:20241016T174142Z
LAST-MODIFIED:20241016T174142Z
UID:19756-1744902000-1744916400@wolfcreektrackclub.com
SUMMARY:John Papa T&F Invitational
DESCRIPTION:
URL:https://wolfcreektrackclub.com/event/john-papa-tf-invitational/
LOCATION:Mihalik-Thompson Stadium\, 100 N Rd\, Slippery Rock\, 16057\, United States
ATTACH;FMTTYPE=image/png:https://wolfcreektrackclub.com/wp-content/uploads/2024/10/SRU001.png
END:VEVENT
BEGIN:VEVENT
DTSTART;TZID=America/New_York:20250417T150000
DTEND;TZID=America/New_York:20250417T210000
DTSTAMP:20260421T041230
CREATED:20241022T140451Z
LAST-MODIFIED:20241022T140451Z
UID:19865-1744902000-1744923600@wolfcreektrackclub.com
SUMMARY:Marcie Peaco 9th/10th Grade Invitational
DESCRIPTION:
URL:https://wolfcreektrackclub.com/event/marcie-peaco-9th-10th-grade-invitational/
LOCATION:Seneca Valley High School\, 128 Seneca School Road\, Harmony\, PA\, 16037\, United States
ATTACH;FMTTYPE=image/png:https://wolfcreektrackclub.com/wp-content/uploads/2022/02/sv-910-1.png
END:VEVENT
BEGIN:VEVENT
DTSTART;TZID=America/New_York:20250418T090000
DTEND;TZID=America/New_York:20250418T160000
DTSTAMP:20260421T041230
CREATED:20240906T183923Z
LAST-MODIFIED:20240906T183923Z
UID:19080-1744966800-1744992000@wolfcreektrackclub.com
SUMMARY:Slippery Rock Invitational
DESCRIPTION:
URL:https://wolfcreektrackclub.com/event/slippery-rock-invitational-2/
LOCATION:Mihalik-Thompson Stadium\, 100 N Rd\, Slippery Rock\, 16057\, United States
ATTACH;FMTTYPE=image/png:https://wolfcreektrackclub.com/wp-content/uploads/2024/02/SRU002.png
END:VEVENT
BEGIN:VEVENT
DTSTART;TZID=America/New_York:20250419T090000
DTEND;TZID=America/New_York:20250419T103000
DTSTAMP:20260421T041230
CREATED:20250304T131049Z
LAST-MODIFIED:20250304T131049Z
UID:20384-1745053200-1745058600@wolfcreektrackclub.com
SUMMARY:Different Not Less - Autism Inclusion 5k
DESCRIPTION:
URL:https://wolfcreektrackclub.com/event/different-not-less-autism-inclusion-5k/
LOCATION:Haddad Riverfront Park\, 600 Kanawha Blvd E\, Charleston\, WV\, 25301\, United States
ATTACH;FMTTYPE=image/png:https://wolfcreektrackclub.com/wp-content/uploads/2025/03/Different-Not-Less-Cover.png
END:VEVENT
BEGIN:VEVENT
DTSTART;TZID=America/New_York:20250422T153000
DTEND;TZID=America/New_York:20250422T180000
DTSTAMP:20260421T041230
CREATED:20250206T174526Z
LAST-MODIFIED:20250206T174526Z
UID:20229-1745335800-1745344800@wolfcreektrackclub.com
SUMMARY:Valley @ Hampton HS T&F Meet
DESCRIPTION:
URL:https://wolfcreektrackclub.com/event/valley-hampton-hs-tf-meet/
LOCATION:Fridley Field\, Topnick Dr\, Allison Park\, PA\, 15101\, United States
ATTACH;FMTTYPE=image/png:https://wolfcreektrackclub.com/wp-content/uploads/2025/02/Hampton002.png
END:VEVENT
BEGIN:VEVENT
DTSTART;TZID=America/New_York:20250422T153000
DTEND;TZID=America/New_York:20250422T183000
DTSTAMP:20260421T041230
CREATED:20250228T180819Z
LAST-MODIFIED:20250228T180819Z
UID:20378-1745335800-1745346600@wolfcreektrackclub.com
SUMMARY:Pine-Richland & Fox Chapel @ North Allegheny HS T&F Meet
DESCRIPTION:
URL:https://wolfcreektrackclub.com/event/pine-richland-fox-chapel-north-allegheny-hs-tf-meet/
LOCATION:North Allegheny High School\, 10375 Perry Hwy\, Wexford\, PA\, 15090\, United States
ATTACH;FMTTYPE=image/png:https://wolfcreektrackclub.com/wp-content/uploads/2025/02/NA007.png
END:VEVENT
BEGIN:VEVENT
DTSTART;TZID=America/New_York:20250422T160000
DTEND;TZID=America/New_York:20250422T183000
DTSTAMP:20260421T041230
CREATED:20250114T202126Z
LAST-MODIFIED:20250114T202126Z
UID:20184-1745337600-1745346600@wolfcreektrackclub.com
SUMMARY:Erie @ General McLane HS T&F Meet
DESCRIPTION:
URL:https://wolfcreektrackclub.com/event/erie-general-mclane-hs-tf-meet-2/
LOCATION:Linden Field\, 11761 Edinboro Rd\, Edinboro\, PA\, 16412\, United States
ATTACH;FMTTYPE=image/png:https://wolfcreektrackclub.com/wp-content/uploads/2023/03/GM2.png
END:VEVENT
BEGIN:VEVENT
DTSTART;TZID=America/New_York:20250423T143000
DTEND;TZID=America/New_York:20250423T170000
DTSTAMP:20260421T041230
CREATED:20250213T175914Z
LAST-MODIFIED:20250213T175914Z
UID:20297-1745418600-1745427600@wolfcreektrackclub.com
SUMMARY:Pittsburgh City League T&F Meet #5
DESCRIPTION:
URL:https://wolfcreektrackclub.com/event/pittsburgh-city-league-tf-meet-5/
LOCATION:Oliver High School\, 2323 Brighton Rd\, Pittsburgh\, PA\, 15212\, United States
ATTACH;FMTTYPE=image/png:https://wolfcreektrackclub.com/wp-content/uploads/2025/02/cl001.png
END:VEVENT
BEGIN:VEVENT
DTSTART;TZID=America/New_York:20250423T153000
DTEND;TZID=America/New_York:20250423T183000
DTSTAMP:20260421T041230
CREATED:20250210T172109Z
LAST-MODIFIED:20250210T172109Z
UID:20265-1745422200-1745433000@wolfcreektrackclub.com
SUMMARY:Mon Valley Senior Rec Invitational
DESCRIPTION:
URL:https://wolfcreektrackclub.com/event/mon-valley-senior-rec-invitational/
LOCATION:McKeesport High School\, 1960 Eden Park Blvd\, McKeesport\, PA\, 15132\, United States
ATTACH;FMTTYPE=image/png:https://wolfcreektrackclub.com/wp-content/uploads/2025/02/mck001.png
END:VEVENT
BEGIN:VEVENT
DTSTART;TZID=America/New_York:20250423T160000
DTEND;TZID=America/New_York:20250423T183000
DTSTAMP:20260421T041230
CREATED:20250114T200639Z
LAST-MODIFIED:20250114T200702Z
UID:20178-1745424000-1745433000@wolfcreektrackclub.com
SUMMARY:Sharon & CP @ Hickory MS T&F Meet
DESCRIPTION:
URL:https://wolfcreektrackclub.com/event/sharon-cp-hickory-ms-tf-meet/
LOCATION:Hickory High School\, 640 N Hermitage Road\, Hermitage\, PA\, 16148\, United States
ATTACH;FMTTYPE=image/png:https://wolfcreektrackclub.com/wp-content/uploads/2024/02/hickory004.png
END:VEVENT
BEGIN:VEVENT
DTSTART;TZID=America/New_York:20250424T143000
DTEND;TZID=America/New_York:20250424T203000
DTSTAMP:20260421T041230
CREATED:20250210T172752Z
LAST-MODIFIED:20250210T172752Z
UID:20271-1745505000-1745526600@wolfcreektrackclub.com
SUMMARY:Butler 9th & 10th Grade Invitational
DESCRIPTION:
URL:https://wolfcreektrackclub.com/event/butler-9th-10th-grade-invitational-2/
LOCATION:Butler High School\, 120 Campus Lane\, Butler\, PA\, United States
ATTACH;FMTTYPE=image/png:https://wolfcreektrackclub.com/wp-content/uploads/2022/12/BUTLER3.png
END:VEVENT
BEGIN:VEVENT
DTSTART;TZID=America/New_York:20250425T140000
DTEND;TZID=America/New_York:20250425T210000
DTSTAMP:20260421T041230
CREATED:20241022T135752Z
LAST-MODIFIED:20241022T135752Z
UID:19861-1745589600-1745614800@wolfcreektrackclub.com
SUMMARY:McDowell T&F Invitational
DESCRIPTION:
URL:https://wolfcreektrackclub.com/event/mcdowell-tf-invitational-2/
LOCATION:Gus Anderson Field\, 3580 Caughey Rd\, Erie\, PA\, 16506\, United States
ATTACH;FMTTYPE=image/png:https://wolfcreektrackclub.com/wp-content/uploads/2024/08/MCDOWELL-3.png
END:VEVENT
BEGIN:VEVENT
DTSTART;TZID=America/New_York:20250425T150000
DTEND;TZID=America/New_York:20250425T200000
DTSTAMP:20260421T041230
CREATED:20250306T204519Z
LAST-MODIFIED:20250306T204519Z
UID:20392-1745593200-1745611200@wolfcreektrackclub.com
SUMMARY:Brooke Relays
DESCRIPTION:
URL:https://wolfcreektrackclub.com/event/brooke-relays/
LOCATION:Brooke High School\, 29 Bruin Drive\, Wellsburg\, WV\, 26070\, United States
ATTACH;FMTTYPE=image/png:https://wolfcreektrackclub.com/wp-content/uploads/2025/03/bROOKE001.png
END:VEVENT
BEGIN:VEVENT
DTSTART;TZID=America/New_York:20250425T153000
DTEND;TZID=America/New_York:20250425T210000
DTSTAMP:20260421T041230
CREATED:20250210T172507Z
LAST-MODIFIED:20250210T172507Z
UID:20268-1745595000-1745614800@wolfcreektrackclub.com
SUMMARY:Seneca Valley Invitational
DESCRIPTION:
URL:https://wolfcreektrackclub.com/event/seneca-valley-invitational/
LOCATION:Seneca Valley High School\, 128 Seneca School Road\, Harmony\, PA\, 16037\, United States
ATTACH;FMTTYPE=image/png:https://wolfcreektrackclub.com/wp-content/uploads/2025/02/sv001.png
END:VEVENT
BEGIN:VEVENT
DTSTART;TZID=America/New_York:20250426T090000
DTEND;TZID=America/New_York:20250426T160000
DTSTAMP:20260421T041230
CREATED:20241022T140047Z
LAST-MODIFIED:20241022T140047Z
UID:19863-1745658000-1745683200@wolfcreektrackclub.com
SUMMARY:25th Annual City of Hermitage T&F Invitational
DESCRIPTION:
URL:https://wolfcreektrackclub.com/event/25th-annual-city-of-hermitage-tf-invitational/
LOCATION:Hickory High School\, 640 N Hermitage Road\, Hermitage\, PA\, 16148\, United States
ATTACH;FMTTYPE=image/png:https://wolfcreektrackclub.com/wp-content/uploads/2021/12/city-of-H-YouTube-Thumbnail.png
END:VEVENT
BEGIN:VEVENT
DTSTART;TZID=America/New_York:20250427T080000
DTEND;TZID=America/New_York:20250427T150000
DTSTAMP:20260421T041230
CREATED:20250306T205524Z
LAST-MODIFIED:20250306T205524Z
UID:20396-1745740800-1745766000@wolfcreektrackclub.com
SUMMARY:NYC RUNS Brooklyn Half Marathon
DESCRIPTION:
URL:https://wolfcreektrackclub.com/event/nyc-runs-brooklyn-half-marathon/
LOCATION:Brooklyn\, Brooklyn\, New York
ATTACH;FMTTYPE=image/png:https://wolfcreektrackclub.com/wp-content/uploads/2024/04/nycruns-brooklyn-half-marathon-1699427645-e1741294268266.png
END:VEVENT
BEGIN:VEVENT
DTSTART;TZID=America/New_York:20250427T090000
DTEND;TZID=America/New_York:20250427T120000
DTSTAMP:20260421T041230
CREATED:20250213T180549Z
LAST-MODIFIED:20250213T180549Z
UID:20301-1745744400-1745755200@wolfcreektrackclub.com
SUMMARY:FoxWall Run For The Hill Of It presented by UPMC St. Margaret Hospital
DESCRIPTION:
URL:https://wolfcreektrackclub.com/event/foxwall-run-for-the-hill-of-it-presented-by-upmc-st-margaret-hospital-2/
LOCATION:Aspinwall Borough Building\, 200 Commercial Ave\, Aspinwall\, PA\, 15215\, United States
ATTACH;FMTTYPE=image/png:https://wolfcreektrackclub.com/wp-content/uploads/2023/02/foxwall.png
END:VEVENT
BEGIN:VEVENT
DTSTART;TZID=America/New_York:20250428T143000
DTEND;TZID=America/New_York:20250428T170000
DTSTAMP:20260421T041230
CREATED:20250213T180055Z
LAST-MODIFIED:20250213T180055Z
UID:20299-1745850600-1745859600@wolfcreektrackclub.com
SUMMARY:Pittsburgh City League T&F Meet #6
DESCRIPTION:
URL:https://wolfcreektrackclub.com/event/pittsburgh-city-league-tf-meet-6/
LOCATION:Oliver High School\, 2323 Brighton Rd\, Pittsburgh\, PA\, 15212\, United States
ATTACH;FMTTYPE=image/png:https://wolfcreektrackclub.com/wp-content/uploads/2025/02/cl001.png
END:VEVENT
BEGIN:VEVENT
DTSTART;TZID=America/New_York:20250428T153000
DTEND;TZID=America/New_York:20250428T203000
DTSTAMP:20260421T041230
CREATED:20250210T173348Z
LAST-MODIFIED:20250210T173348Z
UID:20273-1745854200-1745872200@wolfcreektrackclub.com
SUMMARY:Raider Relays
DESCRIPTION:
URL:https://wolfcreektrackclub.com/event/raider-relays/
LOCATION:Seneca Valley High School\, 128 Seneca School Road\, Harmony\, PA\, 16037\, United States
ATTACH;FMTTYPE=image/png:https://wolfcreektrackclub.com/wp-content/uploads/2025/02/sv002.png
END:VEVENT
BEGIN:VEVENT
DTSTART;TZID=America/New_York:20250429T160000
DTEND;TZID=America/New_York:20250429T183000
DTSTAMP:20260421T041230
CREATED:20250114T202345Z
LAST-MODIFIED:20250114T202345Z
UID:20186-1745942400-1745951400@wolfcreektrackclub.com
SUMMARY:Cathedral Prep @ General McLane HS T&F Meet
DESCRIPTION:
URL:https://wolfcreektrackclub.com/event/cathedral-prep-general-mclane-hs-tf-meet-2/
LOCATION:Linden Field\, 11761 Edinboro Rd\, Edinboro\, PA\, 16412\, United States
ATTACH;FMTTYPE=image/png:https://wolfcreektrackclub.com/wp-content/uploads/2023/03/GM1.png
END:VEVENT
BEGIN:VEVENT
DTSTART;TZID=America/New_York:20250430T153000
DTEND;TZID=America/New_York:20250430T180000
DTSTAMP:20260421T041230
CREATED:20241014T225800Z
LAST-MODIFIED:20241014T225800Z
UID:19744-1746027000-1746036000@wolfcreektrackclub.com
SUMMARY:Fox Chapel @ Mars MS T&F Meet
DESCRIPTION:
URL:https://wolfcreektrackclub.com/event/fox-chapel-mars-ms-tf-meet/
LOCATION:Mars Athletic Complex\, 1775 Three Degree Road\, Mars\, PA\, 16046\, United States
ATTACH;FMTTYPE=image/png:https://wolfcreektrackclub.com/wp-content/uploads/2022/12/MARS3.png
END:VEVENT
BEGIN:VEVENT
DTSTART;TZID=America/New_York:20250430T170000
DTEND;TZID=America/New_York:20250430T200000
DTSTAMP:20260421T041230
CREATED:20240906T184713Z
LAST-MODIFIED:20240918T145421Z
UID:19082-1746032400-1746043200@wolfcreektrackclub.com
SUMMARY:Ashtabula County HS T&F Invitational
DESCRIPTION:
URL:https://wolfcreektrackclub.com/event/ashtabula-county-hs-tf-invitational/
LOCATION:Jefferson Area Jr/Sr High School\, 207 W Mulberry St\, Jefferson\, OH\, 44047\, United States
ATTACH;FMTTYPE=image/png:https://wolfcreektrackclub.com/wp-content/uploads/2023/05/ashtabula.png
END:VEVENT
BEGIN:VEVENT
DTSTART;TZID=America/New_York:20250501T140000
DTEND;TZID=America/New_York:20250501T190000
DTSTAMP:20260421T041230
CREATED:20241218T181729Z
LAST-MODIFIED:20241218T181729Z
UID:20145-1746108000-1746126000@wolfcreektrackclub.com
SUMMARY:Mercer County Jr High T&F Invitational
DESCRIPTION:
URL:https://wolfcreektrackclub.com/event/mercer-county-jr-high-tf-invitational/
LOCATION:Greenville Senior High School\, 9 Donation Road\, Greenville\, PA\, 16125\, United States
ATTACH;FMTTYPE=image/png:https://wolfcreektrackclub.com/wp-content/uploads/2023/01/0INVITEMCAC.png
END:VEVENT
BEGIN:VEVENT
DTSTART;TZID=America/New_York:20250501T153000
DTEND;TZID=America/New_York:20250501T183000
DTSTAMP:20260421T041230
CREATED:20250227T145827Z
LAST-MODIFIED:20250227T145827Z
UID:20349-1746113400-1746124200@wolfcreektrackclub.com
SUMMARY:Moon & South Fayette @ Avonworth MS T&F Meet
DESCRIPTION:
URL:https://wolfcreektrackclub.com/event/moon-south-fayette-avonworth-ms-tf-meet/
LOCATION:Avonworth Lenzner Field\, 321 Grandview Rd\, Pittsburgh\, PA\, 15237\, United States
ATTACH;FMTTYPE=image/png:https://wolfcreektrackclub.com/wp-content/uploads/2025/02/av003.png
END:VEVENT
BEGIN:VEVENT
DTSTART;TZID=America/New_York:20250501T160000
DTEND;TZID=America/New_York:20250501T183000
DTSTAMP:20260421T041230
CREATED:20250228T143955Z
LAST-MODIFIED:20250228T143955Z
UID:20357-1746115200-1746124200@wolfcreektrackclub.com
SUMMARY:Butler @ North Allegheny MS T&F Meet
DESCRIPTION:
URL:https://wolfcreektrackclub.com/event/butler-north-allegheny-ms-tf-meet/
LOCATION:North Allegheny Intermediate High School\, 350 Cumberland Road\, Pittsburgh\, PA\, 15237\, United States
ATTACH;FMTTYPE=image/png:https://wolfcreektrackclub.com/wp-content/uploads/2025/02/NA001.png
END:VEVENT
BEGIN:VEVENT
DTSTART;TZID=America/New_York:20250502T103000
DTEND;TZID=America/New_York:20250502T210000
DTSTAMP:20260421T041230
CREATED:20250120T205115Z
LAST-MODIFIED:20250120T205159Z
UID:20192-1746181800-1746219600@wolfcreektrackclub.com
SUMMARY:Pine-Richland T&F Invitational
DESCRIPTION:
URL:https://wolfcreektrackclub.com/event/pine-richland-tf-invitational-2/
LOCATION:Pine-Richland High School\, 700 Warrendale Road\, Gibsonia\, PA\, 15044\, United States
ATTACH;FMTTYPE=image/png:https://wolfcreektrackclub.com/wp-content/uploads/2023/01/0INVITEpr.png
END:VEVENT
BEGIN:VEVENT
DTSTART;TZID=America/New_York:20250502T150000
DTEND;TZID=America/New_York:20250502T190000
DTSTAMP:20260421T041230
CREATED:20241016T181525Z
LAST-MODIFIED:20241016T181525Z
UID:19761-1746198000-1746212400@wolfcreektrackclub.com
SUMMARY:SRU Last Chance
DESCRIPTION:
URL:https://wolfcreektrackclub.com/event/sru-last-chance/
LOCATION:Mihalik-Thompson Stadium\, 100 N Rd\, Slippery Rock\, 16057\, United States
ATTACH;FMTTYPE=image/png:https://wolfcreektrackclub.com/wp-content/uploads/2024/10/SRU002.png
END:VEVENT
BEGIN:VEVENT
DTSTART;TZID=America/New_York:20250502T153000
DTEND;TZID=America/New_York:20250502T210000
DTSTAMP:20260421T041230
CREATED:20241022T133240Z
LAST-MODIFIED:20241022T133240Z
UID:19859-1746199800-1746219600@wolfcreektrackclub.com
SUMMARY:Coudersport T&F Invitational
DESCRIPTION:
URL:https://wolfcreektrackclub.com/event/coudersport-tf-invitational-2/
LOCATION:Coudersport Area Recreational Park\, Carp Park Rd\, Coudersport\, PA\, 16915\, United States
ATTACH;FMTTYPE=image/png:https://wolfcreektrackclub.com/wp-content/uploads/2023/01/0INVITECOUDY.png
END:VEVENT
BEGIN:VEVENT
DTSTART;TZID=America/New_York:20250502T160000
DTEND;TZID=America/New_York:20250502T210000
DTSTAMP:20260421T041230
CREATED:20250220T132211Z
LAST-MODIFIED:20250220T132211Z
UID:20316-1746201600-1746219600@wolfcreektrackclub.com
SUMMARY:10th Annual Larry Cogan Warrior Invitational
DESCRIPTION:
URL:https://wolfcreektrackclub.com/event/10th-annual-larry-cogan-warrior-invitational/
LOCATION:Warrior Stadium\, 205 Scio Road\, Carrollton\, OH\, 44615\, United States
ATTACH;FMTTYPE=image/png:https://wolfcreektrackclub.com/wp-content/uploads/2023/01/0INVITElcw.png
END:VEVENT
BEGIN:VEVENT
DTSTART;TZID=America/New_York:20250503T090000
DTEND;TZID=America/New_York:20250503T150000
DTSTAMP:20260421T041230
CREATED:20250226T004000Z
LAST-MODIFIED:20250226T004042Z
UID:20318-1746262800-1746284400@wolfcreektrackclub.com
SUMMARY:Robinson Township Christian School T&F Invitational
DESCRIPTION:
URL:https://wolfcreektrackclub.com/event/20318/
LOCATION:RMU Island Sports Center\, 7600 Grand Ave\, Pittsburgh\, PA\, 15225\, United States
ATTACH;FMTTYPE=image/png:https://wolfcreektrackclub.com/wp-content/uploads/2023/01/0INVITERTCS.png
END:VEVENT
END:VCALENDAR