BEGIN:VCALENDAR
VERSION:2.0
PRODID:-//Wolf Creek Race Management - ECPv6.15.20//NONSGML v1.0//EN
CALSCALE:GREGORIAN
METHOD:PUBLISH
X-WR-CALNAME:Wolf Creek Race Management
X-ORIGINAL-URL:https://wolfcreektrackclub.com
X-WR-CALDESC:Events for Wolf Creek Race Management
REFRESH-INTERVAL;VALUE=DURATION:PT1H
X-Robots-Tag:noindex
X-PUBLISHED-TTL:PT1H
BEGIN:VTIMEZONE
TZID:America/New_York
BEGIN:DAYLIGHT
TZOFFSETFROM:-0500
TZOFFSETTO:-0400
TZNAME:EDT
DTSTART:20220313T070000
END:DAYLIGHT
BEGIN:STANDARD
TZOFFSETFROM:-0400
TZOFFSETTO:-0500
TZNAME:EST
DTSTART:20221106T060000
END:STANDARD
BEGIN:DAYLIGHT
TZOFFSETFROM:-0500
TZOFFSETTO:-0400
TZNAME:EDT
DTSTART:20230312T070000
END:DAYLIGHT
BEGIN:STANDARD
TZOFFSETFROM:-0400
TZOFFSETTO:-0500
TZNAME:EST
DTSTART:20231105T060000
END:STANDARD
BEGIN:DAYLIGHT
TZOFFSETFROM:-0500
TZOFFSETTO:-0400
TZNAME:EDT
DTSTART:20240310T070000
END:DAYLIGHT
BEGIN:STANDARD
TZOFFSETFROM:-0400
TZOFFSETTO:-0500
TZNAME:EST
DTSTART:20241103T060000
END:STANDARD
END:VTIMEZONE
BEGIN:VEVENT
DTSTART;TZID=America/New_York:20230927T153000
DTEND;TZID=America/New_York:20230927T173000
DTSTAMP:20260421T100213
CREATED:20230809T130054Z
LAST-MODIFIED:20230809T130054Z
UID:15973-1695828600-1695835800@wolfcreektrackclub.com
SUMMARY:Mars @ Pine-Richland MS XC Meet
DESCRIPTION:
URL:https://wolfcreektrackclub.com/event/mars-pine-richland-ms-xc-meet/
LOCATION:Pine-Richland High School\, 700 Warrendale Road\, Gibsonia\, PA\, 15044\, United States
ATTACH;FMTTYPE=image/png:https://wolfcreektrackclub.com/wp-content/uploads/2023/08/PR01.png
END:VEVENT
BEGIN:VEVENT
DTSTART;TZID=America/New_York:20230927T153000
DTEND;TZID=America/New_York:20230927T170000
DTSTAMP:20260421T100213
CREATED:20230726T154743Z
LAST-MODIFIED:20230726T154743Z
UID:15882-1695828600-1695834000@wolfcreektrackclub.com
SUMMARY:Butler & North Hills @ Hampton MS XC Meet
DESCRIPTION:
URL:https://wolfcreektrackclub.com/event/butler-north-hills-hampton-ms-xc-meet/
LOCATION:Hartwood Acres Park\, 4000 Middle Rd\, Allison Park\, PA\, 15101\, United States
ATTACH;FMTTYPE=image/png:https://wolfcreektrackclub.com/wp-content/uploads/2023/07/HAMPTON02.png
END:VEVENT
BEGIN:VEVENT
DTSTART;TZID=America/New_York:20230926T160000
DTEND;TZID=America/New_York:20230926T173000
DTSTAMP:20260421T100213
CREATED:20230725T153143Z
LAST-MODIFIED:20230725T153143Z
UID:15876-1695744000-1695749400@wolfcreektrackclub.com
SUMMARY:North Allegheny & Seneca Valley @ North Hills HS XC Meet
DESCRIPTION:
URL:https://wolfcreektrackclub.com/event/north-allegheny-seneca-valley-north-hills-hs-xc-meet/
ATTACH;FMTTYPE=image/png:https://wolfcreektrackclub.com/wp-content/uploads/2023/07/nh02.png
END:VEVENT
BEGIN:VEVENT
DTSTART;TZID=America/New_York:20230926T153000
DTEND;TZID=America/New_York:20230926T173000
DTSTAMP:20260421T100213
CREATED:20230810T201322Z
LAST-MODIFIED:20230810T201322Z
UID:16016-1695742200-1695749400@wolfcreektrackclub.com
SUMMARY:Pine-Richland & Shaler @ Mars HS XC Meet
DESCRIPTION:
URL:https://wolfcreektrackclub.com/event/pine-richland-shaler-mars-hs-xc-meet/
LOCATION:Adams Township Park\, Mars\, PA\, United States
ATTACH;FMTTYPE=image/png:https://wolfcreektrackclub.com/wp-content/uploads/2023/08/MARS002.png
END:VEVENT
BEGIN:VEVENT
DTSTART;TZID=America/New_York:20230926T153000
DTEND;TZID=America/New_York:20230926T173000
DTSTAMP:20260421T100213
CREATED:20230620T163626Z
LAST-MODIFIED:20230620T163626Z
UID:15758-1695742200-1695749400@wolfcreektrackclub.com
SUMMARY:New Brighton XC Meet
DESCRIPTION:
URL:https://wolfcreektrackclub.com/event/new-brighton-xc-meet-3/
LOCATION:Brush Creek Park\, Route 588\, Beaver Falls\, PA\, 15010\, United States
ATTACH;FMTTYPE=image/png:https://wolfcreektrackclub.com/wp-content/uploads/2022/08/nbxc.png
END:VEVENT
BEGIN:VEVENT
DTSTART;TZID=America/New_York:20230925T044500
DTEND;TZID=America/New_York:20230925T180000
DTSTAMP:20260421T100213
CREATED:20230918T200320Z
LAST-MODIFIED:20230918T200320Z
UID:16376-1695617100-1695664800@wolfcreektrackclub.com
SUMMARY:St. Kilian XC Invitational
DESCRIPTION:
URL:https://wolfcreektrackclub.com/event/st-kilian-xc-invitational/
LOCATION:North Boundary Park\, 1171 N Boundary Rd\, Cranberry Township\, PA\, 16066\, United States
ATTACH;FMTTYPE=image/png:https://wolfcreektrackclub.com/wp-content/uploads/2022/08/st-kilian.png
END:VEVENT
BEGIN:VEVENT
DTSTART;TZID=America/New_York:20230924T140000
DTEND;TZID=America/New_York:20230924T163000
DTSTAMP:20260421T100213
CREATED:20230309T153004Z
LAST-MODIFIED:20230309T153004Z
UID:14837-1695564000-1695573000@wolfcreektrackclub.com
SUMMARY:Diocese of Greensburg XC Invitational
DESCRIPTION:
URL:https://wolfcreektrackclub.com/event/diocese-of-greensburg-xc-invitational-2/
LOCATION:Elbert N. Kunkle Park\, 285 Pine Run Church Road\, Apollo\, PA\, 15613\, United States
ATTACH;FMTTYPE=image/png:https://wolfcreektrackclub.com/wp-content/uploads/2022/06/diocgreen-1.png
END:VEVENT
BEGIN:VEVENT
DTSTART;TZID=America/New_York:20230923T090000
DTEND;TZID=America/New_York:20230923T150000
DTSTAMP:20260421T100213
CREATED:20230725T150439Z
LAST-MODIFIED:20230725T150439Z
UID:15871-1695459600-1695481200@wolfcreektrackclub.com
SUMMARY:Wild & Wet Invitational
DESCRIPTION:
URL:https://wolfcreektrackclub.com/event/wild-wet-invitational-2/
LOCATION:Cameron High School\, 2012 Blue and Gold Rd\, Cameron\, WV\, 26033\, United States
ATTACH;FMTTYPE=image/png:https://wolfcreektrackclub.com/wp-content/uploads/2022/08/wildwet.png
END:VEVENT
BEGIN:VEVENT
DTSTART;TZID=America/New_York:20230923T083000
DTEND;TZID=America/New_York:20230923T113000
DTSTAMP:20260421T100213
CREATED:20230310T215600Z
LAST-MODIFIED:20230310T215600Z
UID:14873-1695457800-1695468600@wolfcreektrackclub.com
SUMMARY:Suzanne Kresser Memorial 5k
DESCRIPTION:
URL:https://wolfcreektrackclub.com/event/suzanne-kresser-memorial-5k-2/
LOCATION:Jim Wood Park\, 220 Canterbury Blvd\, Steubenville\, OH\, 43952\, United States
ATTACH;FMTTYPE=image/png:https://wolfcreektrackclub.com/wp-content/uploads/2022/07/kresser.png
END:VEVENT
BEGIN:VEVENT
DTSTART;TZID=America/New_York:20230921T153000
DTEND;TZID=America/New_York:20230921T173000
DTSTAMP:20260421T100213
CREATED:20230817T140733Z
LAST-MODIFIED:20230817T140733Z
UID:16066-1695310200-1695317400@wolfcreektrackclub.com
SUMMARY:Fox Chapel @ Mars MS XC Meet
DESCRIPTION:
URL:https://wolfcreektrackclub.com/event/fox-chapel-mars-ms-xc-meet/
LOCATION:Mars Athletic Complex\, 1775 Three Degree Road\, Mars\, PA\, 16046\, United States
ATTACH;FMTTYPE=image/png:https://wolfcreektrackclub.com/wp-content/uploads/2023/08/MARS004.png
END:VEVENT
BEGIN:VEVENT
DTSTART;TZID=America/New_York:20230920T160000
DTEND;TZID=America/New_York:20230920T180000
DTSTAMP:20260421T100213
CREATED:20230808T213635Z
LAST-MODIFIED:20230808T213635Z
UID:15964-1695225600-1695232800@wolfcreektrackclub.com
SUMMARY:Pine-Richland @ Seneca Valley MS XC Meet
DESCRIPTION:
URL:https://wolfcreektrackclub.com/event/pine-richland-seneca-valley-ms-xc-meet/
LOCATION:Seneca Valley High School\, 128 Seneca School Road\, Harmony\, PA\, 16037\, United States
ATTACH;FMTTYPE=image/png:https://wolfcreektrackclub.com/wp-content/uploads/2023/08/SV02.png
END:VEVENT
BEGIN:VEVENT
DTSTART;TZID=America/New_York:20230920T153000
DTEND;TZID=America/New_York:20230920T170000
DTSTAMP:20260421T100213
CREATED:20230726T154322Z
LAST-MODIFIED:20230726T154322Z
UID:15879-1695223800-1695229200@wolfcreektrackclub.com
SUMMARY:Avonworth @ Hampton MS XC Meet
DESCRIPTION:
URL:https://wolfcreektrackclub.com/event/avonworth-hampton-ms-xc-meet/
LOCATION:Hartwood Acres Park\, 4000 Middle Rd\, Allison Park\, PA\, 15101\, United States
ATTACH;FMTTYPE=image/png:https://wolfcreektrackclub.com/wp-content/uploads/2023/07/HAMPTON01.png
END:VEVENT
BEGIN:VEVENT
DTSTART;TZID=America/New_York:20230919T153000
DTEND;TZID=America/New_York:20230919T173000
DTSTAMP:20260421T100213
CREATED:20230810T133519Z
LAST-MODIFIED:20230810T133519Z
UID:15989-1695137400-1695144600@wolfcreektrackclub.com
SUMMARY:Freeport\, North Catholic & Riverview @ Hampton HS XC Meet
DESCRIPTION:
URL:https://wolfcreektrackclub.com/event/freeport-north-catholic-riverview-hampton-hs-xc-meet/
LOCATION:Hartwood Acres Park\, 4000 Middle Rd\, Allison Park\, PA\, 15101\, United States
ATTACH;FMTTYPE=image/png:https://wolfcreektrackclub.com/wp-content/uploads/2023/08/HAMP001.png
END:VEVENT
BEGIN:VEVENT
DTSTART;TZID=America/New_York:20230919T153000
DTEND;TZID=America/New_York:20230919T170000
DTSTAMP:20260421T100213
CREATED:20230810T141621Z
LAST-MODIFIED:20230810T141621Z
UID:16004-1695137400-1695142800@wolfcreektrackclub.com
SUMMARY:North Allegheny @ Central Catholic HS XC Meet
DESCRIPTION:
URL:https://wolfcreektrackclub.com/event/north-allegheny-central-catholic-hs-xc-meet/
LOCATION:Schenley Park\, 1 Overlook Dr\, Pittsburgh\, PA\, 15217\, United States
ATTACH;FMTTYPE=image/png:https://wolfcreektrackclub.com/wp-content/uploads/2023/08/CC01.png
END:VEVENT
BEGIN:VEVENT
DTSTART;TZID=America/New_York:20230917T140000
DTEND;TZID=America/New_York:20230917T170000
DTSTAMP:20260421T100213
CREATED:20230810T134854Z
LAST-MODIFIED:20230810T134854Z
UID:15994-1694959200-1694970000@wolfcreektrackclub.com
SUMMARY:Diocese of Greensburg XC Invitational
DESCRIPTION:
URL:https://wolfcreektrackclub.com/event/diocese-of-greensburg-xc-invitational-4/
LOCATION:Greensburg Central Catholic High School\, 911 Armory Dr\, Greensburg\, PA\, 15601\, United States
ATTACH;FMTTYPE=image/png:https://wolfcreektrackclub.com/wp-content/uploads/2022/06/diocgreen-1.png
END:VEVENT
BEGIN:VEVENT
DTSTART;TZID=America/New_York:20230916T100000
DTEND;TZID=America/New_York:20230916T110000
DTSTAMP:20260421T100213
CREATED:20230620T134553Z
LAST-MODIFIED:20230620T134553Z
UID:15752-1694858400-1694862000@wolfcreektrackclub.com
SUMMARY:FlyBy 5k & 2 Mile Fun Run
DESCRIPTION:
URL:https://wolfcreektrackclub.com/event/flyby-5k-2-mile-fun-run/
LOCATION:Pittsburgh International Airport\, 100 Airside Drive\, Moon Township\, PA\, 15108\, United States
ATTACH;FMTTYPE=image/png:https://wolfcreektrackclub.com/wp-content/uploads/2023/06/flyby.png
END:VEVENT
BEGIN:VEVENT
DTSTART;TZID=America/New_York:20230916T094500
DTEND;TZID=America/New_York:20230916T113000
DTSTAMP:20260421T100213
CREATED:20230818T170004Z
LAST-MODIFIED:20230818T170004Z
UID:16078-1694857500-1694863800@wolfcreektrackclub.com
SUMMARY:RMU XC Invitational
DESCRIPTION:
URL:https://wolfcreektrackclub.com/event/rmu-xc-invitational/
LOCATION:Youthtowne\, 150 Youthtowne Drive\, Clinton\, PA\, 15026\, United States
ATTACH;FMTTYPE=image/png:https://wolfcreektrackclub.com/wp-content/uploads/2022/09/rmu.png
END:VEVENT
BEGIN:VEVENT
DTSTART;TZID=America/New_York:20230916T090000
DTEND;TZID=America/New_York:20230916T120000
DTSTAMP:20260421T100213
CREATED:20230721T191709Z
LAST-MODIFIED:20230721T191709Z
UID:15859-1694854800-1694865600@wolfcreektrackclub.com
SUMMARY:Scottdale Fall Festival 5k/10k
DESCRIPTION:
URL:https://wolfcreektrackclub.com/event/scottdale-fall-festival-5k-10k-2/
LOCATION:Scottdale Fall Festival\, 151 Pittsburgh St\, Scottdale\, PA\, 15683\, United States
ATTACH;FMTTYPE=image/png:https://wolfcreektrackclub.com/wp-content/uploads/2023/07/scottd.png
END:VEVENT
BEGIN:VEVENT
DTSTART;TZID=America/New_York:20230915T163000
DTEND;TZID=America/New_York:20230915T190000
DTSTAMP:20260421T100213
CREATED:20230810T135138Z
LAST-MODIFIED:20230810T135138Z
UID:15996-1694795400-1694804400@wolfcreektrackclub.com
SUMMARY:Saints Peter & Paul XC Invitational
DESCRIPTION:
URL:https://wolfcreektrackclub.com/event/saints-peter-paul-xc-invitational/
LOCATION:Brady’s Run Park\, 121 Bradys Run Rd\, Beaver Falls\, PA\, 15010\, United States
ATTACH;FMTTYPE=image/png:https://wolfcreektrackclub.com/wp-content/uploads/2022/08/sspp.png
END:VEVENT
BEGIN:VEVENT
DTSTART;TZID=America/New_York:20230913T160000
DTEND;TZID=America/New_York:20230913T180000
DTSTAMP:20260421T100213
CREATED:20230907T145213Z
LAST-MODIFIED:20230907T145213Z
UID:16250-1694620800-1694628000@wolfcreektrackclub.com
SUMMARY:Hampton @ Avonworth HS XC Meet
DESCRIPTION:
URL:https://wolfcreektrackclub.com/event/hampton-avonworth-hs-xc-meet/
LOCATION:Ohio Township Park\, 325 Nicholson Rd\, Sewickley\, PA\, 15143\, United States
ATTACH;FMTTYPE=image/png:https://wolfcreektrackclub.com/wp-content/uploads/2023/09/AVON02.png
END:VEVENT
BEGIN:VEVENT
DTSTART;TZID=America/New_York:20230913T160000
DTEND;TZID=America/New_York:20230913T180000
DTSTAMP:20260421T100213
CREATED:20230808T222601Z
LAST-MODIFIED:20230808T222601Z
UID:15967-1694620800-1694628000@wolfcreektrackclub.com
SUMMARY:Mars & Hampton @ Seneca Valley MS XC Meet
DESCRIPTION:
URL:https://wolfcreektrackclub.com/event/mars-hampton-seneca-valley-ms-xc-meet/
LOCATION:Seneca Valley High School\, 128 Seneca School Road\, Harmony\, PA\, 16037\, United States
ATTACH;FMTTYPE=image/png:https://wolfcreektrackclub.com/wp-content/uploads/2023/08/SV03.png
END:VEVENT
BEGIN:VEVENT
DTSTART;TZID=America/New_York:20230913T160000
DTEND;TZID=America/New_York:20230913T173000
DTSTAMP:20260421T100213
CREATED:20230814T202007Z
LAST-MODIFIED:20230814T202007Z
UID:16056-1694620800-1694626200@wolfcreektrackclub.com
SUMMARY:North Allegheny @ North Hills MS XC Meet
DESCRIPTION:
URL:https://wolfcreektrackclub.com/event/north-allegheny-north-hills-ms-xc-meet/
LOCATION:Pie Traynor Field\, S Ridge Dr\, Allison Park\, PA\, 15101\, United States
ATTACH;FMTTYPE=image/png:https://wolfcreektrackclub.com/wp-content/uploads/2023/08/NH001-1.png
END:VEVENT
BEGIN:VEVENT
DTSTART;TZID=America/New_York:20230912T160000
DTEND;TZID=America/New_York:20230912T180000
DTSTAMP:20260421T100213
CREATED:20230810T195333Z
LAST-MODIFIED:20230810T195333Z
UID:16013-1694534400-1694541600@wolfcreektrackclub.com
SUMMARY:Central Catholic\, Oakland Catholic & Shaler @ North Hills HS XC Meet
DESCRIPTION:
URL:https://wolfcreektrackclub.com/event/central-catholic-oakland-catholic-shaler-north-hills-hs-xc-meet/
LOCATION:Pie Traynor Field\, S Ridge Dr\, Allison Park\, PA\, 15101\, United States
ATTACH;FMTTYPE=image/png:https://wolfcreektrackclub.com/wp-content/uploads/2023/08/NH001.png
END:VEVENT
BEGIN:VEVENT
DTSTART;TZID=America/New_York:20230912T153000
DTEND;TZID=America/New_York:20230912T180000
DTSTAMP:20260421T100213
CREATED:20230809T015100Z
LAST-MODIFIED:20230809T015100Z
UID:15970-1694532600-1694541600@wolfcreektrackclub.com
SUMMARY:North Allegheny @ Mars HS XC Meet
DESCRIPTION:
URL:https://wolfcreektrackclub.com/event/north-allegheny-mars-hs-xc-meet/
LOCATION:Adams Township Park\, Mars\, PA\, United States
ATTACH;FMTTYPE=image/png:https://wolfcreektrackclub.com/wp-content/uploads/2023/08/mars01.png
END:VEVENT
BEGIN:VEVENT
DTSTART;TZID=America/New_York:20230912T153000
DTEND;TZID=America/New_York:20230912T173000
DTSTAMP:20260421T100213
CREATED:20230821T145524Z
LAST-MODIFIED:20230821T145524Z
UID:16108-1694532600-1694539800@wolfcreektrackclub.com
SUMMARY:Deer Lakes\, Knoch\, Riverview & SSA @ North Catholic HS XC Meet
DESCRIPTION:
URL:https://wolfcreektrackclub.com/event/deer-lakes-knoch-riverview-ssa-north-catholic-hs-xc-meet/
LOCATION:Eden Hall\, 6035 Ridge Road\, Richland Township\, PA\, 15044\, United States
ATTACH;FMTTYPE=image/png:https://wolfcreektrackclub.com/wp-content/uploads/2023/08/NCATHOLIC2.png
END:VEVENT
BEGIN:VEVENT
DTSTART;TZID=America/New_York:20230912T153000
DTEND;TZID=America/New_York:20230912T170000
DTSTAMP:20260421T100213
CREATED:20230620T161001Z
LAST-MODIFIED:20230620T161001Z
UID:15756-1694532600-1694538000@wolfcreektrackclub.com
SUMMARY:New Brighton XC Meet
DESCRIPTION:
URL:https://wolfcreektrackclub.com/event/new-brighton-xc-meet-2/
LOCATION:Brush Creek Park\, Route 588\, Beaver Falls\, PA\, 15010\, United States
ATTACH;FMTTYPE=image/png:https://wolfcreektrackclub.com/wp-content/uploads/2022/08/nbxc.png
END:VEVENT
BEGIN:VEVENT
DTSTART;TZID=America/New_York:20230910T140000
DTEND;TZID=America/New_York:20230910T163000
DTSTAMP:20260421T100213
CREATED:20230309T150914Z
LAST-MODIFIED:20230309T150914Z
UID:14835-1694354400-1694363400@wolfcreektrackclub.com
SUMMARY:Diocese of Greensburg XC Invitational
DESCRIPTION:
URL:https://wolfcreektrackclub.com/event/diocese-of-greensburg-xc-invitational/
LOCATION:Geibel Catholic High School\, 611 E Crawford Ave\, Connellsville\, PA\, 15425\, United States
ATTACH;FMTTYPE=image/png:https://wolfcreektrackclub.com/wp-content/uploads/2022/06/diocgreen-1.png
END:VEVENT
BEGIN:VEVENT
DTSTART;TZID=America/New_York:20230909T073000
DTEND;TZID=America/New_York:20230909T143000
DTSTAMP:20260421T100213
CREATED:20230807T154406Z
LAST-MODIFIED:20230807T154406Z
UID:15932-1694244600-1694269800@wolfcreektrackclub.com
SUMMARY:Duquesne University Invitational/Beaver County Tri Cup
DESCRIPTION:
URL:https://wolfcreektrackclub.com/event/duquesne-university-invitational-beaver-county-tri-cup/
LOCATION:Brady’s Run Park\, 121 Bradys Run Rd\, Beaver Falls\, PA\, 15010\, United States
ATTACH;FMTTYPE=image/png:https://wolfcreektrackclub.com/wp-content/uploads/2023/08/beavercountytricup.png
END:VEVENT
BEGIN:VEVENT
DTSTART;TZID=America/New_York:20230907T160000
DTEND;TZID=America/New_York:20230907T173000
DTSTAMP:20260421T100213
CREATED:20230815T131741Z
LAST-MODIFIED:20230815T131741Z
UID:16059-1694102400-1694107800@wolfcreektrackclub.com
SUMMARY:Fox Chapel @ North Hills MS XC Meet
DESCRIPTION:
URL:https://wolfcreektrackclub.com/event/fox-chapel-north-hills-ms-xc-meet/
LOCATION:Pie Traynor Field\, S Ridge Dr\, Allison Park\, PA\, 15101\, United States
ATTACH;FMTTYPE=image/png:https://wolfcreektrackclub.com/wp-content/uploads/2023/08/NH002.png
END:VEVENT
BEGIN:VEVENT
DTSTART;TZID=America/New_York:20230906T160000
DTEND;TZID=America/New_York:20230906T173000
DTSTAMP:20260421T100213
CREATED:20230725T151907Z
LAST-MODIFIED:20230725T151907Z
UID:15873-1694016000-1694021400@wolfcreektrackclub.com
SUMMARY:Avonworth @ North Hills High School XC Meet
DESCRIPTION:
URL:https://wolfcreektrackclub.com/event/avonworth-north-hills-high-school-xc-meet/
LOCATION:Pie Traynor Field\, S Ridge Dr\, Allison Park\, PA\, 15101\, United States
ATTACH;FMTTYPE=image/png:https://wolfcreektrackclub.com/wp-content/uploads/2023/07/nh01.png
END:VEVENT
END:VCALENDAR