BEGIN:VCALENDAR
VERSION:2.0
PRODID:-//Wolf Creek Race Management - ECPv6.15.20//NONSGML v1.0//EN
CALSCALE:GREGORIAN
METHOD:PUBLISH
X-WR-CALNAME:Wolf Creek Race Management
X-ORIGINAL-URL:https://wolfcreektrackclub.com
X-WR-CALDESC:Events for Wolf Creek Race Management
REFRESH-INTERVAL;VALUE=DURATION:PT1H
X-Robots-Tag:noindex
X-PUBLISHED-TTL:PT1H
BEGIN:VTIMEZONE
TZID:America/New_York
BEGIN:DAYLIGHT
TZOFFSETFROM:-0500
TZOFFSETTO:-0400
TZNAME:EDT
DTSTART:20240310T070000
END:DAYLIGHT
BEGIN:STANDARD
TZOFFSETFROM:-0400
TZOFFSETTO:-0500
TZNAME:EST
DTSTART:20241103T060000
END:STANDARD
BEGIN:DAYLIGHT
TZOFFSETFROM:-0500
TZOFFSETTO:-0400
TZNAME:EDT
DTSTART:20250309T070000
END:DAYLIGHT
BEGIN:STANDARD
TZOFFSETFROM:-0400
TZOFFSETTO:-0500
TZNAME:EST
DTSTART:20251102T060000
END:STANDARD
BEGIN:DAYLIGHT
TZOFFSETFROM:-0500
TZOFFSETTO:-0400
TZNAME:EDT
DTSTART:20260308T070000
END:DAYLIGHT
BEGIN:STANDARD
TZOFFSETFROM:-0400
TZOFFSETTO:-0500
TZNAME:EST
DTSTART:20261101T060000
END:STANDARD
END:VTIMEZONE
BEGIN:VEVENT
DTSTART;TZID=America/New_York:20250621T083000
DTEND;TZID=America/New_York:20250621T170000
DTSTAMP:20260421T093458
CREATED:20250605T132345Z
LAST-MODIFIED:20250605T132345Z
UID:21381-1750494600-1750525200@wolfcreektrackclub.com
SUMMARY:Steel Valley Nitro Invitational
DESCRIPTION:
URL:https://wolfcreektrackclub.com/event/steel-valley-nitro-invitational-3/
LOCATION:Westminster College\, 2-58 Boathouse Ln\, New Wilmington\, PA\, 16142\, United States
ATTACH;FMTTYPE=image/png:https://wolfcreektrackclub.com/wp-content/uploads/2024/05/aau4.png
END:VEVENT
BEGIN:VEVENT
DTSTART;TZID=America/New_York:20250628T060000
DTEND;TZID=America/New_York:20250628T200000
DTSTAMP:20260421T093458
CREATED:20250210T171423Z
LAST-MODIFIED:20250210T171423Z
UID:20263-1751090400-1751140800@wolfcreektrackclub.com
SUMMARY:Hell Hath No Hurry
DESCRIPTION:
URL:https://wolfcreektrackclub.com/event/hell-hath-no-hurry-4/
LOCATION:Settler’s Cabin Park\, 608 Ridge Road\, Pittsburgh\, PA\, 15205\, United States
ATTACH;FMTTYPE=image/png:https://wolfcreektrackclub.com/wp-content/uploads/2022/01/hhnh.png
END:VEVENT
BEGIN:VEVENT
DTSTART;TZID=America/New_York:20250628T090000
DTEND;TZID=America/New_York:20250628T160000
DTSTAMP:20260421T093458
CREATED:20250605T135640Z
LAST-MODIFIED:20250605T135640Z
UID:21385-1751101200-1751126400@wolfcreektrackclub.com
SUMMARY:Showcase T&F Meet#1
DESCRIPTION:
URL:https://wolfcreektrackclub.com/event/showcase-tf-meet1/
LOCATION:Gus Anderson Field\, 3580 Caughey Rd\, Erie\, PA\, 16506\, United States
ATTACH;FMTTYPE=image/png:https://wolfcreektrackclub.com/wp-content/uploads/2024/05/Showcase1.png
END:VEVENT
BEGIN:VEVENT
DTSTART;TZID=America/New_York:20250628T093000
DTEND;TZID=America/New_York:20250628T110000
DTSTAMP:20260421T093458
CREATED:20250626T130659Z
LAST-MODIFIED:20250626T130659Z
UID:21475-1751103000-1751108400@wolfcreektrackclub.com
SUMMARY:Renee's Run
DESCRIPTION:
URL:https://wolfcreektrackclub.com/event/renees-run/
LOCATION:Ewing Park\, 807 Joffre St\, Ellwood City\, PA\, 16117\, United States
ATTACH;FMTTYPE=image/jpeg:https://wolfcreektrackclub.com/wp-content/uploads/2025/06/Screenshot_26-6-2025_9522_docs.google.com_.jpeg
END:VEVENT
BEGIN:VEVENT
DTSTART;TZID=America/New_York:20250704T090000
DTEND;TZID=America/New_York:20250704T103000
DTSTAMP:20260421T093458
CREATED:20250605T132105Z
LAST-MODIFIED:20250605T132105Z
UID:21379-1751619600-1751625000@wolfcreektrackclub.com
SUMMARY:Freedom Run 5k
DESCRIPTION:
URL:https://wolfcreektrackclub.com/event/freedom-run-5k-3/
LOCATION:World’s Largest Teapot\, 817 Carolina Ave\, Chester\, WV\, 26034\, United States
ATTACH;FMTTYPE=image/png:https://wolfcreektrackclub.com/wp-content/uploads/2022/06/freedom.png
END:VEVENT
BEGIN:VEVENT
DTSTART;TZID=America/New_York:20250709T173000
DTEND;TZID=America/New_York:20250709T200000
DTSTAMP:20260421T093458
CREATED:20250701T154811Z
LAST-MODIFIED:20250701T154811Z
UID:21624-1752082200-1752091200@wolfcreektrackclub.com
SUMMARY:Ohio Speed Demons Mini Meet
DESCRIPTION:
URL:https://wolfcreektrackclub.com/event/ohio-speed-demons-mini-meet/
LOCATION:Westlake High School\, 27830 Hilliard Blvd\, Westlake\, OH\, United States
ATTACH;FMTTYPE=image/jpeg:https://wolfcreektrackclub.com/wp-content/uploads/2025/07/unnamed.jpg
END:VEVENT
BEGIN:VEVENT
DTSTART;TZID=America/New_York:20250712T073000
DTEND;TZID=America/New_York:20250712T100000
DTSTAMP:20260421T093458
CREATED:20250626T124910Z
LAST-MODIFIED:20250626T124910Z
UID:21464-1752305400-1752314400@wolfcreektrackclub.com
SUMMARY:Cranberry Chase 5k
DESCRIPTION:
URL:https://wolfcreektrackclub.com/event/cranberry-chase-5k/
LOCATION:Cranberry Community Park\, 511 Ernie Mashuda Drive\, Cranberry Township\, PA\, 16066\, United States
ATTACH;FMTTYPE=image/png:https://wolfcreektrackclub.com/wp-content/uploads/2025/06/genericImage-websiteLogo-245838-1737053456.7373-0.bNIvuq.png
END:VEVENT
BEGIN:VEVENT
DTSTART;TZID=America/New_York:20250712T080000
DTEND;TZID=America/New_York:20250712T103000
DTSTAMP:20260421T093458
CREATED:20250626T130019Z
LAST-MODIFIED:20250626T130019Z
UID:21472-1752307200-1752316200@wolfcreektrackclub.com
SUMMARY:Townville Old Home Days 5k
DESCRIPTION:
URL:https://wolfcreektrackclub.com/event/townville-old-home-days-5k-2/
LOCATION:Maplewood Elementary School\, 32695 PA 408\, Townville\, PA\, 16360\, United States
ATTACH;FMTTYPE=image/png:https://wolfcreektrackclub.com/wp-content/uploads/2025/06/townville.png
END:VEVENT
BEGIN:VEVENT
DTSTART;TZID=America/New_York:20250712T083000
DTEND;TZID=America/New_York:20250712T163000
DTSTAMP:20260421T093458
CREATED:20250626T124502Z
LAST-MODIFIED:20250708T151426Z
UID:21460-1752309000-1752337800@wolfcreektrackclub.com
SUMMARY:Lake Erie Invitational
DESCRIPTION:
URL:https://wolfcreektrackclub.com/event/lakeerie/
LOCATION:Independence High School\, 6001 Archwood Rd\, Independence\, OH\, 44131\, United States
ATTACH;FMTTYPE=image/jpeg:https://wolfcreektrackclub.com/wp-content/uploads/2025/06/AAU-Logo.jpg
END:VEVENT
BEGIN:VEVENT
DTSTART;TZID=America/New_York:20250712T090000
DTEND;TZID=America/New_York:20250712T110000
DTSTAMP:20260421T093458
CREATED:20250626T123632Z
LAST-MODIFIED:20250626T123947Z
UID:21457-1752310800-1752318000@wolfcreektrackclub.com
SUMMARY:O'Neal Memorial Cherry Festival 5k Run/Walk
DESCRIPTION:
URL:https://wolfcreektrackclub.com/event/oneal-memorial-cherry-festival-5k-run-walk-2/
LOCATION:Gibson Park\, Gibson St\, North East\, PA\, 16428\, United States
ATTACH;FMTTYPE=image/jpeg:https://wolfcreektrackclub.com/wp-content/uploads/2025/06/cherry-fest.jpg
END:VEVENT
BEGIN:VEVENT
DTSTART;TZID=America/New_York:20250712T090000
DTEND;TZID=America/New_York:20250712T120000
DTSTAMP:20260421T093458
CREATED:20250626T125718Z
LAST-MODIFIED:20250626T125718Z
UID:21470-1752310800-1752321600@wolfcreektrackclub.com
SUMMARY:Reece Round-Up East Coast
DESCRIPTION:
URL:https://wolfcreektrackclub.com/event/reece-round-up-east-coast/
LOCATION:Irvine Park\, 799 Corporations St.\, Beaver\, PA\, 15009\, United States
END:VEVENT
BEGIN:VEVENT
DTSTART;TZID=America/New_York:20250712T093000
DTEND;TZID=America/New_York:20250712T153000
DTSTAMP:20260421T093458
CREATED:20250605T135859Z
LAST-MODIFIED:20250605T135859Z
UID:21387-1752312600-1752334200@wolfcreektrackclub.com
SUMMARY:Summer Showcase T&F Meet #2
DESCRIPTION:
URL:https://wolfcreektrackclub.com/event/summer-showcase-tf-meet-2/
LOCATION:Gus Anderson Field\, 3580 Caughey Rd\, Erie\, PA\, 16506\, United States
ATTACH;FMTTYPE=image/png:https://wolfcreektrackclub.com/wp-content/uploads/2024/05/Showcase1.png
END:VEVENT
BEGIN:VEVENT
DTSTART;TZID=America/New_York:20250713T073000
DTEND;TZID=America/New_York:20250713T093000
DTSTAMP:20260421T093458
CREATED:20250210T171107Z
LAST-MODIFIED:20250210T171107Z
UID:20261-1752391800-1752399000@wolfcreektrackclub.com
SUMMARY:Trail Blazer 15k & 5k
DESCRIPTION:
URL:https://wolfcreektrackclub.com/event/trail-blazer-15k-5k/
LOCATION:Ernst Conservation Seed\, 8884 Mercer Pike\, Meadville\, PA\, 16335\, United States
ATTACH;FMTTYPE=image/png:https://wolfcreektrackclub.com/wp-content/uploads/2024/05/TB15k.png
END:VEVENT
BEGIN:VEVENT
DTSTART;TZID=America/New_York:20250719T083000
DTEND;TZID=America/New_York:20250719T170000
DTSTAMP:20260421T093458
CREATED:20250605T132620Z
LAST-MODIFIED:20250626T124110Z
UID:21383-1752913800-1752944400@wolfcreektrackclub.com
SUMMARY:Bedford Sprint Masters Invitational
DESCRIPTION:
URL:https://wolfcreektrackclub.com/event/bedford-sprint-masters-invitational/
LOCATION:Bedford High School\, 481 Northfield Rd\, Bedford\, OH\, 44146\, United States
ATTACH;FMTTYPE=image/png:https://wolfcreektrackclub.com/wp-content/uploads/2024/06/AAU5.png
END:VEVENT
BEGIN:VEVENT
DTSTART;TZID=America/New_York:20250719T090000
DTEND;TZID=America/New_York:20250719T130000
DTSTAMP:20260421T093458
CREATED:20250714T133527Z
LAST-MODIFIED:20250714T133527Z
UID:21724-1752915600-1752930000@wolfcreektrackclub.com
SUMMARY:Elyria Youth Track Club Summer Games Mini Meet
DESCRIPTION:
URL:https://wolfcreektrackclub.com/event/elyria-youth-track-club-summer-games-mini-meet/
LOCATION:Ely Stadium\, 1915 Middle Ave\, Elyria\, OH\, United States
ATTACH;FMTTYPE=image/png:https://wolfcreektrackclub.com/wp-content/uploads/2025/07/elyria.png
END:VEVENT
BEGIN:VEVENT
DTSTART;TZID=America/New_York:20250726T080000
DTEND;TZID=America/New_York:20250726T120000
DTSTAMP:20260421T093458
CREATED:20250626T125320Z
LAST-MODIFIED:20250626T125320Z
UID:21467-1753516800-1753531200@wolfcreektrackclub.com
SUMMARY:Kids of STEEL Track Day presented by Brooks Future Run
DESCRIPTION:
URL:https://wolfcreektrackclub.com/event/kids-of-steel-track-day-presented-by-brooks-future-run/
LOCATION:RMU Island Sports Center\, 7600 Grand Ave\, Pittsburgh\, PA\, 15225\, United States
ATTACH;FMTTYPE=image/png:https://wolfcreektrackclub.com/wp-content/uploads/2025/06/3m2q6n99mhsw2q2y._original.png
END:VEVENT
BEGIN:VEVENT
DTSTART;TZID=America/New_York:20250726T093000
DTEND;TZID=America/New_York:20250726T153000
DTSTAMP:20260421T093458
CREATED:20250605T140227Z
LAST-MODIFIED:20250605T140227Z
UID:21389-1753522200-1753543800@wolfcreektrackclub.com
SUMMARY:Summer Showcase T&F Meet #3
DESCRIPTION:
URL:https://wolfcreektrackclub.com/event/summer-showcase-tf-meet-3/
LOCATION:Gus Anderson Field\, 3580 Caughey Rd\, Erie\, PA\, 16506\, United States
ATTACH;FMTTYPE=image/png:https://wolfcreektrackclub.com/wp-content/uploads/2024/05/Showcase1.png
END:VEVENT
BEGIN:VEVENT
DTSTART;TZID=America/New_York:20250726T190000
DTEND;TZID=America/New_York:20250727T140000
DTSTAMP:20260421T093458
CREATED:20250626T131255Z
LAST-MODIFIED:20250626T131337Z
UID:21478-1753556400-1753624800@wolfcreektrackclub.com
SUMMARY:Kinzua Half Marathon & 5k
DESCRIPTION:
URL:https://wolfcreektrackclub.com/event/21478/
LOCATION:Knox & Kane Rail Trail\, Center St\, Mt Jewett\, PA\, 16740\, United States
ATTACH;FMTTYPE=image/png:https://wolfcreektrackclub.com/wp-content/uploads/2024/02/Kinzua-Blog-Cover-2024.png
ORGANIZER;CN="Wolf Creek Race Management":MAILTO:info@wolfcreektrackclub.com
END:VEVENT
BEGIN:VEVENT
DTSTART;TZID=America/New_York:20250804T080000
DTEND;TZID=America/New_York:20250807T120000
DTSTAMP:20260421T093458
CREATED:20250710T234206Z
LAST-MODIFIED:20250710T234206Z
UID:21715-1754294400-1754568000@wolfcreektrackclub.com
SUMMARY:JCC Maccabi Games Track & Field
DESCRIPTION:
URL:https://wolfcreektrackclub.com/event/jcc-maccabi-games-track-field/
LOCATION:Shady Side Academy\, 423 Fox Chapel Road\, Pittsburgh\, PA\, 15238\, United States
ATTACH;FMTTYPE=image/png:https://wolfcreektrackclub.com/wp-content/uploads/2025/07/Burton-Morris-JUNE-UPDATE.png
END:VEVENT
BEGIN:VEVENT
DTSTART;TZID=America/New_York:20250809T090000
DTEND;TZID=America/New_York:20250809T170000
DTSTAMP:20260421T093458
CREATED:20250626T132046Z
LAST-MODIFIED:20250626T132046Z
UID:21481-1754730000-1754758800@wolfcreektrackclub.com
SUMMARY:Alina's Light Walk\, Run & Family Fun
DESCRIPTION:
URL:https://wolfcreektrackclub.com/event/alinas-light-walk-run-family-fun/
LOCATION:Settler’s Cabin Park\, 608 Ridge Road\, Pittsburgh\, PA\, 15205\, United States
ATTACH;FMTTYPE=image/png:https://wolfcreektrackclub.com/wp-content/uploads/2022/06/alina.png
END:VEVENT
BEGIN:VEVENT
DTSTART;TZID=America/New_York:20250809T093000
DTEND;TZID=America/New_York:20250809T153000
DTSTAMP:20260421T093458
CREATED:20250605T140805Z
LAST-MODIFIED:20250605T140805Z
UID:21391-1754731800-1754753400@wolfcreektrackclub.com
SUMMARY:Summer Showcase T&F Championship
DESCRIPTION:
URL:https://wolfcreektrackclub.com/event/summer-showcase-tf-championship/
LOCATION:Gus Anderson Field\, 3580 Caughey Rd\, Erie\, PA\, 16506\, United States
ATTACH;FMTTYPE=image/png:https://wolfcreektrackclub.com/wp-content/uploads/2024/05/Showcase1.png
END:VEVENT
BEGIN:VEVENT
DTSTART;TZID=America/New_York:20250810T080000
DTEND;TZID=America/New_York:20250810T120000
DTSTAMP:20260421T093458
CREATED:20250626T164523Z
LAST-MODIFIED:20250626T164523Z
UID:21503-1754812800-1754827200@wolfcreektrackclub.com
SUMMARY:The Lake Loop
DESCRIPTION:
URL:https://wolfcreektrackclub.com/event/the-lake-loop-4/
LOCATION:North Park Boathouse\, 10301 Pearce Mill Road\, Allison Park\, PA\, 15101\, United States
ATTACH;FMTTYPE=image/png:https://wolfcreektrackclub.com/wp-content/uploads/2022/08/lake.png
END:VEVENT
BEGIN:VEVENT
DTSTART;TZID=America/New_York:20250810T090000
DTEND;TZID=America/New_York:20250810T113000
DTSTAMP:20260421T093458
CREATED:20250625T183518Z
LAST-MODIFIED:20250625T183518Z
UID:21454-1754816400-1754825400@wolfcreektrackclub.com
SUMMARY:Kinzua Bridge Challenge
DESCRIPTION:
URL:https://wolfcreektrackclub.com/event/kbc/
LOCATION:Knox & Kane Rail Trail\, Center St\, Mt Jewett\, PA\, 16740\, United States
ATTACH;FMTTYPE=image/png:https://wolfcreektrackclub.com/wp-content/uploads/2025/06/KBC.png
END:VEVENT
BEGIN:VEVENT
DTSTART;TZID=America/New_York:20250815T180000
DTEND;TZID=America/New_York:20250815T193000
DTSTAMP:20260421T093458
CREATED:20250625T182956Z
LAST-MODIFIED:20250625T182956Z
UID:21451-1755280800-1755286200@wolfcreektrackclub.com
SUMMARY:Côr Ministries 5k & 1 Mile Fun Run
DESCRIPTION:
URL:https://wolfcreektrackclub.com/event/cor-ministries-5k-1-mile-fun-run-2/
LOCATION:Pie Traynor Field\, S Ridge Dr\, Allison Park\, PA\, 15101\, United States
ATTACH;FMTTYPE=image/jpeg:https://wolfcreektrackclub.com/wp-content/uploads/2025/06/Banners-for-home-page-49-scaled.jpg
END:VEVENT
BEGIN:VEVENT
DTSTART;TZID=America/New_York:20250816T063000
DTEND;TZID=America/New_York:20250817T100000
DTSTAMP:20260421T093458
CREATED:20250630T161532Z
LAST-MODIFIED:20250630T161532Z
UID:21561-1755325800-1755424800@wolfcreektrackclub.com
SUMMARY:Mighty Moraine Fall Multi-Sport Festival
DESCRIPTION:
URL:https://wolfcreektrackclub.com/event/mighty-moraine-fall-multi-sport-festival-2/
LOCATION:Lakeview Beach\, North Shore Drive\, Portersville\, PA\, 16051\, United States
ATTACH;FMTTYPE=image/jpeg:https://wolfcreektrackclub.com/wp-content/uploads/2023/12/mmm01.jpg
END:VEVENT
BEGIN:VEVENT
DTSTART;TZID=America/New_York:20250816T080000
DTEND;TZID=America/New_York:20250816T120000
DTSTAMP:20260421T093458
CREATED:20250626T164117Z
LAST-MODIFIED:20250626T164117Z
UID:21500-1755331200-1755345600@wolfcreektrackclub.com
SUMMARY:Toys for Tigers
DESCRIPTION:
URL:https://wolfcreektrackclub.com/event/toys-for-tigers/
LOCATION:North Park Boathouse\, 10301 Pearce Mill Road\, Allison Park\, PA\, 15101\, United States
ATTACH;FMTTYPE=image/png:https://wolfcreektrackclub.com/wp-content/uploads/2025/06/na.png
END:VEVENT
BEGIN:VEVENT
DTSTART;TZID=America/New_York:20250816T080000
DTEND;TZID=America/New_York:20250817T170000
DTSTAMP:20260421T093458
CREATED:20250630T161825Z
LAST-MODIFIED:20250630T161825Z
UID:21563-1755331200-1755450000@wolfcreektrackclub.com
SUMMARY:Women's Decathlon World Championships
DESCRIPTION:
URL:https://wolfcreektrackclub.com/event/womens-decathlon-world-championships-2/
LOCATION:Spire Instiute\, 5201 Spire Cir\, Geneva\, OH\, 44041\, United States
ATTACH;FMTTYPE=image/jpeg:https://wolfcreektrackclub.com/wp-content/uploads/2025/06/raceBanner-XEdDaX61-bNHM1R-huge.jpg
END:VEVENT
BEGIN:VEVENT
DTSTART;TZID=America/New_York:20250817T090000
DTEND;TZID=America/New_York:20250817T103000
DTSTAMP:20260421T093458
CREATED:20250630T162032Z
LAST-MODIFIED:20250630T162032Z
UID:21566-1755421200-1755426600@wolfcreektrackclub.com
SUMMARY:Shawn Giles Memorial 5k Run/Walk
DESCRIPTION:
URL:https://wolfcreektrackclub.com/event/shawn-giles-memorial-5k-run-walk/
LOCATION:Gravel Pit Park\, 10300 W Main St\, North East\, PA\, 16428\, United States
END:VEVENT
BEGIN:VEVENT
DTSTART;TZID=America/New_York:20250820T153000
DTEND;TZID=America/New_York:20250820T170000
DTSTAMP:20260421T093458
CREATED:20250630T161022Z
LAST-MODIFIED:20250701T110134Z
UID:21557-1755703800-1755709200@wolfcreektrackclub.com
SUMMARY:Avonworth @ Burgettstown XC Meet
DESCRIPTION:
URL:https://wolfcreektrackclub.com/event/burgettstown-xc-meet-3/
LOCATION:Burgettstown Community Park\, Bavington Rd\, Burgettstown\, PA\, United States
ATTACH;FMTTYPE=image/jpeg:https://wolfcreektrackclub.com/wp-content/uploads/2025/06/btown.jpg
END:VEVENT
BEGIN:VEVENT
DTSTART;TZID=America/New_York:20250820T153000
DTEND;TZID=America/New_York:20250820T170000
DTSTAMP:20260421T093458
CREATED:20250701T135554Z
LAST-MODIFIED:20250701T135554Z
UID:21598-1755703800-1755709200@wolfcreektrackclub.com
SUMMARY:Fox Chapel & Mt. Lebanon @ Hampton HS XC Meet
DESCRIPTION:
URL:https://wolfcreektrackclub.com/event/fox-chapel-mt-lebanon-hampton-hs-xc-meet/
LOCATION:Hartwood Acres Park\, 4000 Middle Rd\, Allison Park\, PA\, 15101\, United States
ATTACH;FMTTYPE=image/png:https://wolfcreektrackclub.com/wp-content/uploads/2025/07/Hampton.png
END:VEVENT
END:VCALENDAR