BEGIN:VCALENDAR
VERSION:2.0
PRODID:-//Wolf Creek Race Management - ECPv6.15.20//NONSGML v1.0//EN
CALSCALE:GREGORIAN
METHOD:PUBLISH
X-WR-CALNAME:Wolf Creek Race Management
X-ORIGINAL-URL:https://wolfcreektrackclub.com
X-WR-CALDESC:Events for Wolf Creek Race Management
REFRESH-INTERVAL;VALUE=DURATION:PT1H
X-Robots-Tag:noindex
X-PUBLISHED-TTL:PT1H
BEGIN:VTIMEZONE
TZID:America/New_York
BEGIN:DAYLIGHT
TZOFFSETFROM:-0500
TZOFFSETTO:-0400
TZNAME:EDT
DTSTART:20220313T070000
END:DAYLIGHT
BEGIN:STANDARD
TZOFFSETFROM:-0400
TZOFFSETTO:-0500
TZNAME:EST
DTSTART:20221106T060000
END:STANDARD
BEGIN:DAYLIGHT
TZOFFSETFROM:-0500
TZOFFSETTO:-0400
TZNAME:EDT
DTSTART:20230312T070000
END:DAYLIGHT
BEGIN:STANDARD
TZOFFSETFROM:-0400
TZOFFSETTO:-0500
TZNAME:EST
DTSTART:20231105T060000
END:STANDARD
BEGIN:DAYLIGHT
TZOFFSETFROM:-0500
TZOFFSETTO:-0400
TZNAME:EDT
DTSTART:20240310T070000
END:DAYLIGHT
BEGIN:STANDARD
TZOFFSETFROM:-0400
TZOFFSETTO:-0500
TZNAME:EST
DTSTART:20241103T060000
END:STANDARD
END:VTIMEZONE
BEGIN:VEVENT
DTSTART;TZID=America/New_York:20230805T000000
DTEND;TZID=America/New_York:20230805T000000
DTSTAMP:20260421T173349
CREATED:20230710T144935Z
LAST-MODIFIED:20230710T145335Z
UID:15791-1691193600-1691193600@wolfcreektrackclub.com
SUMMARY:P3R Youth Move Day
DESCRIPTION:
URL:https://wolfcreektrackclub.com/event/p3r-youth-move-day/
LOCATION:RMU Island Sports Center\, 7600 Grand Ave\, Pittsburgh\, PA\, 15225\, United States
ATTACH;FMTTYPE=image/png:https://wolfcreektrackclub.com/wp-content/uploads/2023/07/youthmove.png
END:VEVENT
BEGIN:VEVENT
DTSTART;TZID=America/New_York:20230729T180000
DTEND;TZID=America/New_York:20230730T130000
DTSTAMP:20260421T173349
CREATED:20221129T153121Z
LAST-MODIFIED:20221129T153153Z
UID:14486-1690653600-1690722000@wolfcreektrackclub.com
SUMMARY:4th Annual Kinzua Half Marathon & 5k
DESCRIPTION:
URL:https://wolfcreektrackclub.com/event/4th-annual-kinzua-half-marathon-5k/
LOCATION:Kinzua Bridge State Park\, 296 Viaduct Road\, Mount Jewett\, PA\, 16740\, United States
ATTACH;FMTTYPE=image/png:https://wolfcreektrackclub.com/wp-content/uploads/2022/02/Untitled-design-12.png
ORGANIZER;CN="Wolf Creek Race Management":MAILTO:info@wolfcreektrackclub.com
END:VEVENT
BEGIN:VEVENT
DTSTART;TZID=America/New_York:20230722T100000
DTEND;TZID=America/New_York:20230723T193000
DTSTAMP:20260421T173349
CREATED:20230619T185523Z
LAST-MODIFIED:20230619T185523Z
UID:15732-1690020000-1690140600@wolfcreektrackclub.com
SUMMARY:Ico for All Championships
DESCRIPTION:
URL:https://wolfcreektrackclub.com/event/ico-for-all-championships/
LOCATION:RMU Island Sports Center\, 7600 Grand Ave\, Pittsburgh\, PA\, 15225\, United States
ATTACH;FMTTYPE=image/png:https://wolfcreektrackclub.com/wp-content/uploads/2023/06/ico4all.png
END:VEVENT
BEGIN:VEVENT
DTSTART;TZID=America/New_York:20230722T080000
DTEND;TZID=America/New_York:20230722T170000
DTSTAMP:20260421T173349
CREATED:20230509T151056Z
LAST-MODIFIED:20230509T151129Z
UID:15441-1690012800-1690045200@wolfcreektrackclub.com
SUMMARY:Alina's Light Walk & Run for Love
DESCRIPTION:
URL:https://wolfcreektrackclub.com/event/alinas-light-walk-run-for-love-2/
LOCATION:Settler’s Cabin Park\, 608 Ridge Road\, Pittsburgh\, PA\, 15205\, United States
ATTACH;FMTTYPE=image/png:https://wolfcreektrackclub.com/wp-content/uploads/2022/06/alina.png
END:VEVENT
BEGIN:VEVENT
DTSTART;TZID=America/New_York:20230718T080000
DTEND;TZID=America/New_York:20230718T170000
DTSTAMP:20260421T173349
CREATED:20230620T005931Z
LAST-MODIFIED:20230620T005931Z
UID:15739-1689667200-1689699600@wolfcreektrackclub.com
SUMMARY:National Senior Games Triathlon
DESCRIPTION:
URL:https://wolfcreektrackclub.com/event/national-senior-games-triathlon/
LOCATION:Brady’s Run Park\, 121 Bradys Run Rd\, Beaver Falls\, PA\, 15010\, United States
ATTACH;FMTTYPE=image/png:https://wolfcreektrackclub.com/wp-content/uploads/2023/06/srgames.png
END:VEVENT
BEGIN:VEVENT
DTSTART;TZID=America/New_York:20230715T153000
DTEND;TZID=America/New_York:20230715T170000
DTSTAMP:20260421T173349
CREATED:20230619T184024Z
LAST-MODIFIED:20230619T184024Z
UID:15725-1689435000-1689440400@wolfcreektrackclub.com
SUMMARY:Fun In The Sun 5k Run
DESCRIPTION:
URL:https://wolfcreektrackclub.com/event/fun-in-the-sun-5k-run/
LOCATION:Plum Street Park\, 535 Plum Street\, New Berlin\, PA\, 17855\, United States
ATTACH;FMTTYPE=image/png:https://wolfcreektrackclub.com/wp-content/uploads/2023/06/funinthesun.png
END:VEVENT
BEGIN:VEVENT
DTSTART;TZID=America/New_York:20230715T083000
DTEND;TZID=America/New_York:20230715T100000
DTSTAMP:20260421T173349
CREATED:20230620T125336Z
LAST-MODIFIED:20230620T125336Z
UID:15746-1689409800-1689415200@wolfcreektrackclub.com
SUMMARY:Community Chase 5k
DESCRIPTION:
URL:https://wolfcreektrackclub.com/event/community-chase-5k/
LOCATION:Cranberry Community Park\, 511 Ernie Mashuda Drive\, Cranberry Township\, PA\, 16066\, United States
ATTACH;FMTTYPE=image/png:https://wolfcreektrackclub.com/wp-content/uploads/2022/06/ctcc.png
END:VEVENT
BEGIN:VEVENT
DTSTART;TZID=America/New_York:20230715T080000
DTEND;TZID=America/New_York:20230715T113000
DTSTAMP:20260421T173349
CREATED:20230526T182435Z
LAST-MODIFIED:20230526T182435Z
UID:15639-1689408000-1689420600@wolfcreektrackclub.com
SUMMARY:Townville Old Home Days Fiesta 5k
DESCRIPTION:
URL:https://wolfcreektrackclub.com/event/townville-old-home-days-fiesta-5k/
LOCATION:Maplewood Elementary School\, 32695 PA 408\, Townville\, PA\, 16360\, United States
ATTACH;FMTTYPE=image/png:https://wolfcreektrackclub.com/wp-content/uploads/2023/05/fiesta.png
END:VEVENT
BEGIN:VEVENT
DTSTART;TZID=America/New_York:20230709T080000
DTEND;TZID=America/New_York:20230709T170000
DTSTAMP:20260421T173349
CREATED:20230620T123913Z
LAST-MODIFIED:20230620T123913Z
UID:15744-1688889600-1688922000@wolfcreektrackclub.com
SUMMARY:National Senior Games 5k Road Race
DESCRIPTION:
URL:https://wolfcreektrackclub.com/event/national-senior-games-5k-road-race/
LOCATION:PA
ATTACH;FMTTYPE=image/png:https://wolfcreektrackclub.com/wp-content/uploads/2023/06/srgames.png
END:VEVENT
BEGIN:VEVENT
DTSTART;TZID=America/New_York:20230708T090000
DTEND;TZID=America/New_York:20230708T120000
DTSTAMP:20260421T173349
CREATED:20230509T140918Z
LAST-MODIFIED:20230509T140918Z
UID:15439-1688806800-1688817600@wolfcreektrackclub.com
SUMMARY:Reece's Roundup East Coast
DESCRIPTION:
URL:https://wolfcreektrackclub.com/event/reeces-roundup-east-coast/
LOCATION:Irvine Park\, 799 Corporations St.\, Beaver\, PA\, 15009\, United States
END:VEVENT
BEGIN:VEVENT
DTSTART;TZID=America/New_York:20230708T090000
DTEND;TZID=America/New_York:20230708T110000
DTSTAMP:20260421T173349
CREATED:20230526T181153Z
LAST-MODIFIED:20230526T181242Z
UID:15636-1688806800-1688814000@wolfcreektrackclub.com
SUMMARY:O'Neal Memorial Cherry Festival 5k Run/Walk
DESCRIPTION:
URL:https://wolfcreektrackclub.com/event/oneal-memorial-cherry-festival-5k-run-walk/
LOCATION:Gibson Park\, Gibson St\, North East\, PA\, 16428\, United States
ATTACH;FMTTYPE=image/png:https://wolfcreektrackclub.com/wp-content/uploads/2023/05/oneal.png
END:VEVENT
BEGIN:VEVENT
DTSTART;TZID=America/New_York:20230707T080000
DTEND;TZID=America/New_York:20230707T170000
DTSTAMP:20260421T173349
CREATED:20230620T123724Z
LAST-MODIFIED:20230620T123724Z
UID:15742-1688716800-1688749200@wolfcreektrackclub.com
SUMMARY:National Senior Games 10k Road Race
DESCRIPTION:
URL:https://wolfcreektrackclub.com/event/national-senior-games-10k-road-race/
LOCATION:PA
ATTACH;FMTTYPE=image/png:https://wolfcreektrackclub.com/wp-content/uploads/2023/06/srgames.png
END:VEVENT
BEGIN:VEVENT
DTSTART;TZID=America/New_York:20230704T090000
DTEND;TZID=America/New_York:20230704T110000
DTSTAMP:20260421T173349
CREATED:20230618T010928Z
LAST-MODIFIED:20230618T010928Z
UID:15719-1688461200-1688468400@wolfcreektrackclub.com
SUMMARY:Freedom 5k
DESCRIPTION:
URL:https://wolfcreektrackclub.com/event/freedom-5k/
LOCATION:World’s Largest Teapot\, 817 Carolina Ave\, Chester\, WV\, 26034\, United States
ATTACH;FMTTYPE=image/png:https://wolfcreektrackclub.com/wp-content/uploads/2022/06/freedom.png
END:VEVENT
BEGIN:VEVENT
DTSTART;TZID=America/New_York:20230701T060000
DTEND;TZID=America/New_York:20230701T200000
DTSTAMP:20260421T173349
CREATED:20230109T190215Z
LAST-MODIFIED:20230109T190215Z
UID:14662-1688191200-1688241600@wolfcreektrackclub.com
SUMMARY:Hell Hath No Hurry
DESCRIPTION:
URL:https://wolfcreektrackclub.com/event/hell-hath-no-hurry-2/
LOCATION:Settlers Cabin Park\, Papoose Dr\, Carnegie\, PA\, 15106\, United States
ATTACH;FMTTYPE=image/png:https://wolfcreektrackclub.com/wp-content/uploads/2022/01/hhnh.png
END:VEVENT
BEGIN:VEVENT
DTSTART;TZID=America/New_York:20230623T193000
DTEND;TZID=America/New_York:20230624T193000
DTSTAMP:20260421T173349
CREATED:20230216T155356Z
LAST-MODIFIED:20230216T160221Z
UID:14807-1687548600-1687635000@wolfcreektrackclub.com
SUMMARY:New River Gorge Trail Festival
DESCRIPTION:
URL:https://wolfcreektrackclub.com/event/new-river-gorge-trail-festival-2/
LOCATION:New River Gorge National Park & Preserve\, Park Drive 25840\, Fayetteville\, WV\, 25840\, United States
ATTACH;FMTTYPE=image/png:https://wolfcreektrackclub.com/wp-content/uploads/2022/02/nrg.png
ORGANIZER;CN="Wolf Creek Race Management":MAILTO:info@wolfcreektrackclub.com
END:VEVENT
BEGIN:VEVENT
DTSTART;TZID=America/New_York:20230621T183000
DTEND;TZID=America/New_York:20230621T193000
DTSTAMP:20260421T173349
CREATED:20230504T011854Z
LAST-MODIFIED:20230504T011929Z
UID:15376-1687372200-1687375800@wolfcreektrackclub.com
SUMMARY:Summer Solstice 5k & 1 Mile
DESCRIPTION:
URL:https://wolfcreektrackclub.com/event/summer-solstice-5k-1-mile/
LOCATION:Sunken Garden Trail\, 225 Pleasant Valley Road\, Portersville\, PA\, 16051\, United States
ATTACH;FMTTYPE=image/png:https://wolfcreektrackclub.com/wp-content/uploads/2023/05/summers5k.png
END:VEVENT
BEGIN:VEVENT
DTSTART;TZID=America/New_York:20230616T170000
DTEND;TZID=America/New_York:20230618T170000
DTSTAMP:20260421T173349
CREATED:20230109T210259Z
LAST-MODIFIED:20230109T210259Z
UID:14664-1686934800-1687107600@wolfcreektrackclub.com
SUMMARY:Jenny Lee Tri Cup presented by Get Fit Families\, LLC & Beaver County Tourism
DESCRIPTION:
URL:https://wolfcreektrackclub.com/event/jenny-lee-tri-cup-presented-by-get-fit-families-llc-beaver-county-tourism-2/
LOCATION:Brady’s Run Park\, 121 Bradys Run Rd\, Beaver Falls\, PA\, 15010\, United States
ATTACH;FMTTYPE=image/png:https://wolfcreektrackclub.com/wp-content/uploads/2022/06/jl.png
END:VEVENT
BEGIN:VEVENT
DTSTART;TZID=America/New_York:20230611T073000
DTEND;TZID=America/New_York:20230611T130000
DTSTAMP:20260421T173349
CREATED:20230509T135651Z
LAST-MODIFIED:20230509T135651Z
UID:15435-1686468600-1686488400@wolfcreektrackclub.com
SUMMARY:Spring Classic Sprint Triathlon
DESCRIPTION:
URL:https://wolfcreektrackclub.com/event/spring-classic-sprint-triathlon-2/
LOCATION:Davis Family YMCA\, 45 McClurg Rd\, Youngstown\, OH\, 44512\, United States
ATTACH;FMTTYPE=image/png:https://wolfcreektrackclub.com/wp-content/uploads/2021/11/springclassic.png
END:VEVENT
BEGIN:VEVENT
DTSTART;TZID=America/New_York:20230610T100000
DTEND;TZID=America/New_York:20230610T120000
DTSTAMP:20260421T173349
CREATED:20230310T145147Z
LAST-MODIFIED:20230310T145147Z
UID:14867-1686391200-1686398400@wolfcreektrackclub.com
SUMMARY:The Ralph Swain Queen's Race for Love & Life
DESCRIPTION:
URL:https://wolfcreektrackclub.com/event/the-ralph-swain-queens-race-for-love-life/
LOCATION:North Park Boathouse\, 10301 Pearce Mill Road\, Allison Park\, PA\, 15101\, United States
ATTACH;FMTTYPE=image/png:https://wolfcreektrackclub.com/wp-content/uploads/2023/03/rsqrfll.png
END:VEVENT
BEGIN:VEVENT
DTSTART;TZID=America/New_York:20230610T090000
DTEND;TZID=America/New_York:20230610T110000
DTSTAMP:20260421T173349
CREATED:20220520T140730Z
LAST-MODIFIED:20230405T161756Z
UID:11996-1686387600-1686394800@wolfcreektrackclub.com
SUMMARY:Lions Give A Dam 5k
DESCRIPTION:
URL:https://wolfcreektrackclub.com/event/lions-give-a-dam-5k/
LOCATION:Thelma’s Sports Nook\, 285 E High St\, Sharpsville\, PA\, PA\, 16050\, United States
ATTACH;FMTTYPE=image/png:https://wolfcreektrackclub.com/wp-content/uploads/2022/05/lionsgive.png
END:VEVENT
BEGIN:VEVENT
DTSTART;TZID=America/New_York:20230610T064500
DTEND;TZID=America/New_York:20230610T123000
DTSTAMP:20260421T173349
CREATED:20230108T182757Z
LAST-MODIFIED:20230108T182757Z
UID:14660-1686379500-1686400200@wolfcreektrackclub.com
SUMMARY:Lake Wilhelm Marathon & Half Marathon
DESCRIPTION:
URL:https://wolfcreektrackclub.com/event/lake-wilhelm-marathon-half-marathon-2/
LOCATION:Lake Wilhelm Marina\, 540 Lake Wilhelm Road\, Sandy Lake\, PA\, 16145\, United States
ATTACH;FMTTYPE=image/png:https://wolfcreektrackclub.com/wp-content/uploads/2022/01/Lake-Wilhelm-2.png
ORGANIZER;CN="Wolf Creek Race Management":MAILTO:info@wolfcreektrackclub.com
END:VEVENT
BEGIN:VEVENT
DTSTART;TZID=America/New_York:20230608T183000
DTEND;TZID=America/New_York:20230608T183000
DTSTAMP:20260421T173349
CREATED:20230503T181402Z
LAST-MODIFIED:20230503T181402Z
UID:15373-1686249000-1686249000@wolfcreektrackclub.com
SUMMARY:31st Annual Gateway Mile
DESCRIPTION:
URL:https://wolfcreektrackclub.com/event/31st-annual-gateway-mile/
LOCATION:Gateway High School\, 9000 Gateway Campus Blvd\, Monroeville\, PA\, 15146\, United States
ATTACH;FMTTYPE=image/png:https://wolfcreektrackclub.com/wp-content/uploads/2023/05/gateway.png
END:VEVENT
BEGIN:VEVENT
DTSTART;TZID=America/New_York:20230603T083000
DTEND;TZID=America/New_York:20230603T103000
DTSTAMP:20260421T173349
CREATED:20221212T165119Z
LAST-MODIFIED:20221212T165119Z
UID:14537-1685781000-1685788200@wolfcreektrackclub.com
SUMMARY:JR Taylor 5k
DESCRIPTION:
URL:https://wolfcreektrackclub.com/event/jr-taylor-5k-2/
LOCATION:Montour Trail\, 515 Clifton Road\, Bethel Park\, PA\, 15102\, United States
ATTACH;FMTTYPE=image/png:https://wolfcreektrackclub.com/wp-content/uploads/2022/12/jr-taylor.png
END:VEVENT
BEGIN:VEVENT
DTSTART;TZID=America/New_York:20230531T183000
DTEND;TZID=America/New_York:20230531T203000
DTSTAMP:20260421T173349
CREATED:20230222T210149Z
LAST-MODIFIED:20230222T210149Z
UID:14817-1685557800-1685565000@wolfcreektrackclub.com
SUMMARY:PR Track 5k Classic
DESCRIPTION:
URL:https://wolfcreektrackclub.com/event/pr-track-5k-classic/
LOCATION:Pine-Richland High School\, 700 Warrendale Road\, Gibsonia\, PA\, 15044\, United States
ATTACH;FMTTYPE=image/png:https://wolfcreektrackclub.com/wp-content/uploads/2021/09/pr5k-1.png
END:VEVENT
BEGIN:VEVENT
DTSTART;TZID=America/New_York:20230528T080000
DTEND;TZID=America/New_York:20230528T120000
DTSTAMP:20260421T173349
CREATED:20230108T182137Z
LAST-MODIFIED:20230108T182137Z
UID:14658-1685260800-1685275200@wolfcreektrackclub.com
SUMMARY:Old Turnpike Half Marathon
DESCRIPTION:
URL:https://wolfcreektrackclub.com/event/old-turnpike-half-marathon-2/
LOCATION:Old PA Turnpike Trail\, 3005 Pump Station Road\, Waterfall\, PA\, 16689\, United States
ATTACH;FMTTYPE=image/png:https://wolfcreektrackclub.com/wp-content/uploads/2022/01/ot-1.png
ORGANIZER;CN="Wolf Creek Race Management":MAILTO:info@wolfcreektrackclub.com
END:VEVENT
BEGIN:VEVENT
DTSTART;TZID=America/New_York:20230527T090000
DTEND;TZID=America/New_York:20230527T120000
DTSTAMP:20260421T173349
CREATED:20230509T140149Z
LAST-MODIFIED:20230509T140149Z
UID:15437-1685178000-1685188800@wolfcreektrackclub.com
SUMMARY:Mary Seat of Wisdom Montessori 5k & 1k
DESCRIPTION:
URL:https://wolfcreektrackclub.com/event/mary-seat-of-wisdom-montessori-5k-1k/
LOCATION:Jim Wood Park\, 220 Canterbury Blvd\, Steubenville\, OH\, 43952\, United States
END:VEVENT
BEGIN:VEVENT
DTSTART;TZID=America/New_York:20230521T090000
DTEND;TZID=America/New_York:20230521T120000
DTSTAMP:20260421T173349
CREATED:20230309T183443Z
LAST-MODIFIED:20230309T183443Z
UID:14854-1684659600-1684670400@wolfcreektrackclub.com
SUMMARY:Cynthia's Rainbow Run
DESCRIPTION:
URL:https://wolfcreektrackclub.com/event/cynthias-rainbow-run/
LOCATION:Indian Creek High School\, 200 Park Dr\, Wintersville\, OH\, 43953\, United States
ATTACH;FMTTYPE=image/png:https://wolfcreektrackclub.com/wp-content/uploads/2023/03/cynthia.png
END:VEVENT
BEGIN:VEVENT
DTSTART;TZID=America/New_York:20230520T070000
DTEND;TZID=America/New_York:20230521T160000
DTSTAMP:20260421T173349
CREATED:20230110T162311Z
LAST-MODIFIED:20230110T162311Z
UID:14666-1684566000-1684684800@wolfcreektrackclub.com
SUMMARY:Mighty Moraine Man Spring Multi-Sport Festival
DESCRIPTION:
URL:https://wolfcreektrackclub.com/event/mighty-moraine-man-spring-multi-sport-festival/
LOCATION:Lakeview Beach\, North Shore Drive\, Portersville\, PA\, 16051\, United States
ATTACH;FMTTYPE=image/png:https://wolfcreektrackclub.com/wp-content/uploads/2023/01/mmms.png
END:VEVENT
BEGIN:VEVENT
DTSTART;TZID=America/New_York:20230520T060000
DTEND;TZID=America/New_York:20230520T220000
DTSTAMP:20260421T173349
CREATED:20230501T164143Z
LAST-MODIFIED:20230501T164352Z
UID:15354-1684562400-1684620000@wolfcreektrackclub.com
SUMMARY:Miles2Meals 100 Mile Relay
DESCRIPTION:The race will consist of two teams\, each of 100 people who run a mile each. Participants will have the ability to sign up individually or in teams of 5 with their friends/family. The race will go all day\, from sunrise to sunset\, allowing runners to “run under the lights” if they choose that time of the night. Awards will go out to top performing teams and individuals within their age groups\, including medals and gift cards. Other attractions will include food trucks\, yard games\, and a dunk tank. T-shirts and snacks will also be sold at the race.  \nParticipants are highly encouraged to sign up in teams of 5 with their friends\, as high value awards like $100 Montecello’s giftcards will be given out to top performing teams. Come up with cool names\, wear matching jerseys\, and have fun with it. Each 100 person team will be made up of 20 of these subgroups of 5 friends/family. \nThe start/finish line will include music\, a race clock\, and a TV with live race results. Live results will also be online. 
URL:https://wolfcreektrackclub.com/event/miles-to-meals-100-mile-relay/
LOCATION:North Allegheny Intermediate High School\, 350 Cumberland Road\, Pittsburgh\, PA\, 15237\, United States
ATTACH;FMTTYPE=image/png:https://wolfcreektrackclub.com/wp-content/uploads/2023/05/race145348-logo.bKnly7_.png
END:VEVENT
BEGIN:VEVENT
DTSTART;TZID=America/New_York:20230514T080000
DTEND;TZID=America/New_York:20230514T120000
DTSTAMP:20260421T173349
CREATED:20230107T205051Z
LAST-MODIFIED:20230107T205051Z
UID:14656-1684051200-1684065600@wolfcreektrackclub.com
SUMMARY:Ghost Creek Half Marathon
DESCRIPTION:
URL:https://wolfcreektrackclub.com/event/ghost-creek-half-marathon-2/
LOCATION:Saylor Park\, 1284 Old Indiana Road\, Black Lick\, PA\, 15716\, United States
ATTACH;FMTTYPE=image/png:https://wolfcreektrackclub.com/wp-content/uploads/2021/12/ghost-creek-1.png
ORGANIZER;CN="Wolf Creek Race Management":MAILTO:info@wolfcreektrackclub.com
END:VEVENT
END:VCALENDAR