BEGIN:VCALENDAR
VERSION:2.0
PRODID:-//Wolf Creek Race Management - ECPv6.15.20//NONSGML v1.0//EN
CALSCALE:GREGORIAN
METHOD:PUBLISH
X-WR-CALNAME:Wolf Creek Race Management
X-ORIGINAL-URL:https://wolfcreektrackclub.com
X-WR-CALDESC:Events for Wolf Creek Race Management
REFRESH-INTERVAL;VALUE=DURATION:PT1H
X-Robots-Tag:noindex
X-PUBLISHED-TTL:PT1H
BEGIN:VTIMEZONE
TZID:America/New_York
BEGIN:DAYLIGHT
TZOFFSETFROM:-0500
TZOFFSETTO:-0400
TZNAME:EDT
DTSTART:20220313T070000
END:DAYLIGHT
BEGIN:STANDARD
TZOFFSETFROM:-0400
TZOFFSETTO:-0500
TZNAME:EST
DTSTART:20221106T060000
END:STANDARD
BEGIN:DAYLIGHT
TZOFFSETFROM:-0500
TZOFFSETTO:-0400
TZNAME:EDT
DTSTART:20230312T070000
END:DAYLIGHT
BEGIN:STANDARD
TZOFFSETFROM:-0400
TZOFFSETTO:-0500
TZNAME:EST
DTSTART:20231105T060000
END:STANDARD
BEGIN:DAYLIGHT
TZOFFSETFROM:-0500
TZOFFSETTO:-0400
TZNAME:EDT
DTSTART:20240310T070000
END:DAYLIGHT
BEGIN:STANDARD
TZOFFSETFROM:-0400
TZOFFSETTO:-0500
TZNAME:EST
DTSTART:20241103T060000
END:STANDARD
END:VTIMEZONE
BEGIN:VEVENT
DTSTART;TZID=America/New_York:20230528T080000
DTEND;TZID=America/New_York:20230528T120000
DTSTAMP:20260421T205003
CREATED:20230108T182137Z
LAST-MODIFIED:20230108T182137Z
UID:14658-1685260800-1685275200@wolfcreektrackclub.com
SUMMARY:Old Turnpike Half Marathon
DESCRIPTION:
URL:https://wolfcreektrackclub.com/event/old-turnpike-half-marathon-2/
LOCATION:Old PA Turnpike Trail\, 3005 Pump Station Road\, Waterfall\, PA\, 16689\, United States
ATTACH;FMTTYPE=image/png:https://wolfcreektrackclub.com/wp-content/uploads/2022/01/ot-1.png
ORGANIZER;CN="Wolf Creek Race Management":MAILTO:info@wolfcreektrackclub.com
END:VEVENT
BEGIN:VEVENT
DTSTART;TZID=America/New_York:20230527T090000
DTEND;TZID=America/New_York:20230527T120000
DTSTAMP:20260421T205003
CREATED:20230509T140149Z
LAST-MODIFIED:20230509T140149Z
UID:15437-1685178000-1685188800@wolfcreektrackclub.com
SUMMARY:Mary Seat of Wisdom Montessori 5k & 1k
DESCRIPTION:
URL:https://wolfcreektrackclub.com/event/mary-seat-of-wisdom-montessori-5k-1k/
LOCATION:Jim Wood Park\, 220 Canterbury Blvd\, Steubenville\, OH\, 43952\, United States
END:VEVENT
BEGIN:VEVENT
DTSTART;TZID=America/New_York:20230521T090000
DTEND;TZID=America/New_York:20230521T120000
DTSTAMP:20260421T205003
CREATED:20230309T183443Z
LAST-MODIFIED:20230309T183443Z
UID:14854-1684659600-1684670400@wolfcreektrackclub.com
SUMMARY:Cynthia's Rainbow Run
DESCRIPTION:
URL:https://wolfcreektrackclub.com/event/cynthias-rainbow-run/
LOCATION:Indian Creek High School\, 200 Park Dr\, Wintersville\, OH\, 43953\, United States
ATTACH;FMTTYPE=image/png:https://wolfcreektrackclub.com/wp-content/uploads/2023/03/cynthia.png
END:VEVENT
BEGIN:VEVENT
DTSTART;TZID=America/New_York:20230520T070000
DTEND;TZID=America/New_York:20230521T160000
DTSTAMP:20260421T205003
CREATED:20230110T162311Z
LAST-MODIFIED:20230110T162311Z
UID:14666-1684566000-1684684800@wolfcreektrackclub.com
SUMMARY:Mighty Moraine Man Spring Multi-Sport Festival
DESCRIPTION:
URL:https://wolfcreektrackclub.com/event/mighty-moraine-man-spring-multi-sport-festival/
LOCATION:Lakeview Beach\, North Shore Drive\, Portersville\, PA\, 16051\, United States
ATTACH;FMTTYPE=image/png:https://wolfcreektrackclub.com/wp-content/uploads/2023/01/mmms.png
END:VEVENT
BEGIN:VEVENT
DTSTART;TZID=America/New_York:20230520T060000
DTEND;TZID=America/New_York:20230520T220000
DTSTAMP:20260421T205003
CREATED:20230501T164143Z
LAST-MODIFIED:20230501T164352Z
UID:15354-1684562400-1684620000@wolfcreektrackclub.com
SUMMARY:Miles2Meals 100 Mile Relay
DESCRIPTION:The race will consist of two teams\, each of 100 people who run a mile each. Participants will have the ability to sign up individually or in teams of 5 with their friends/family. The race will go all day\, from sunrise to sunset\, allowing runners to “run under the lights” if they choose that time of the night. Awards will go out to top performing teams and individuals within their age groups\, including medals and gift cards. Other attractions will include food trucks\, yard games\, and a dunk tank. T-shirts and snacks will also be sold at the race.  \nParticipants are highly encouraged to sign up in teams of 5 with their friends\, as high value awards like $100 Montecello’s giftcards will be given out to top performing teams. Come up with cool names\, wear matching jerseys\, and have fun with it. Each 100 person team will be made up of 20 of these subgroups of 5 friends/family. \nThe start/finish line will include music\, a race clock\, and a TV with live race results. Live results will also be online. 
URL:https://wolfcreektrackclub.com/event/miles-to-meals-100-mile-relay/
LOCATION:North Allegheny Intermediate High School\, 350 Cumberland Road\, Pittsburgh\, PA\, 15237\, United States
ATTACH;FMTTYPE=image/png:https://wolfcreektrackclub.com/wp-content/uploads/2023/05/race145348-logo.bKnly7_.png
END:VEVENT
BEGIN:VEVENT
DTSTART;TZID=America/New_York:20230514T080000
DTEND;TZID=America/New_York:20230514T120000
DTSTAMP:20260421T205003
CREATED:20230107T205051Z
LAST-MODIFIED:20230107T205051Z
UID:14656-1684051200-1684065600@wolfcreektrackclub.com
SUMMARY:Ghost Creek Half Marathon
DESCRIPTION:
URL:https://wolfcreektrackclub.com/event/ghost-creek-half-marathon-2/
LOCATION:Saylor Park\, 1284 Old Indiana Road\, Black Lick\, PA\, 15716\, United States
ATTACH;FMTTYPE=image/png:https://wolfcreektrackclub.com/wp-content/uploads/2021/12/ghost-creek-1.png
ORGANIZER;CN="Wolf Creek Race Management":MAILTO:info@wolfcreektrackclub.com
END:VEVENT
BEGIN:VEVENT
DTSTART;TZID=America/New_York:20230513T203000
DTEND;TZID=America/New_York:20230513T220000
DTSTAMP:20260421T205003
CREATED:20230309T220544Z
LAST-MODIFIED:20230309T220544Z
UID:14858-1684009800-1684015200@wolfcreektrackclub.com
SUMMARY:Neon Nights 5k
DESCRIPTION:
URL:https://wolfcreektrackclub.com/event/neon-nights-5k/
LOCATION:New Haven Hose Company\, 127 South 7th Street\, Connellsville\, PA\, 15425\, United States
ATTACH;FMTTYPE=image/png:https://wolfcreektrackclub.com/wp-content/uploads/2022/01/nn.png
END:VEVENT
BEGIN:VEVENT
DTSTART;TZID=America/New_York:20230513T090000
DTEND;TZID=America/New_York:20230513T103000
DTSTAMP:20260421T205003
CREATED:20230504T020656Z
LAST-MODIFIED:20230504T020656Z
UID:15379-1683968400-1683973800@wolfcreektrackclub.com
SUMMARY:Wolfpack 3 Mile
DESCRIPTION:
URL:https://wolfcreektrackclub.com/event/wolfpack-3-mile/
LOCATION:Bartlett Shelter (Schenley Park)\, Bartlett St\, Pittsburgh\, PA\, 15217\, United States
ATTACH;FMTTYPE=image/png:https://wolfcreektrackclub.com/wp-content/uploads/2023/05/wolfpackwe.png
END:VEVENT
BEGIN:VEVENT
DTSTART;TZID=America/New_York:20230513T080000
DTEND;TZID=America/New_York:20230513T120000
DTSTAMP:20260421T205003
CREATED:20230504T115022Z
LAST-MODIFIED:20230504T115022Z
UID:15383-1683964800-1683979200@wolfcreektrackclub.com
SUMMARY:Steps Against Melanoma 5k
DESCRIPTION:
URL:https://wolfcreektrackclub.com/event/steps-against-melanoma-5k/
LOCATION:North Park Boathouse\, 10301 Pearce Mill Road\, Allison Park\, PA\, 15101\, United States
ATTACH;FMTTYPE=image/png:https://wolfcreektrackclub.com/wp-content/uploads/2023/05/melanoma.png
END:VEVENT
BEGIN:VEVENT
DTSTART;TZID=America/New_York:20230512T160000
DTEND;TZID=America/New_York:20230512T210000
DTSTAMP:20260421T205003
CREATED:20230124T205909Z
LAST-MODIFIED:20230126T205332Z
UID:14689-1683907200-1683925200@wolfcreektrackclub.com
SUMMARY:NTL Invitational
DESCRIPTION:
URL:https://wolfcreektrackclub.com/event/ntl-invitational/
LOCATION:Port Allegany Junior-Senior High School\, 20 Oak St\, Port Allegany\, 16743
ATTACH;FMTTYPE=image/png:https://wolfcreektrackclub.com/wp-content/uploads/2023/01/0INVITENTL.png
END:VEVENT
BEGIN:VEVENT
DTSTART;TZID=America/New_York:20230512T160000
DTEND;TZID=America/New_York:20230512T190000
DTSTAMP:20260421T205003
CREATED:20221116T160421Z
LAST-MODIFIED:20221116T160421Z
UID:14434-1683907200-1683918000@wolfcreektrackclub.com
SUMMARY:Lake Erie Middle School Championship
DESCRIPTION:
URL:https://wolfcreektrackclub.com/event/lake-erie-middle-school-championship/
LOCATION:Gus Anderson Field\, 3580 Caughey Rd\, Erie\, PA\, 16506\, United States
ATTACH;FMTTYPE=image/png:https://wolfcreektrackclub.com/wp-content/uploads/2022/11/mcdowell-1.png
END:VEVENT
BEGIN:VEVENT
DTSTART;TZID=America/New_York:20230512T150000
DTEND;TZID=America/New_York:20230512T220000
DTSTAMP:20260421T205003
CREATED:20221216T152619Z
LAST-MODIFIED:20221216T152619Z
UID:14611-1683903600-1683928800@wolfcreektrackclub.com
SUMMARY:Butler Jr High Invitational
DESCRIPTION:
URL:https://wolfcreektrackclub.com/event/butler-jr-high-invitational/
LOCATION:Butler High School\, 120 Campus Lane\, Butler\, PA\, United States
ATTACH;FMTTYPE=image/png:https://wolfcreektrackclub.com/wp-content/uploads/2022/12/BUTLER4.png
END:VEVENT
BEGIN:VEVENT
DTSTART;TZID=America/New_York:20230511T143000
DTEND;TZID=America/New_York:20230511T190000
DTSTAMP:20260421T205003
CREATED:20230125T221642Z
LAST-MODIFIED:20230125T221642Z
UID:14700-1683815400-1683831600@wolfcreektrackclub.com
SUMMARY:Moon Middle School Invitational
DESCRIPTION:
URL:https://wolfcreektrackclub.com/event/moon-middle-school-invitational/
LOCATION:Moon Area High School\, 8353 University Blvd\, Coraopolis\, PA\, 15108\, United States
ATTACH;FMTTYPE=image/png:https://wolfcreektrackclub.com/wp-content/uploads/2023/01/0INVITEMoon.png
END:VEVENT
BEGIN:VEVENT
DTSTART;TZID=America/New_York:20230511T140000
DTEND;TZID=America/New_York:20230511T190000
DTSTAMP:20260421T205003
CREATED:20230127T155457Z
LAST-MODIFIED:20230127T155530Z
UID:14716-1683813600-1683831600@wolfcreektrackclub.com
SUMMARY:Northern Area Last Chance Invitational
DESCRIPTION:
URL:https://wolfcreektrackclub.com/event/northern-area-last-chance-invitational/
LOCATION:Pine-Richland High School\, 700 Warrendale Road\, Gibsonia\, PA\, 15044\, United States
ATTACH;FMTTYPE=image/png:https://wolfcreektrackclub.com/wp-content/uploads/2023/01/0INVITEnalc.png
END:VEVENT
BEGIN:VEVENT
DTSTART;TZID=America/New_York:20230511T140000
DTEND;TZID=America/New_York:20230511T190000
DTSTAMP:20260421T205003
CREATED:20230124T203313Z
LAST-MODIFIED:20230124T203313Z
UID:14686-1683813600-1683831600@wolfcreektrackclub.com
SUMMARY:Mercer County Invitational
DESCRIPTION:
URL:https://wolfcreektrackclub.com/event/mercer-county-invitational/
LOCATION:Forker Field\, 140 E Poplar St\, Grove City\, PA\, 16127\, United States
ATTACH;FMTTYPE=image/png:https://wolfcreektrackclub.com/wp-content/uploads/2023/01/0INVITEMCAC.png
END:VEVENT
BEGIN:VEVENT
DTSTART;TZID=America/New_York:20230510T153000
DTEND;TZID=America/New_York:20230510T200000
DTSTAMP:20260421T205003
CREATED:20230124T211137Z
LAST-MODIFIED:20230502T171946Z
UID:14695-1683732600-1683748800@wolfcreektrackclub.com
SUMMARY:NA Jim Ledonne Invitational
DESCRIPTION:
URL:https://wolfcreektrackclub.com/event/na-jim-ledonne-invitational-2/
LOCATION:North Allegheny High School\, 10375 Perry Hwy\, Wexford\, PA\, 15090\, United States
ATTACH;FMTTYPE=image/png:https://wolfcreektrackclub.com/wp-content/uploads/2022/02/najli.png
END:VEVENT
BEGIN:VEVENT
DTSTART;TZID=America/New_York:20230509T160000
DTEND;TZID=America/New_York:20230509T183000
DTSTAMP:20260421T205003
CREATED:20230127T174325Z
LAST-MODIFIED:20230128T222901Z
UID:14737-1683648000-1683657000@wolfcreektrackclub.com
SUMMARY:Slippery Rock @ Grove City HS T&F Meet
DESCRIPTION:
URL:https://wolfcreektrackclub.com/event/slippery-rock-grove-city-hs-tf-meet/
LOCATION:Forker Field\, 140 E Poplar St\, Grove City\, PA\, 16127\, United States
ATTACH;FMTTYPE=image/png:https://wolfcreektrackclub.com/wp-content/uploads/2023/01/GC3-1.png
END:VEVENT
BEGIN:VEVENT
DTSTART;TZID=America/New_York:20230509T160000
DTEND;TZID=America/New_York:20230509T183000
DTSTAMP:20260421T205003
CREATED:20230127T164852Z
LAST-MODIFIED:20230127T164852Z
UID:14725-1683648000-1683657000@wolfcreektrackclub.com
SUMMARY:Sharon & CP @ Hickory HS T&F Meet
DESCRIPTION:
URL:https://wolfcreektrackclub.com/event/sharon-cp-hickory-hs-tf-meet/
LOCATION:Hickory High School\, 640 N Hermitage Road\, Hermitage\, PA\, 16148\, United States
ATTACH;FMTTYPE=image/png:https://wolfcreektrackclub.com/wp-content/uploads/2023/01/HICKORY3.png
END:VEVENT
BEGIN:VEVENT
DTSTART;TZID=America/New_York:20230509T160000
DTEND;TZID=America/New_York:20230509T180000
DTSTAMP:20260421T205003
CREATED:20221116T162615Z
LAST-MODIFIED:20221116T162615Z
UID:14437-1683648000-1683655200@wolfcreektrackclub.com
SUMMARY:McDowell HS T&F Meet
DESCRIPTION:
URL:https://wolfcreektrackclub.com/event/mcdowell-hs-tf-meet/
LOCATION:Gus Anderson Field\, 3580 Caughey Rd\, Erie\, PA\, 16506\, United States
ATTACH;FMTTYPE=image/png:https://wolfcreektrackclub.com/wp-content/uploads/2022/11/mcdowell-2.png
END:VEVENT
BEGIN:VEVENT
DTSTART;TZID=America/New_York:20230508T160000
DTEND;TZID=America/New_York:20230508T190000
DTSTAMP:20260421T205003
CREATED:20220804T164410Z
LAST-MODIFIED:20220804T164410Z
UID:12553-1683561600-1683572400@wolfcreektrackclub.com
SUMMARY:Quaker Valley Middle School Invitational
DESCRIPTION:
URL:https://wolfcreektrackclub.com/event/quaker-valley-middle-school-invitational/
LOCATION:Quaker Valley High School\, 625 Beaver St\, Leetsdale\, PA\, 15056\, United States
ATTACH;FMTTYPE=image/png:https://wolfcreektrackclub.com/wp-content/uploads/2022/08/qv.png
END:VEVENT
BEGIN:VEVENT
DTSTART;TZID=America/New_York:20230508T160000
DTEND;TZID=America/New_York:20230508T180000
DTSTAMP:20260421T205003
CREATED:20230309T171950Z
LAST-MODIFIED:20230309T171950Z
UID:14848-1683561600-1683568800@wolfcreektrackclub.com
SUMMARY:Erie @ General McLane HS T&F Meet
DESCRIPTION:
URL:https://wolfcreektrackclub.com/event/erie-general-mclane-hs-tf-meet/
LOCATION:Linden Field\, 11761 Edinboro Rd\, Edinboro\, PA\, 16412\, United States
ATTACH;FMTTYPE=image/png:https://wolfcreektrackclub.com/wp-content/uploads/2023/03/GM2.png
END:VEVENT
BEGIN:VEVENT
DTSTART;TZID=America/New_York:20230505T170000
DTEND;TZID=America/New_York:20230505T203000
DTSTAMP:20260421T205003
CREATED:20230127T152324Z
LAST-MODIFIED:20230127T152724Z
UID:14705-1683306000-1683318600@wolfcreektrackclub.com
SUMMARY:Newark Middle School Invitational
DESCRIPTION:
URL:https://wolfcreektrackclub.com/event/newark-middle-school-invitational/
LOCATION:Evans Complex\, 1055 Evans Blvd\, Newark\, OH\, 43055\, United States
ATTACH;FMTTYPE=image/png:https://wolfcreektrackclub.com/wp-content/uploads/2023/01/0INVITEnewark.png
END:VEVENT
BEGIN:VEVENT
DTSTART;TZID=America/New_York:20230505T153000
DTEND;TZID=America/New_York:20230505T220000
DTSTAMP:20260421T205003
CREATED:20230124T210750Z
LAST-MODIFIED:20230124T210750Z
UID:14692-1683300600-1683324000@wolfcreektrackclub.com
SUMMARY:Coudersport Invitational
DESCRIPTION:
URL:https://wolfcreektrackclub.com/event/coudersport-invitational-2/
LOCATION:Coudersport Area Recreational Park\, Carp Park Rd\, Coudersport\, PA\, 16915\, United States
ATTACH;FMTTYPE=image/png:https://wolfcreektrackclub.com/wp-content/uploads/2023/01/0INVITECOUDY.png
END:VEVENT
BEGIN:VEVENT
DTSTART;TZID=America/New_York:20230505T120000
DTEND;TZID=America/New_York:20230505T210000
DTSTAMP:20260421T205003
CREATED:20230127T154050Z
LAST-MODIFIED:20230127T154050Z
UID:14709-1683288000-1683320400@wolfcreektrackclub.com
SUMMARY:Pine-Richland Invitational
DESCRIPTION:
URL:https://wolfcreektrackclub.com/event/pine-richland-invitational/
LOCATION:Pine-Richland High School\, 700 Warrendale Road\, Gibsonia\, PA\, 15044\, United States
ATTACH;FMTTYPE=image/png:https://wolfcreektrackclub.com/wp-content/uploads/2023/01/0INVITEpr.png
END:VEVENT
BEGIN:VEVENT
DTSTART;TZID=America/New_York:20230504T163000
DTEND;TZID=America/New_York:20230504T200000
DTSTAMP:20260421T205003
CREATED:20230504T120044Z
LAST-MODIFIED:20230504T120044Z
UID:15386-1683217800-1683230400@wolfcreektrackclub.com
SUMMARY:Ashtabula County Middle School Invitational
DESCRIPTION:
URL:https://wolfcreektrackclub.com/event/ashtabula-county-middle-school-invitational/
LOCATION:Lakeside High School\, 6600 Sanborn Road\, Ashtabula\, OH\, 44004\, United States
ATTACH;FMTTYPE=image/png:https://wolfcreektrackclub.com/wp-content/uploads/2023/05/ashtabula.png
END:VEVENT
BEGIN:VEVENT
DTSTART;TZID=America/New_York:20230430T090000
DTEND;TZID=America/New_York:20230430T120000
DTSTAMP:20260421T205003
CREATED:20230217T213740Z
LAST-MODIFIED:20230217T213740Z
UID:14809-1682845200-1682856000@wolfcreektrackclub.com
SUMMARY:Foxwall & AVFD Run For The Hill of It presented by UPMC St. Margaret Hospital
DESCRIPTION:
URL:https://wolfcreektrackclub.com/event/foxwall-avfd-run-for-the-hill-of-it-presented-by-upmc-st-margaret-hospital/
LOCATION:Aspinwall Borough Building\, 200 Commercial Ave\, Aspinwall\, PA\, 15215\, United States
ATTACH;FMTTYPE=image/png:https://wolfcreektrackclub.com/wp-content/uploads/2023/02/foxwall.png
END:VEVENT
BEGIN:VEVENT
DTSTART;TZID=America/New_York:20230429T090000
DTEND;TZID=America/New_York:20230429T160000
DTSTAMP:20260421T205003
CREATED:20211208T205637Z
LAST-MODIFIED:20220726T153903Z
UID:10808-1682758800-1682784000@wolfcreektrackclub.com
SUMMARY:23rd Annual City of Hermitage Invitational
DESCRIPTION:
URL:https://wolfcreektrackclub.com/event/22nd-annual-city-of-hermitage-invitational/
LOCATION:Hickory High School\, 640 N Hermitage Road\, Hermitage\, PA\, 16148\, United States
ATTACH;FMTTYPE=image/png:https://wolfcreektrackclub.com/wp-content/uploads/2021/12/city-of-H-YouTube-Thumbnail.png
END:VEVENT
BEGIN:VEVENT
DTSTART;TZID=America/New_York:20230429T090000
DTEND;TZID=America/New_York:20230429T140000
DTSTAMP:20260421T205003
CREATED:20230124T211943Z
LAST-MODIFIED:20230124T212031Z
UID:14697-1682758800-1682776800@wolfcreektrackclub.com
SUMMARY:16th Annual Robinson Township Christian School Invitational
DESCRIPTION:
URL:https://wolfcreektrackclub.com/event/16th-annual-robinson-township-christian-school-invitational/
LOCATION:RMU Island Sports Center\, 7600 Grand Ave\, Pittsburgh\, PA\, 15225\, United States
ATTACH;FMTTYPE=image/png:https://wolfcreektrackclub.com/wp-content/uploads/2023/01/0INVITERTCS.png
END:VEVENT
BEGIN:VEVENT
DTSTART;TZID=America/New_York:20230428T170000
DTEND;TZID=America/New_York:20230428T210000
DTSTAMP:20260421T205004
CREATED:20230127T154913Z
LAST-MODIFIED:20230127T154913Z
UID:14712-1682701200-1682715600@wolfcreektrackclub.com
SUMMARY:Larry Cogan Warrior Invitational
DESCRIPTION:
URL:https://wolfcreektrackclub.com/event/larry-cogan-warrior-invitational/
LOCATION:Warrior Stadium\, 205 Scio Road\, Carrollton\, OH\, 44615\, United States
ATTACH;FMTTYPE=image/png:https://wolfcreektrackclub.com/wp-content/uploads/2023/01/0INVITElcw.png
END:VEVENT
BEGIN:VEVENT
DTSTART;TZID=America/New_York:20230428T150000
DTEND;TZID=America/New_York:20230428T210000
DTSTAMP:20260421T205004
CREATED:20221116T155815Z
LAST-MODIFIED:20230425T014941Z
UID:14431-1682694000-1682715600@wolfcreektrackclub.com
SUMMARY:36th Annual McDowell Invitational
DESCRIPTION:
URL:https://wolfcreektrackclub.com/event/36th-annual-mcdowell-invitational/
LOCATION:Gus Anderson Field\, 3580 Caughey Rd\, Erie\, PA\, 16506\, United States
ATTACH;FMTTYPE=image/png:https://wolfcreektrackclub.com/wp-content/uploads/2022/11/mcdowell.png
END:VEVENT
END:VCALENDAR