BEGIN:VCALENDAR
VERSION:2.0
PRODID:-//Wolf Creek Race Management - ECPv6.15.20//NONSGML v1.0//EN
CALSCALE:GREGORIAN
METHOD:PUBLISH
X-WR-CALNAME:Wolf Creek Race Management
X-ORIGINAL-URL:https://wolfcreektrackclub.com
X-WR-CALDESC:Events for Wolf Creek Race Management
REFRESH-INTERVAL;VALUE=DURATION:PT1H
X-Robots-Tag:noindex
X-PUBLISHED-TTL:PT1H
BEGIN:VTIMEZONE
TZID:America/New_York
BEGIN:DAYLIGHT
TZOFFSETFROM:-0500
TZOFFSETTO:-0400
TZNAME:EDT
DTSTART:20220313T070000
END:DAYLIGHT
BEGIN:STANDARD
TZOFFSETFROM:-0400
TZOFFSETTO:-0500
TZNAME:EST
DTSTART:20221106T060000
END:STANDARD
BEGIN:DAYLIGHT
TZOFFSETFROM:-0500
TZOFFSETTO:-0400
TZNAME:EDT
DTSTART:20230312T070000
END:DAYLIGHT
BEGIN:STANDARD
TZOFFSETFROM:-0400
TZOFFSETTO:-0500
TZNAME:EST
DTSTART:20231105T060000
END:STANDARD
BEGIN:DAYLIGHT
TZOFFSETFROM:-0500
TZOFFSETTO:-0400
TZNAME:EDT
DTSTART:20240310T070000
END:DAYLIGHT
BEGIN:STANDARD
TZOFFSETFROM:-0400
TZOFFSETTO:-0500
TZNAME:EST
DTSTART:20241103T060000
END:STANDARD
END:VTIMEZONE
BEGIN:VEVENT
DTSTART;TZID=America/New_York:20230504T163000
DTEND;TZID=America/New_York:20230504T200000
DTSTAMP:20260422T002551
CREATED:20230504T120044Z
LAST-MODIFIED:20230504T120044Z
UID:15386-1683217800-1683230400@wolfcreektrackclub.com
SUMMARY:Ashtabula County Middle School Invitational
DESCRIPTION:
URL:https://wolfcreektrackclub.com/event/ashtabula-county-middle-school-invitational/
LOCATION:Lakeside High School\, 6600 Sanborn Road\, Ashtabula\, OH\, 44004\, United States
ATTACH;FMTTYPE=image/png:https://wolfcreektrackclub.com/wp-content/uploads/2023/05/ashtabula.png
END:VEVENT
BEGIN:VEVENT
DTSTART;TZID=America/New_York:20230430T090000
DTEND;TZID=America/New_York:20230430T120000
DTSTAMP:20260422T002551
CREATED:20230217T213740Z
LAST-MODIFIED:20230217T213740Z
UID:14809-1682845200-1682856000@wolfcreektrackclub.com
SUMMARY:Foxwall & AVFD Run For The Hill of It presented by UPMC St. Margaret Hospital
DESCRIPTION:
URL:https://wolfcreektrackclub.com/event/foxwall-avfd-run-for-the-hill-of-it-presented-by-upmc-st-margaret-hospital/
LOCATION:Aspinwall Borough Building\, 200 Commercial Ave\, Aspinwall\, PA\, 15215\, United States
ATTACH;FMTTYPE=image/png:https://wolfcreektrackclub.com/wp-content/uploads/2023/02/foxwall.png
END:VEVENT
BEGIN:VEVENT
DTSTART;TZID=America/New_York:20230429T090000
DTEND;TZID=America/New_York:20230429T160000
DTSTAMP:20260422T002551
CREATED:20211208T205637Z
LAST-MODIFIED:20220726T153903Z
UID:10808-1682758800-1682784000@wolfcreektrackclub.com
SUMMARY:23rd Annual City of Hermitage Invitational
DESCRIPTION:
URL:https://wolfcreektrackclub.com/event/22nd-annual-city-of-hermitage-invitational/
LOCATION:Hickory High School\, 640 N Hermitage Road\, Hermitage\, PA\, 16148\, United States
ATTACH;FMTTYPE=image/png:https://wolfcreektrackclub.com/wp-content/uploads/2021/12/city-of-H-YouTube-Thumbnail.png
END:VEVENT
BEGIN:VEVENT
DTSTART;TZID=America/New_York:20230429T090000
DTEND;TZID=America/New_York:20230429T140000
DTSTAMP:20260422T002551
CREATED:20230124T211943Z
LAST-MODIFIED:20230124T212031Z
UID:14697-1682758800-1682776800@wolfcreektrackclub.com
SUMMARY:16th Annual Robinson Township Christian School Invitational
DESCRIPTION:
URL:https://wolfcreektrackclub.com/event/16th-annual-robinson-township-christian-school-invitational/
LOCATION:RMU Island Sports Center\, 7600 Grand Ave\, Pittsburgh\, PA\, 15225\, United States
ATTACH;FMTTYPE=image/png:https://wolfcreektrackclub.com/wp-content/uploads/2023/01/0INVITERTCS.png
END:VEVENT
BEGIN:VEVENT
DTSTART;TZID=America/New_York:20230428T170000
DTEND;TZID=America/New_York:20230428T210000
DTSTAMP:20260422T002551
CREATED:20230127T154913Z
LAST-MODIFIED:20230127T154913Z
UID:14712-1682701200-1682715600@wolfcreektrackclub.com
SUMMARY:Larry Cogan Warrior Invitational
DESCRIPTION:
URL:https://wolfcreektrackclub.com/event/larry-cogan-warrior-invitational/
LOCATION:Warrior Stadium\, 205 Scio Road\, Carrollton\, OH\, 44615\, United States
ATTACH;FMTTYPE=image/png:https://wolfcreektrackclub.com/wp-content/uploads/2023/01/0INVITElcw.png
END:VEVENT
BEGIN:VEVENT
DTSTART;TZID=America/New_York:20230428T150000
DTEND;TZID=America/New_York:20230428T210000
DTSTAMP:20260422T002551
CREATED:20221116T155815Z
LAST-MODIFIED:20230425T014941Z
UID:14431-1682694000-1682715600@wolfcreektrackclub.com
SUMMARY:36th Annual McDowell Invitational
DESCRIPTION:
URL:https://wolfcreektrackclub.com/event/36th-annual-mcdowell-invitational/
LOCATION:Gus Anderson Field\, 3580 Caughey Rd\, Erie\, PA\, 16506\, United States
ATTACH;FMTTYPE=image/png:https://wolfcreektrackclub.com/wp-content/uploads/2022/11/mcdowell.png
END:VEVENT
BEGIN:VEVENT
DTSTART;TZID=America/New_York:20230427T150000
DTEND;TZID=America/New_York:20230427T220000
DTSTAMP:20260422T002551
CREATED:20221216T151322Z
LAST-MODIFIED:20221216T151322Z
UID:14606-1682607600-1682632800@wolfcreektrackclub.com
SUMMARY:Butler 9th/10th Grade Invitational
DESCRIPTION:
URL:https://wolfcreektrackclub.com/event/butler-9th-10th-grade-invitational/
LOCATION:Butler High School\, 120 Campus Lane\, Butler\, PA\, United States
ATTACH;FMTTYPE=image/png:https://wolfcreektrackclub.com/wp-content/uploads/2022/12/BUTLER3.png
END:VEVENT
BEGIN:VEVENT
DTSTART;TZID=America/New_York:20230426T160000
DTEND;TZID=America/New_York:20230426T183000
DTSTAMP:20260422T002551
CREATED:20230127T164126Z
LAST-MODIFIED:20230127T164242Z
UID:14722-1682524800-1682533800@wolfcreektrackclub.com
SUMMARY:Greenville @ Hickory MS T&F Meet
DESCRIPTION:
URL:https://wolfcreektrackclub.com/event/greenville-hickory-ms-tf-meet/
LOCATION:Hickory High School\, 640 N Hermitage Road\, Hermitage\, PA\, 16148\, United States
ATTACH;FMTTYPE=image/png:https://wolfcreektrackclub.com/wp-content/uploads/2023/01/HICKORY2.png
END:VEVENT
BEGIN:VEVENT
DTSTART;TZID=America/New_York:20230426T160000
DTEND;TZID=America/New_York:20230426T180000
DTSTAMP:20260422T002551
CREATED:20230309T171051Z
LAST-MODIFIED:20230309T171051Z
UID:14844-1682524800-1682532000@wolfcreektrackclub.com
SUMMARY:Cathedral Prep @ General McLane HS T&F Meet
DESCRIPTION:
URL:https://wolfcreektrackclub.com/event/cathedral-prep-general-mclane-hs-tf-meet/
LOCATION:Linden Field\, 11761 Edinboro Rd\, Edinboro\, PA\, 16412\, United States
ATTACH;FMTTYPE=image/png:https://wolfcreektrackclub.com/wp-content/uploads/2023/03/GM1.png
END:VEVENT
BEGIN:VEVENT
DTSTART;TZID=America/New_York:20230425T160000
DTEND;TZID=America/New_York:20230425T183000
DTSTAMP:20260422T002551
CREATED:20230127T163931Z
LAST-MODIFIED:20230127T163931Z
UID:14719-1682438400-1682447400@wolfcreektrackclub.com
SUMMARY:Greenville @ Hickory HS T&F Meet
DESCRIPTION:
URL:https://wolfcreektrackclub.com/event/greenville-hickory-hs-tf-meet/
LOCATION:Hickory High School\, 640 N Hermitage Road\, Hermitage\, PA\, 16148\, United States
ATTACH;FMTTYPE=image/png:https://wolfcreektrackclub.com/wp-content/uploads/2023/01/HICKORY1.png
END:VEVENT
BEGIN:VEVENT
DTSTART;TZID=America/New_York:20230425T160000
DTEND;TZID=America/New_York:20230425T180000
DTSTAMP:20260422T002551
CREATED:20221116T190905Z
LAST-MODIFIED:20221116T190919Z
UID:14442-1682438400-1682445600@wolfcreektrackclub.com
SUMMARY:McDowell HS T&F Meet
DESCRIPTION:
URL:https://wolfcreektrackclub.com/event/mcdowell-hs-tf-meet-3/
LOCATION:Gus Anderson Field\, 3580 Caughey Rd\, Erie\, PA\, 16506\, United States
ATTACH;FMTTYPE=image/png:https://wolfcreektrackclub.com/wp-content/uploads/2022/11/mcdowell-2.png
END:VEVENT
BEGIN:VEVENT
DTSTART;TZID=America/New_York:20230425T153000
DTEND;TZID=America/New_York:20230425T180000
DTSTAMP:20260422T002551
CREATED:20221228T154701Z
LAST-MODIFIED:20221228T154701Z
UID:14636-1682436600-1682445600@wolfcreektrackclub.com
SUMMARY:Pine-Richland & Shaler @ North Allegheny HS T&F Meet
DESCRIPTION:
URL:https://wolfcreektrackclub.com/event/pine-richland-shaler-north-allegheny-hs-tf-meet/
LOCATION:North Allegheny High School\, 10375 Perry Hwy\, Wexford\, PA\, 15090\, United States
ATTACH;FMTTYPE=image/png:https://wolfcreektrackclub.com/wp-content/uploads/2022/12/na2.png
END:VEVENT
BEGIN:VEVENT
DTSTART;TZID=America/New_York:20230425T153000
DTEND;TZID=America/New_York:20230425T180000
DTSTAMP:20260422T002551
CREATED:20221214T205847Z
LAST-MODIFIED:20221216T152308Z
UID:14581-1682436600-1682445600@wolfcreektrackclub.com
SUMMARY:Knoch @ Hampton HS T&F Meet
DESCRIPTION:
URL:https://wolfcreektrackclub.com/event/knock-hampton-hs-tf-meet/
LOCATION:Fridley Field\, Topnick Dr\, Allison Park\, PA\, 15101\, United States
ATTACH;FMTTYPE=image/png:https://wolfcreektrackclub.com/wp-content/uploads/2022/12/hampton7.png
END:VEVENT
BEGIN:VEVENT
DTSTART;TZID=America/New_York:20230424T160000
DTEND;TZID=America/New_York:20230424T183000
DTSTAMP:20260422T002551
CREATED:20230128T222436Z
LAST-MODIFIED:20230128T222449Z
UID:14740-1682352000-1682361000@wolfcreektrackclub.com
SUMMARY:Commodore Perry @ Grove City HS T&F Meet
DESCRIPTION:
URL:https://wolfcreektrackclub.com/event/commodore-perry-grove-city-hs-tf-meet/
LOCATION:Forker Field\, 140 E Poplar St\, Grove City\, PA\, 16127\, United States
ATTACH;FMTTYPE=image/png:https://wolfcreektrackclub.com/wp-content/uploads/2023/01/GC4.png
END:VEVENT
BEGIN:VEVENT
DTSTART;TZID=America/New_York:20230424T153000
DTEND;TZID=America/New_York:20230424T180000
DTSTAMP:20260422T002551
CREATED:20230214T190329Z
LAST-MODIFIED:20230214T190329Z
UID:14792-1682350200-1682359200@wolfcreektrackclub.com
SUMMARY:Mars @ Armstrong HS T&F Meet
DESCRIPTION:
URL:https://wolfcreektrackclub.com/event/mars-armstrong-hs-tf-meet/
LOCATION:Armstrong Jr/Sr High School\, 300 Buffington Dr\, Kittanning\, PA\, 16201\, United States
ATTACH;FMTTYPE=image/png:https://wolfcreektrackclub.com/wp-content/uploads/2023/02/arm1.png
END:VEVENT
BEGIN:VEVENT
DTSTART;TZID=America/New_York:20230424T153000
DTEND;TZID=America/New_York:20230424T180000
DTSTAMP:20260422T002551
CREATED:20221215T010136Z
LAST-MODIFIED:20221215T010136Z
UID:14587-1682350200-1682359200@wolfcreektrackclub.com
SUMMARY:Highlands & Shaler @ Hampton MS T&F Meet
DESCRIPTION:
URL:https://wolfcreektrackclub.com/event/highlands-shaler-hampton-ms-tf-meet/
LOCATION:Fridley Field\, Topnick Dr\, Allison Park\, PA\, 15101\, United States
ATTACH;FMTTYPE=image/png:https://wolfcreektrackclub.com/wp-content/uploads/2022/12/hampton5.png
END:VEVENT
BEGIN:VEVENT
DTSTART;TZID=America/New_York:20230423T110000
DTEND;TZID=America/New_York:20230423T123000
DTSTAMP:20260422T002551
CREATED:20230309T174910Z
LAST-MODIFIED:20230309T174910Z
UID:14851-1682247600-1682253000@wolfcreektrackclub.com
SUMMARY:Cadet Council 5k
DESCRIPTION:
URL:https://wolfcreektrackclub.com/event/cadet-council-5k-2/
LOCATION:Buffalo Valley Rail Trail\, 120 Hardwood Dr\, Lewisburg\, PA\, 17837\, United States
ATTACH;FMTTYPE=image/png:https://wolfcreektrackclub.com/wp-content/uploads/2023/03/cadetcouncil.png
END:VEVENT
BEGIN:VEVENT
DTSTART;TZID=America/New_York:20230421T143000
DTEND;TZID=America/New_York:20230421T210000
DTSTAMP:20260422T002551
CREATED:20230310T143349Z
LAST-MODIFIED:20230310T143349Z
UID:14865-1682087400-1682110800@wolfcreektrackclub.com
SUMMARY:Marcie Peaco Memorial Invitational
DESCRIPTION:
URL:https://wolfcreektrackclub.com/event/marcie-peaco-memorial-invitational/
LOCATION:Seneca Valley High School\, 128 Seneca School Road\, Harmony\, PA\, 16037\, United States
ATTACH;FMTTYPE=image/png:https://wolfcreektrackclub.com/wp-content/uploads/2022/02/sv-910-1.png
END:VEVENT
BEGIN:VEVENT
DTSTART;TZID=America/New_York:20230421T120000
DTEND;TZID=America/New_York:20230421T230000
DTSTAMP:20260422T002551
CREATED:20221216T150614Z
LAST-MODIFIED:20221216T150614Z
UID:14603-1682078400-1682118000@wolfcreektrackclub.com
SUMMARY:58th Annual Butler Invitational
DESCRIPTION:
URL:https://wolfcreektrackclub.com/event/58th-annual-butler-invitational/
LOCATION:Butler High School\, 120 Campus Lane\, Butler\, PA\, United States
ATTACH;FMTTYPE=image/png:https://wolfcreektrackclub.com/wp-content/uploads/2022/12/BUTLER2.png
END:VEVENT
BEGIN:VEVENT
DTSTART;TZID=America/New_York:20230419T160000
DTEND;TZID=America/New_York:20230419T183000
DTSTAMP:20260422T002551
CREATED:20221216T210546Z
LAST-MODIFIED:20221216T210914Z
UID:14617-1681920000-1681929000@wolfcreektrackclub.com
SUMMARY:KC\, Mercer\, & CP @ Grove City MS T&F Meet
DESCRIPTION:
URL:https://wolfcreektrackclub.com/event/kc-mercer-cp-grove-city-ms-tf-meet/
LOCATION:Forker Field\, 140 E Poplar St\, Grove City\, PA\, 16127\, United States
ATTACH;FMTTYPE=image/png:https://wolfcreektrackclub.com/wp-content/uploads/2022/12/gc2.png
END:VEVENT
BEGIN:VEVENT
DTSTART;TZID=America/New_York:20230419T153000
DTEND;TZID=America/New_York:20230419T180000
DTSTAMP:20260422T002551
CREATED:20230213T204843Z
LAST-MODIFIED:20230213T204843Z
UID:14786-1681918200-1681927200@wolfcreektrackclub.com
SUMMARY:Butler & Pine-Richland @ Shaler MS T&F Meet
DESCRIPTION:
URL:https://wolfcreektrackclub.com/event/butler-pine-richland-shaler-ms-tf-meet/
LOCATION:Shaler Middle School\, 1800 Mount Royal Blvd\, Glenshaw\, PA\, 15116\, United States
ATTACH;FMTTYPE=image/png:https://wolfcreektrackclub.com/wp-content/uploads/2023/02/shaler4.png
END:VEVENT
BEGIN:VEVENT
DTSTART;TZID=America/New_York:20230419T153000
DTEND;TZID=America/New_York:20230419T180000
DTSTAMP:20260422T002551
CREATED:20221215T134553Z
LAST-MODIFIED:20221215T134553Z
UID:14590-1681918200-1681927200@wolfcreektrackclub.com
SUMMARY:New Brighton & Shenango @ Neshannock MS
DESCRIPTION:
URL:https://wolfcreektrackclub.com/event/new-brighton-shenango-neshannock-ms/
LOCATION:Neshannock High School\, 3834 Michell Rd\, New Castle\, PA\, 16105\, United States
ATTACH;FMTTYPE=image/png:https://wolfcreektrackclub.com/wp-content/uploads/2022/12/neshannock1.png
END:VEVENT
BEGIN:VEVENT
DTSTART;TZID=America/New_York:20230419T153000
DTEND;TZID=America/New_York:20230419T180000
DTSTAMP:20260422T002551
CREATED:20221212T184323Z
LAST-MODIFIED:20221212T184517Z
UID:14546-1681918200-1681927200@wolfcreektrackclub.com
SUMMARY:Fox Chapel @ Mars MS T&F Meet
DESCRIPTION:
URL:https://wolfcreektrackclub.com/event/fox-chapel-mars-ms-tf/
LOCATION:Mars Athletic Complex\, 1775 Three Degree Road\, Mars\, PA\, 16046\, United States
ATTACH;FMTTYPE=image/png:https://wolfcreektrackclub.com/wp-content/uploads/2022/12/MARS3.png
END:VEVENT
BEGIN:VEVENT
DTSTART;TZID=America/New_York:20230418T160000
DTEND;TZID=America/New_York:20230418T183000
DTSTAMP:20260422T002551
CREATED:20230127T165514Z
LAST-MODIFIED:20230127T165514Z
UID:14728-1681833600-1681842600@wolfcreektrackclub.com
SUMMARY:Slippery Rock @ Hickory HS T&F Meet
DESCRIPTION:
URL:https://wolfcreektrackclub.com/event/slippery-rock-hickory-hs-tf-meet/
LOCATION:Hickory High School\, 640 N Hermitage Road\, Hermitage\, PA\, 16148\, United States
ATTACH;FMTTYPE=image/png:https://wolfcreektrackclub.com/wp-content/uploads/2023/01/HICKORY4.png
END:VEVENT
BEGIN:VEVENT
DTSTART;TZID=America/New_York:20230418T153000
DTEND;TZID=America/New_York:20230418T180000
DTSTAMP:20260422T002551
CREATED:20221214T204353Z
LAST-MODIFIED:20221214T204353Z
UID:14575-1681831800-1681840800@wolfcreektrackclub.com
SUMMARY:Armstrong @ Hampton HS T&F Meet
DESCRIPTION:
URL:https://wolfcreektrackclub.com/event/armstrong-hampton-hs-tf-meet/
LOCATION:Fridley Field\, Topnick Dr\, Allison Park\, PA\, 15101\, United States
ATTACH;FMTTYPE=image/png:https://wolfcreektrackclub.com/wp-content/uploads/2022/12/hampton1.png
END:VEVENT
BEGIN:VEVENT
DTSTART;TZID=America/New_York:20230417T153000
DTEND;TZID=America/New_York:20230417T180000
DTSTAMP:20260422T002551
CREATED:20221214T210259Z
LAST-MODIFIED:20221214T210413Z
UID:14584-1681745400-1681754400@wolfcreektrackclub.com
SUMMARY:North Hills @ Hampton MS T&F Meet
DESCRIPTION:
URL:https://wolfcreektrackclub.com/event/north-hills-hampton-ms-tf-meet/
LOCATION:Fridley Field\, Topnick Dr\, Allison Park\, PA\, 15101\, United States
ATTACH;FMTTYPE=image/png:https://wolfcreektrackclub.com/wp-content/uploads/2022/12/hampton4.png
END:VEVENT
BEGIN:VEVENT
DTSTART;TZID=America/New_York:20230417T153000
DTEND;TZID=America/New_York:20230417T180000
DTSTAMP:20260422T002551
CREATED:20221212T205523Z
LAST-MODIFIED:20221212T205820Z
UID:14565-1681745400-1681754400@wolfcreektrackclub.com
SUMMARY:North Allegheny @ Mars HS T&F Meet
DESCRIPTION:
URL:https://wolfcreektrackclub.com/event/north-allegheny-mars-hs-tf-meet/
LOCATION:Mars Athletic Complex\, 1775 Three Degree Road\, Mars\, PA\, 16046\, United States
ATTACH;FMTTYPE=image/png:https://wolfcreektrackclub.com/wp-content/uploads/2022/12/MARS9-1-e1727194814142.png
END:VEVENT
BEGIN:VEVENT
DTSTART;TZID=America/New_York:20230415T100000
DTEND;TZID=America/New_York:20230415T143000
DTSTAMP:20260422T002551
CREATED:20230310T125135Z
LAST-MODIFIED:20230310T125135Z
UID:14860-1681552800-1681569000@wolfcreektrackclub.com
SUMMARY:Big Red T&F Invitational
DESCRIPTION:
URL:https://wolfcreektrackclub.com/event/big-red-tf-invitational/
LOCATION:West Middlsex High School\, 3591 Sharon Rd\, West Middlesex\, PA\, 16159\, United States
ATTACH;FMTTYPE=image/png:https://wolfcreektrackclub.com/wp-content/uploads/2022/02/Big-red.png
END:VEVENT
BEGIN:VEVENT
DTSTART;TZID=America/New_York:20230414T153000
DTEND;TZID=America/New_York:20230414T180000
DTSTAMP:20260422T002551
CREATED:20230213T183549Z
LAST-MODIFIED:20230401T201118Z
UID:14771-1681486200-1681495200@wolfcreektrackclub.com
SUMMARY:Shaler @ North Hills MS T&F Meet
DESCRIPTION:
URL:https://wolfcreektrackclub.com/event/shaler-north-hills-ms-tf-meet/
LOCATION:North Hills HS Martorelli Stadium\, 5336 Perrysville Ave\, Pittsburgh\, PA\, 15229\, United States
ATTACH;FMTTYPE=image/png:https://wolfcreektrackclub.com/wp-content/uploads/2023/02/nh2.png
END:VEVENT
BEGIN:VEVENT
DTSTART;TZID=America/New_York:20230414T153000
DTEND;TZID=America/New_York:20230414T180000
DTSTAMP:20260422T002551
CREATED:20221212T185410Z
LAST-MODIFIED:20230401T201031Z
UID:14553-1681486200-1681495200@wolfcreektrackclub.com
SUMMARY:Highlands @ Mars MS T&F Meet
DESCRIPTION:
URL:https://wolfcreektrackclub.com/event/highlands-mars-ms-tf-meet/
LOCATION:Mars Athletic Complex\, 1775 Three Degree Road\, Mars\, PA\, 16046\, United States
ATTACH;FMTTYPE=image/png:https://wolfcreektrackclub.com/wp-content/uploads/2022/12/MARS5.png
END:VEVENT
END:VCALENDAR