BEGIN:VCALENDAR
VERSION:2.0
PRODID:-//Wolf Creek Race Management - ECPv6.15.20//NONSGML v1.0//EN
CALSCALE:GREGORIAN
METHOD:PUBLISH
X-WR-CALNAME:Wolf Creek Race Management
X-ORIGINAL-URL:https://wolfcreektrackclub.com
X-WR-CALDESC:Events for Wolf Creek Race Management
REFRESH-INTERVAL;VALUE=DURATION:PT1H
X-Robots-Tag:noindex
X-PUBLISHED-TTL:PT1H
BEGIN:VTIMEZONE
TZID:America/New_York
BEGIN:DAYLIGHT
TZOFFSETFROM:-0500
TZOFFSETTO:-0400
TZNAME:EDT
DTSTART:20210314T070000
END:DAYLIGHT
BEGIN:STANDARD
TZOFFSETFROM:-0400
TZOFFSETTO:-0500
TZNAME:EST
DTSTART:20211107T060000
END:STANDARD
BEGIN:DAYLIGHT
TZOFFSETFROM:-0500
TZOFFSETTO:-0400
TZNAME:EDT
DTSTART:20220313T070000
END:DAYLIGHT
BEGIN:STANDARD
TZOFFSETFROM:-0400
TZOFFSETTO:-0500
TZNAME:EST
DTSTART:20221106T060000
END:STANDARD
BEGIN:DAYLIGHT
TZOFFSETFROM:-0500
TZOFFSETTO:-0400
TZNAME:EDT
DTSTART:20230312T070000
END:DAYLIGHT
BEGIN:STANDARD
TZOFFSETFROM:-0400
TZOFFSETTO:-0500
TZNAME:EST
DTSTART:20231105T060000
END:STANDARD
BEGIN:DAYLIGHT
TZOFFSETFROM:-0500
TZOFFSETTO:-0400
TZNAME:EDT
DTSTART:20240310T070000
END:DAYLIGHT
BEGIN:STANDARD
TZOFFSETFROM:-0400
TZOFFSETTO:-0500
TZNAME:EST
DTSTART:20241103T060000
END:STANDARD
END:VTIMEZONE
BEGIN:VEVENT
DTSTART;TZID=America/New_York:20230330T153000
DTEND;TZID=America/New_York:20230330T183000
DTSTAMP:20260422T083458
CREATED:20230209T201042Z
LAST-MODIFIED:20230209T201042Z
UID:14765-1680190200-1680201000@wolfcreektrackclub.com
SUMMARY:Seneca Valley @ Pine-Richland HS T&F Meet
DESCRIPTION:
URL:https://wolfcreektrackclub.com/event/seneca-valley-pine-richland-hs-tf-meet/
LOCATION:Pine-Richland High School\, 700 Warrendale Road\, Gibsonia\, PA\, 15044\, United States
ATTACH;FMTTYPE=image/png:https://wolfcreektrackclub.com/wp-content/uploads/2023/02/pr5.png
END:VEVENT
BEGIN:VEVENT
DTSTART;TZID=America/New_York:20230330T153000
DTEND;TZID=America/New_York:20230330T180000
DTSTAMP:20260422T083458
CREATED:20230213T203615Z
LAST-MODIFIED:20230213T203615Z
UID:14783-1680190200-1680199200@wolfcreektrackclub.com
SUMMARY:Mars @ Shaler MS T&F Meet
DESCRIPTION:
URL:https://wolfcreektrackclub.com/event/mars-shaler-ms-tf-meet/
LOCATION:Shaler Middle School\, 1800 Mount Royal Blvd\, Glenshaw\, PA\, 15116\, United States
ATTACH;FMTTYPE=image/png:https://wolfcreektrackclub.com/wp-content/uploads/2023/02/shaler3.png
END:VEVENT
BEGIN:VEVENT
DTSTART;TZID=America/New_York:20230330T153000
DTEND;TZID=America/New_York:20230330T180000
DTSTAMP:20260422T083458
CREATED:20230213T182009Z
LAST-MODIFIED:20230213T182425Z
UID:14768-1680190200-1680199200@wolfcreektrackclub.com
SUMMARY:Seneca Valley @ North Hills MS T&F Meet
DESCRIPTION:
URL:https://wolfcreektrackclub.com/event/seneca-valley-north-hills-ms-tf-meet/
LOCATION:North Hills HS Martorelli Stadium\, 5336 Perrysville Ave\, Pittsburgh\, PA\, 15229\, United States
ATTACH;FMTTYPE=image/png:https://wolfcreektrackclub.com/wp-content/uploads/2023/02/nh1.png
END:VEVENT
BEGIN:VEVENT
DTSTART;TZID=America/New_York:20230330T153000
DTEND;TZID=America/New_York:20230330T180000
DTSTAMP:20260422T083458
CREATED:20221212T225804Z
LAST-MODIFIED:20221214T170453Z
UID:14568-1680190200-1680199200@wolfcreektrackclub.com
SUMMARY:Kiski @ Mars HS T&F Meet
DESCRIPTION:
URL:https://wolfcreektrackclub.com/event/kiski-mars-hs-tf-meet/
LOCATION:Mars Athletic Complex\, 1775 Three Degree Road\, Mars\, PA\, 16046\, United States
ATTACH;FMTTYPE=image/png:https://wolfcreektrackclub.com/wp-content/uploads/2022/12/MARS10-1.png
END:VEVENT
BEGIN:VEVENT
DTSTART;TZID=America/New_York:20230329T153000
DTEND;TZID=America/New_York:20230329T180000
DTSTAMP:20260422T083458
CREATED:20230214T183601Z
LAST-MODIFIED:20230214T183601Z
UID:14789-1680103800-1680112800@wolfcreektrackclub.com
SUMMARY:North Allegheny & North Hills @ Shaler HS T&F Meet
DESCRIPTION:
URL:https://wolfcreektrackclub.com/event/north-allegheny-north-hills-shaler-hs-tf-meet/
LOCATION:Shaler Middle School\, 1800 Mount Royal Blvd\, Glenshaw\, PA\, 15116\, United States
ATTACH;FMTTYPE=image/png:https://wolfcreektrackclub.com/wp-content/uploads/2023/02/shaler5.png
END:VEVENT
BEGIN:VEVENT
DTSTART;TZID=America/New_York:20230328T160000
DTEND;TZID=America/New_York:20230328T183000
DTSTAMP:20260422T083458
CREATED:20230128T223320Z
LAST-MODIFIED:20230128T223320Z
UID:14744-1680019200-1680028200@wolfcreektrackclub.com
SUMMARY:Sharon @ Grove City HS T&F Meet
DESCRIPTION:
URL:https://wolfcreektrackclub.com/event/sharon-grove-city-hs-tf-meet/
LOCATION:Forker Field\, 140 E Poplar St\, Grove City\, PA\, 16127\, United States
ATTACH;FMTTYPE=image/png:https://wolfcreektrackclub.com/wp-content/uploads/2023/01/GC5.png
END:VEVENT
BEGIN:VEVENT
DTSTART;TZID=America/New_York:20230328T153000
DTEND;TZID=America/New_York:20230328T180000
DTSTAMP:20260422T083458
CREATED:20221215T140921Z
LAST-MODIFIED:20221215T141102Z
UID:14593-1680017400-1680026400@wolfcreektrackclub.com
SUMMARY:Mohawk & Shenango @ Neshannock HS T&F Meet
DESCRIPTION:
URL:https://wolfcreektrackclub.com/event/mohawk-shenango-neshannock-hs-tf-meet/
LOCATION:Neshannock High School\, 3834 Michell Rd\, New Castle\, PA\, 16105\, United States
ATTACH;FMTTYPE=image/png:https://wolfcreektrackclub.com/wp-content/uploads/2022/12/neshannock2.png
END:VEVENT
BEGIN:VEVENT
DTSTART;TZID=America/New_York:20230327T153000
DTEND;TZID=America/New_York:20230327T180000
DTSTAMP:20260422T083458
CREATED:20221212T185003Z
LAST-MODIFIED:20221212T185003Z
UID:14550-1679931000-1679940000@wolfcreektrackclub.com
SUMMARY:North Hills @ Mars MS T&F Meet
DESCRIPTION:
URL:https://wolfcreektrackclub.com/event/north-hills-mars-ms-tf-meet/
LOCATION:Mars Athletic Complex\, 1775 Three Degree Road\, Mars\, PA\, 16046\, United States
ATTACH;FMTTYPE=image/png:https://wolfcreektrackclub.com/wp-content/uploads/2022/12/MARS4.png
END:VEVENT
BEGIN:VEVENT
DTSTART;TZID=America/New_York:20230323T153000
DTEND;TZID=America/New_York:20230323T183000
DTSTAMP:20260422T083458
CREATED:20230208T163200Z
LAST-MODIFIED:20230208T163200Z
UID:14759-1679585400-1679596200@wolfcreektrackclub.com
SUMMARY:North Allegheny @ Pine-Richland MS T&F Meet
DESCRIPTION:
URL:https://wolfcreektrackclub.com/event/north-allegheny-pine-richland-ms-tf-meet/
LOCATION:Pine-Richland High School\, 700 Warrendale Road\, Gibsonia\, PA\, 15044\, United States
ATTACH;FMTTYPE=image/png:https://wolfcreektrackclub.com/wp-content/uploads/2023/02/pr3.png
END:VEVENT
BEGIN:VEVENT
DTSTART;TZID=America/New_York:20230323T153000
DTEND;TZID=America/New_York:20230323T173000
DTSTAMP:20260422T083458
CREATED:20221116T231050Z
LAST-MODIFIED:20221116T231050Z
UID:14444-1679585400-1679592600@wolfcreektrackclub.com
SUMMARY:Freedom HS T&F Meet
DESCRIPTION:
URL:https://wolfcreektrackclub.com/event/freedom-hs-tf-meet/
LOCATION:Freedom High School\, 1190 Bulldog Dr\, Freedom\, PA\, 15042\, United States
ATTACH;FMTTYPE=image/png:https://wolfcreektrackclub.com/wp-content/uploads/2022/11/freedom-1-e1690223346137.png
END:VEVENT
BEGIN:VEVENT
DTSTART;TZID=America/New_York:20230322T153000
DTEND;TZID=America/New_York:20230322T183000
DTSTAMP:20260422T083458
CREATED:20230130T172617Z
LAST-MODIFIED:20230130T172617Z
UID:14750-1679499000-1679509800@wolfcreektrackclub.com
SUMMARY:North Hills @ Pine-Richland HS T&F Meet
DESCRIPTION:
URL:https://wolfcreektrackclub.com/event/north-hills-pine-richland-hs-tf-meet/
LOCATION:Pine-Richland High School\, 700 Warrendale Road\, Gibsonia\, PA\, 15044\, United States
ATTACH;FMTTYPE=image/png:https://wolfcreektrackclub.com/wp-content/uploads/2023/01/pr1.png
END:VEVENT
BEGIN:VEVENT
DTSTART;TZID=America/New_York:20230321T153000
DTEND;TZID=America/New_York:20230321T173000
DTSTAMP:20260422T083458
CREATED:20230309T150240Z
LAST-MODIFIED:20230309T150307Z
UID:14831-1679412600-1679419800@wolfcreektrackclub.com
SUMMARY:Blackhawk @ Beaver Falls HS T&F Scrimmage
DESCRIPTION:
URL:https://wolfcreektrackclub.com/event/blackhawk-beaver-falls-hs-tf-scrimmage/
LOCATION:Geneva College\, 3200 College Ave\, Beaver Falls\, PA\, 15010\, United States
ATTACH;FMTTYPE=image/png:https://wolfcreektrackclub.com/wp-content/uploads/2023/03/BF1.png
END:VEVENT
BEGIN:VEVENT
DTSTART;TZID=America/New_York:20230318T040000
DTEND;TZID=America/New_York:20230319T160000
DTSTAMP:20260422T083458
CREATED:20221105T022858Z
LAST-MODIFIED:20221105T022919Z
UID:14376-1679112000-1679241600@wolfcreektrackclub.com
SUMMARY:Visit Beaver County Rabid Raccoon 100
DESCRIPTION:
URL:https://wolfcreektrackclub.com/event/visit-beaver-county-rabid-raccoon-100/
LOCATION:Raccoon Creek State Park Beach\, Lake Trail\, Clinton\, PA\, 15026\, United States
ATTACH;FMTTYPE=image/png:https://wolfcreektrackclub.com/wp-content/uploads/2022/11/visitbrr100.png
ORGANIZER;CN="Wolf Creek Race Management":MAILTO:info@wolfcreektrackclub.com
END:VEVENT
BEGIN:VEVENT
DTSTART;TZID=America/New_York:20230317T153000
DTEND;TZID=America/New_York:20230317T183000
DTSTAMP:20260422T083458
CREATED:20230130T165524Z
LAST-MODIFIED:20230130T165524Z
UID:14747-1679067000-1679077800@wolfcreektrackclub.com
SUMMARY:Altoona @ North Allegheny HS T&F Meet
DESCRIPTION:
URL:https://wolfcreektrackclub.com/event/altoona-north-allegheny-hs-tf-meet/
LOCATION:North Allegheny High School\, 10375 Perry Hwy\, Wexford\, PA\, 15090\, United States
ATTACH;FMTTYPE=image/png:https://wolfcreektrackclub.com/wp-content/uploads/2023/01/na6.png
END:VEVENT
BEGIN:VEVENT
DTSTART;TZID=America/New_York:20230317T153000
DTEND;TZID=America/New_York:20230317T180000
DTSTAMP:20260422T083458
CREATED:20221214T170308Z
LAST-MODIFIED:20221214T170308Z
UID:14571-1679067000-1679076000@wolfcreektrackclub.com
SUMMARY:Moon @ Mars HS T&F Meet
DESCRIPTION:
URL:https://wolfcreektrackclub.com/event/moon-mars-hs-tf-meet/
LOCATION:Mars Athletic Complex\, 1775 Three Degree Road\, Mars\, PA\, 16046\, United States
ATTACH;FMTTYPE=image/png:https://wolfcreektrackclub.com/wp-content/uploads/2022/12/MARS11.png
END:VEVENT
BEGIN:VEVENT
DTSTART;TZID=America/New_York:20230317T153000
DTEND;TZID=America/New_York:20230317T170000
DTSTAMP:20260422T083458
CREATED:20230216T142243Z
LAST-MODIFIED:20230216T142243Z
UID:14803-1679067000-1679072400@wolfcreektrackclub.com
SUMMARY:Pine-Richland MS T&F Scrimmage
DESCRIPTION:
URL:https://wolfcreektrackclub.com/event/pine-richland-ms-tf-scrimmage/
LOCATION:Pine-Richland High School\, 700 Warrendale Road\, Gibsonia\, PA\, 15044\, United States
ATTACH;FMTTYPE=image/png:https://wolfcreektrackclub.com/wp-content/uploads/2023/02/pr7.png
END:VEVENT
BEGIN:VEVENT
DTSTART;TZID=America/New_York:20230316T153000
DTEND;TZID=America/New_York:20230316T170000
DTSTAMP:20260422T083458
CREATED:20230214T220916Z
LAST-MODIFIED:20230214T220916Z
UID:14799-1678980600-1678986000@wolfcreektrackclub.com
SUMMARY:Pine-Richland HS T&F Scrimmage
DESCRIPTION:
URL:https://wolfcreektrackclub.com/event/pine-richland-hs-tf-scrimmage/
LOCATION:Pine-Richland High School\, 700 Warrendale Road\, Gibsonia\, PA\, 15044\, United States
ATTACH;FMTTYPE=image/png:https://wolfcreektrackclub.com/wp-content/uploads/2023/02/pr8.png
END:VEVENT
BEGIN:VEVENT
DTSTART;TZID=America/New_York:20230304T090000
DTEND;TZID=America/New_York:20230304T130000
DTSTAMP:20260422T083458
CREATED:20221228T010321Z
LAST-MODIFIED:20221228T010322Z
UID:14632-1677920400-1677934800@wolfcreektrackclub.com
SUMMARY:South Park Half Marathon
DESCRIPTION:
URL:https://wolfcreektrackclub.com/event/south-park-half-marathon/
LOCATION:South Park Fairgrounds\, 1888 Brownsville Road\, South Park Township\, PA\, 15129\, United States
ATTACH;FMTTYPE=image/png:https://wolfcreektrackclub.com/wp-content/uploads/2022/12/sphalf.png
ORGANIZER;CN="Wolf Creek Race Management":MAILTO:info@wolfcreektrackclub.com
END:VEVENT
BEGIN:VEVENT
DTSTART;TZID=America/New_York:20230204T080000
DTEND;TZID=America/New_York:20230204T130000
DTSTAMP:20260422T083458
CREATED:20221211T125120Z
LAST-MODIFIED:20221211T125120Z
UID:14528-1675497600-1675515600@wolfcreektrackclub.com
SUMMARY:Hot Springs Half Marathon
DESCRIPTION:
URL:https://wolfcreektrackclub.com/event/hot-springs-half-marathon/
LOCATION:Hot Springs National Park\, Hot Springs\, AR\, 71901\, United States
ATTACH;FMTTYPE=image/png:https://wolfcreektrackclub.com/wp-content/uploads/2022/12/hshm.png
ORGANIZER;CN="Wolf Creek Race Management":MAILTO:info@wolfcreektrackclub.com
END:VEVENT
BEGIN:VEVENT
DTSTART;TZID=America/New_York:20230114T090000
DTEND;TZID=America/New_York:20230114T130000
DTSTAMP:20260422T083458
CREATED:20221102T212533Z
LAST-MODIFIED:20221102T213420Z
UID:14355-1673686800-1673701200@wolfcreektrackclub.com
SUMMARY:North Park Half Marathon
DESCRIPTION:
URL:https://wolfcreektrackclub.com/event/north-park-half-marathon-2/
LOCATION:North Park Boathouse\, 10301 Pearce Mill Road\, Allison Park\, PA\, 15101\, United States
ATTACH;FMTTYPE=image/png:https://wolfcreektrackclub.com/wp-content/uploads/2022/11/nphalf.png
ORGANIZER;CN="Wolf Creek Race Management":MAILTO:info@wolfcreektrackclub.com
END:VEVENT
BEGIN:VEVENT
DTSTART;TZID=America/New_York:20221231T153000
DTEND;TZID=America/New_York:20221231T170000
DTSTAMP:20260422T083458
CREATED:20221104T234343Z
LAST-MODIFIED:20221104T234728Z
UID:14373-1672500600-1672506000@wolfcreektrackclub.com
SUMMARY:Harmony Silvester 5k
DESCRIPTION:
URL:https://wolfcreektrackclub.com/event/harmony-silvester-5k/
LOCATION:Grace Church of Harmony\, 538 Main St\, Harmony\, PA\, 16037\, United States
ATTACH;FMTTYPE=image/png:https://wolfcreektrackclub.com/wp-content/uploads/2022/11/harmsil.png
END:VEVENT
BEGIN:VEVENT
DTSTART;TZID=America/New_York:20221231T100000
DTEND;TZID=America/New_York:20221231T113000
DTSTAMP:20260422T083458
CREATED:20221102T205905Z
LAST-MODIFIED:20221102T210719Z
UID:14349-1672480800-1672486200@wolfcreektrackclub.com
SUMMARY:Resolution Run 5k North Park
DESCRIPTION:
URL:https://wolfcreektrackclub.com/event/resolution-run-5k-north-park/
LOCATION:North Park Boathouse\, 10301 Pearce Mill Road\, Allison Park\, PA\, 15101\, United States
ATTACH;FMTTYPE=image/png:https://wolfcreektrackclub.com/wp-content/uploads/2022/11/rrnp.png
ORGANIZER;CN="Wolf Creek Race Management":MAILTO:info@wolfcreektrackclub.com
END:VEVENT
BEGIN:VEVENT
DTSTART;TZID=America/New_York:20221224T100000
DTEND;TZID=America/New_York:20221224T113000
DTSTAMP:20260422T083458
CREATED:20220928T141150Z
LAST-MODIFIED:20221104T231551Z
UID:13661-1671876000-1671881400@wolfcreektrackclub.com
SUMMARY:The Christmas Eve 5k
DESCRIPTION:
URL:https://wolfcreektrackclub.com/event/the-christmas-eve-5k/
LOCATION:North Park Boathouse\, 10301 Pearce Mill Road\, Allison Park\, PA\, 15101\, United States
ATTACH;FMTTYPE=image/png:https://wolfcreektrackclub.com/wp-content/uploads/2022/09/christmas-eve.png
ORGANIZER;CN="Wolf Creek Race Management":MAILTO:info@wolfcreektrackclub.com
END:VEVENT
BEGIN:VEVENT
DTSTART;TZID=America/New_York:20221203T100000
DTEND;TZID=America/New_York:20221203T113000
DTSTAMP:20260422T083458
CREATED:20221017T204656Z
LAST-MODIFIED:20221017T205917Z
UID:14168-1670061600-1670067000@wolfcreektrackclub.com
SUMMARY:Geyer Performing Arts Center Elf Run 5k
DESCRIPTION:
URL:https://wolfcreektrackclub.com/event/geyer-performing-arts-center-elf-run-5k/
LOCATION:Geyer Performing Arts Center\, 111 Pittsburgh St\, Scottdale\, PA\, 15683\, United States
ATTACH;FMTTYPE=image/png:https://wolfcreektrackclub.com/wp-content/uploads/2022/10/elf.png
END:VEVENT
BEGIN:VEVENT
DTSTART;TZID=America/New_York:20221203T090000
DTEND;TZID=America/New_York:20221203T110000
DTSTAMP:20260422T083458
CREATED:20221115T191331Z
LAST-MODIFIED:20221115T191331Z
UID:14428-1670058000-1670065200@wolfcreektrackclub.com
SUMMARY:ECCC Ugly Sweater 5k
DESCRIPTION:
URL:https://wolfcreektrackclub.com/event/eccc-ugly-sweater-5k/
LOCATION:Ewing Park\, 807 Joffre St\, Ellwood City\, PA\, 16117\, United States
ATTACH;FMTTYPE=image/png:https://wolfcreektrackclub.com/wp-content/uploads/2022/11/ugly-sweater.png
END:VEVENT
BEGIN:VEVENT
DTSTART;TZID=America/New_York:20221203T080000
DTEND;TZID=America/New_York:20221203T160000
DTSTAMP:20260422T083458
CREATED:20220811T164435Z
LAST-MODIFIED:20220811T164511Z
UID:12583-1670054400-1670083200@wolfcreektrackclub.com
SUMMARY:New River Gorge Trail Festival - Winter Edition
DESCRIPTION:
URL:https://wolfcreektrackclub.com/event/new-river-gorge-trail-festival-winter-edition/
LOCATION:New River Gorge National Park & Preserve\, Park Drive 25840\, Fayetteville\, WV\, 25840\, United States
ATTACH;FMTTYPE=image/png:https://wolfcreektrackclub.com/wp-content/uploads/2022/08/nrgw.png
ORGANIZER;CN="Wolf Creek Race Management":MAILTO:info@wolfcreektrackclub.com
END:VEVENT
BEGIN:VEVENT
DTSTART;TZID=America/New_York:20221124T090000
DTEND;TZID=America/New_York:20221124T113000
DTSTAMP:20260422T083458
CREATED:20211020T145546Z
LAST-MODIFIED:20220105T170948Z
UID:10519-1669280400-1669289400@wolfcreektrackclub.com
SUMMARY:Titusville YWCA 5k Turkey Trot
DESCRIPTION:
URL:https://wolfcreektrackclub.com/event/titusville-ywca-5k-turkey-trot/
LOCATION:YWCA Activity Building\, 201 N Franklin St\, Titusville\, PA\, 16354\, United States
ATTACH;FMTTYPE=image/png:https://wolfcreektrackclub.com/wp-content/uploads/2021/10/ttt-1.png
END:VEVENT
BEGIN:VEVENT
DTSTART;TZID=America/New_York:20221124T090000
DTEND;TZID=America/New_York:20221124T110000
DTSTAMP:20260422T083458
CREATED:20220127T191526Z
LAST-MODIFIED:20220609T165545Z
UID:11030-1669280400-1669287600@wolfcreektrackclub.com
SUMMARY:7th Annual Grateful Gallop 5k presented by GCAFCU
DESCRIPTION:
URL:https://wolfcreektrackclub.com/event/7th-annual-grateful-gallop-5k-presented-by-gcafcu/
LOCATION:Greewood Drive & Hunters Farm\, Greenwood Drive\, Grove City\, PA\, 16127\, United States
ATTACH;FMTTYPE=image/png:https://wolfcreektrackclub.com/wp-content/uploads/2022/01/7th-Annual-YouTube-Thumbnail.png
ORGANIZER;CN="Wolf Creek Race Management":MAILTO:info@wolfcreektrackclub.com
END:VEVENT
BEGIN:VEVENT
DTSTART;TZID=America/New_York:20221124T090000
DTEND;TZID=America/New_York:20221124T110000
DTSTAMP:20260422T083458
CREATED:20211020T003750Z
LAST-MODIFIED:20220622T135100Z
UID:10510-1669280400-1669287600@wolfcreektrackclub.com
SUMMARY:Mifflinburg Turkey Trot
DESCRIPTION:
URL:https://wolfcreektrackclub.com/event/mifflinburg-turkey-trot/
LOCATION:Mifflinburg Community Park\, 131 N. 5th Street\, Mifflinburg\, PA\, 17844\, United States
ATTACH;FMTTYPE=image/png:https://wolfcreektrackclub.com/wp-content/uploads/2021/10/mtt-1.png
END:VEVENT
BEGIN:VEVENT
DTSTART;TZID=America/New_York:20221124T090000
DTEND;TZID=America/New_York:20221124T110000
DTSTAMP:20260422T083458
CREATED:20211013T132743Z
LAST-MODIFIED:20220811T162832Z
UID:10433-1669280400-1669287600@wolfcreektrackclub.com
SUMMARY:Seneca Valley Turkey Chase 5k
DESCRIPTION:
URL:https://wolfcreektrackclub.com/event/seneca-valley-turkey-chase-5k/
LOCATION:Graham Park\, 260 Graham Park Dr\, Cranberry Township\, PA\, 16066\, United States
ATTACH;FMTTYPE=image/png:https://wolfcreektrackclub.com/wp-content/uploads/2021/10/SV-TC.png
END:VEVENT
END:VCALENDAR