BEGIN:VCALENDAR
VERSION:2.0
PRODID:-//Wolf Creek Race Management - ECPv6.15.20//NONSGML v1.0//EN
CALSCALE:GREGORIAN
METHOD:PUBLISH
X-ORIGINAL-URL:https://wolfcreektrackclub.com
X-WR-CALDESC:Events for Wolf Creek Race Management
REFRESH-INTERVAL;VALUE=DURATION:PT1H
X-Robots-Tag:noindex
X-PUBLISHED-TTL:PT1H
BEGIN:VTIMEZONE
TZID:America/New_York
BEGIN:DAYLIGHT
TZOFFSETFROM:-0500
TZOFFSETTO:-0400
TZNAME:EDT
DTSTART:20250309T070000
END:DAYLIGHT
BEGIN:STANDARD
TZOFFSETFROM:-0400
TZOFFSETTO:-0500
TZNAME:EST
DTSTART:20251102T060000
END:STANDARD
BEGIN:DAYLIGHT
TZOFFSETFROM:-0500
TZOFFSETTO:-0400
TZNAME:EDT
DTSTART:20260308T070000
END:DAYLIGHT
BEGIN:STANDARD
TZOFFSETFROM:-0400
TZOFFSETTO:-0500
TZNAME:EST
DTSTART:20261101T060000
END:STANDARD
BEGIN:DAYLIGHT
TZOFFSETFROM:-0500
TZOFFSETTO:-0400
TZNAME:EDT
DTSTART:20270314T070000
END:DAYLIGHT
BEGIN:STANDARD
TZOFFSETFROM:-0400
TZOFFSETTO:-0500
TZNAME:EST
DTSTART:20271107T060000
END:STANDARD
END:VTIMEZONE
BEGIN:VEVENT
DTSTART;TZID=America/New_York:20260413T153000
DTEND;TZID=America/New_York:20260413T183000
DTSTAMP:20260421T052542
CREATED:20260120T155201Z
LAST-MODIFIED:20260317T201431Z
UID:23006-1776094200-1776105000@wolfcreektrackclub.com
SUMMARY:Carlynton & Eden Christian @ Avonworth HS T&F Meet
DESCRIPTION:
URL:https://wolfcreektrackclub.com/event/carlynton-eden-christian-avonworth-hs-tf-meet/
LOCATION:Avonworth Lenzner Field\, 321 Grandview Rd\, Pittsburgh\, PA\, 15237\, United States
END:VEVENT
BEGIN:VEVENT
DTSTART;TZID=America/New_York:20260413T150000
DTEND;TZID=America/New_York:20260413T180000
DTSTAMP:20260421T052542
CREATED:20260120T155200Z
LAST-MODIFIED:20260306T031745Z
UID:23005-1776092400-1776103200@wolfcreektrackclub.com
SUMMARY:Cornell\, Aquinas\, Nazareth Prep\, Sto-Rox\, Eden Christian @ Shady Side Academy HS T&F Meet
DESCRIPTION:
URL:https://wolfcreektrackclub.com/event/shady-side-academy-hs-tf-meet-2/
LOCATION:Shady Side Academy\, 423 Fox Chapel Road\, Pittsburgh\, PA\, 15238\, United States
END:VEVENT
BEGIN:VEVENT
DTSTART;TZID=America/New_York:20260411T100000
DTEND;TZID=America/New_York:20260411T100000
DTSTAMP:20260421T052542
CREATED:20260120T155159Z
LAST-MODIFIED:20260306T025436Z
UID:23004-1775901600-1775901600@wolfcreektrackclub.com
SUMMARY:Fort LeBeouf HS Track Invitational
DESCRIPTION:
URL:https://wolfcreektrackclub.com/event/fort-lebeouf-hs-track-invitational/
LOCATION:Fort LeBeouf High School\, 931 N High Street\, Waterford\, PA\, 16441\, United States
END:VEVENT
BEGIN:VEVENT
DTSTART;TZID=America/New_York:20260411T100000
DTEND;TZID=America/New_York:20260411T100000
DTSTAMP:20260421T052542
CREATED:20260120T155146Z
LAST-MODIFIED:20260306T024033Z
UID:23002-1775901600-1775901600@wolfcreektrackclub.com
SUMMARY:Chartiers Houston Invitational
DESCRIPTION:
URL:https://wolfcreektrackclub.com/event/chartiers-houston-invitational-2/
LOCATION:Buccaneer Stadium\, 2050 West Pike Street\, Houston\, PA\, 15342\, United States
END:VEVENT
BEGIN:VEVENT
DTSTART;TZID=America/New_York:20260411T093000
DTEND;TZID=America/New_York:20260411T093000
DTSTAMP:20260421T052542
CREATED:20260226T193251Z
LAST-MODIFIED:20260226T193251Z
UID:23337-1775899800-1775899800@wolfcreektrackclub.com
SUMMARY:Plymouth Whitemarsh Elite Invitational
DESCRIPTION:
URL:https://wolfcreektrackclub.com/event/plymouth-whitemarsh-elite-invitational/
LOCATION:Plymouth Whitemarsh High School\, 201 E Germantown Pike\, Plymouth Meeting\, PA\, 19462\, United States
END:VEVENT
BEGIN:VEVENT
DTSTART;TZID=America/New_York:20260411T090000
DTEND;TZID=America/New_York:20260411T090000
DTSTAMP:20260421T052542
CREATED:20260120T155158Z
LAST-MODIFIED:20260306T030442Z
UID:23003-1775898000-1775898000@wolfcreektrackclub.com
SUMMARY:West Middlesex HS Invitational
DESCRIPTION:
URL:https://wolfcreektrackclub.com/event/west-middlesex-varsity-invitational/
LOCATION:West Middlsex High School\, 3591 Sharon Rd\, West Middlesex\, PA\, 16159\, United States
END:VEVENT
BEGIN:VEVENT
DTSTART;TZID=America/New_York:20260410T163000
DTEND;TZID=America/New_York:20260410T193000
DTSTAMP:20260421T052542
CREATED:20260322T180857Z
LAST-MODIFIED:20260322T180857Z
UID:23534-1775838600-1775849400@wolfcreektrackclub.com
SUMMARY:Grand Valley Twilight Invitational
DESCRIPTION:
URL:https://wolfcreektrackclub.com/event/grand-valley-twilight-invitational/
LOCATION:Grand Valley High School\, 111 Grand Valley Avenue West\, Orwell\, OH\, 44076\, United States
END:VEVENT
BEGIN:VEVENT
DTSTART;TZID=America/New_York:20260410T160000
DTEND;TZID=America/New_York:20260410T190000
DTSTAMP:20260421T052542
CREATED:20260120T155145Z
LAST-MODIFIED:20260306T022737Z
UID:23000-1775836800-1775847600@wolfcreektrackclub.com
SUMMARY:West Middlesex Junior High Invitational
DESCRIPTION:
URL:https://wolfcreektrackclub.com/event/west-middlesex-junior-high-invitational/
LOCATION:West Middlsex High School\, 3591 Sharon Rd\, West Middlesex\, PA\, 16159\, United States
END:VEVENT
BEGIN:VEVENT
DTSTART;TZID=America/New_York:20260410T000000
DTEND;TZID=America/New_York:20260410T000000
DTSTAMP:20260421T052542
CREATED:20260120T155146Z
LAST-MODIFIED:20260406T163822Z
UID:23001-1775779200-1775779200@wolfcreektrackclub.com
SUMMARY:CANCELLED - RMU Distance & Throws Showcase
DESCRIPTION:
URL:https://wolfcreektrackclub.com/event/rmu-distance-throws-showcase/
LOCATION:PA
END:VEVENT
BEGIN:VEVENT
DTSTART;TZID=America/New_York:20260409T174500
DTEND;TZID=America/New_York:20260409T193000
DTSTAMP:20260421T052542
CREATED:20260403T153556Z
LAST-MODIFIED:20260403T153556Z
UID:23750-1775756700-1775763000@wolfcreektrackclub.com
SUMMARY:Belle Vernon @ Elizabeth Forward HS T&F Meet
DESCRIPTION:
URL:https://wolfcreektrackclub.com/event/belle-vernon-elizabeth-forward-hs-tf-meet/
LOCATION:Elizabeth Forward HS\, 1000 Weigles Hill Road\, Elizabeth\, 15037\, United States
END:VEVENT
BEGIN:VEVENT
DTSTART;TZID=America/New_York:20260409T160000
DTEND;TZID=America/New_York:20260409T190000
DTSTAMP:20260421T052542
CREATED:20260315T025210Z
LAST-MODIFIED:20260315T025210Z
UID:23476-1775750400-1775761200@wolfcreektrackclub.com
SUMMARY:Ellwood City & Neshannock @ Laurel HS T&F Meet
DESCRIPTION:
URL:https://wolfcreektrackclub.com/event/ellwood-city-neshannock-laurel-hs-tf-meet/
LOCATION:Laurel High School\, 2497 Harlansburg Road\, New Castle\, PA\, 16101\, United States
END:VEVENT
BEGIN:VEVENT
DTSTART;TZID=America/New_York:20260409T153000
DTEND;TZID=America/New_York:20260409T183000
DTSTAMP:20260421T052542
CREATED:20260312T190711Z
LAST-MODIFIED:20260312T190711Z
UID:23452-1775748600-1775759400@wolfcreektrackclub.com
SUMMARY:South Side Area & OLSH @ New Brighton HS T&F Meet
DESCRIPTION:
URL:https://wolfcreektrackclub.com/event/south-side-area-olsh-new-brighton-hs-tf-meet/
LOCATION:New Brighton High School\, 3202 43rd St\, New Brighton\, PA\, 15066\, United States
END:VEVENT
BEGIN:VEVENT
DTSTART;TZID=America/New_York:20260409T153000
DTEND;TZID=America/New_York:20260409T183000
DTSTAMP:20260421T052542
CREATED:20260227T020334Z
LAST-MODIFIED:20260227T020334Z
UID:23349-1775748600-1775759400@wolfcreektrackclub.com
SUMMARY:Aliquippa\, BCC\, Rochester\, Western Beaver @ Freedom Area HS T&F Meet
DESCRIPTION:
URL:https://wolfcreektrackclub.com/event/aliquippa-bcc-rochester-western-beaver-freedom-area-hs-tf-meet/
LOCATION:Freedom High School\, 1190 Bulldog Dr\, Freedom\, PA\, 15042\, United States
END:VEVENT
BEGIN:VEVENT
DTSTART;TZID=America/New_York:20260409T143000
DTEND;TZID=America/New_York:20260409T173000
DTSTAMP:20260421T052542
CREATED:20260226T192351Z
LAST-MODIFIED:20260226T192351Z
UID:23335-1775745000-1775755800@wolfcreektrackclub.com
SUMMARY:Seneca Valley @ North Hills HS T&F Meet
DESCRIPTION:
URL:https://wolfcreektrackclub.com/event/seneca-valley-north-hills-hs-tf-meet-2/
LOCATION:North Hills HS Martorelli Stadium\, 5336 Perrysville Ave\, Pittsburgh\, PA\, 15229\, United States
END:VEVENT
BEGIN:VEVENT
DTSTART;TZID=America/New_York:20260408T160000
DTEND;TZID=America/New_York:20260408T190000
DTSTAMP:20260421T052542
CREATED:20260227T034428Z
LAST-MODIFIED:20260407T174537Z
UID:23355-1775664000-1775674800@wolfcreektrackclub.com
SUMMARY:Plum & Trinity Christian @ Woodland HS T&F Meet
DESCRIPTION:
URL:https://wolfcreektrackclub.com/event/plum-woodland-hs-tf-meet/
LOCATION:Woodland Hills High School\, 2550 Greensburg Pike\, Pittsburgh\, 15221\, United States
END:VEVENT
BEGIN:VEVENT
DTSTART;TZID=America/New_York:20260408T153000
DTEND;TZID=America/New_York:20260408T183000
DTSTAMP:20260421T052542
CREATED:20260120T155130Z
LAST-MODIFIED:20260305T040656Z
UID:22995-1775662200-1775673000@wolfcreektrackclub.com
SUMMARY:Mars @ Hampton MS T&F Meet
DESCRIPTION:
URL:https://wolfcreektrackclub.com/event/mars-hampton-ms-tf-meet-2/
LOCATION:Hampton High School\, 2929 McCully Rd\, Allison Park\, PA\, 15202\, United States
END:VEVENT
BEGIN:VEVENT
DTSTART;TZID=America/New_York:20260408T153000
DTEND;TZID=America/New_York:20260408T183000
DTSTAMP:20260421T052542
CREATED:20260120T155129Z
LAST-MODIFIED:20260305T040358Z
UID:22994-1775662200-1775673000@wolfcreektrackclub.com
SUMMARY:Shaler @ Fox Chapel HS T&F Meet
DESCRIPTION:
URL:https://wolfcreektrackclub.com/event/shaler-fox-chapel-high-school/
LOCATION:Fox Chapel High School\, 611 Field Club Road\, Pittsburgh\, PA\, 15238\, United States
END:VEVENT
BEGIN:VEVENT
DTSTART;TZID=America/New_York:20260408T150000
DTEND;TZID=America/New_York:20260408T180000
DTSTAMP:20260421T052542
CREATED:20260120T155130Z
LAST-MODIFIED:20260305T035921Z
UID:22996-1775660400-1775671200@wolfcreektrackclub.com
SUMMARY:Eden Christian\, Quaker Valley\, Sewickley Academy @ Shady Side Academy HS T&F Meet
DESCRIPTION:
URL:https://wolfcreektrackclub.com/event/shady-side-academy-hs-tf-meet/
LOCATION:Shady Side Academy\, 423 Fox Chapel Road\, Pittsburgh\, PA\, 15238\, United States
END:VEVENT
BEGIN:VEVENT
DTSTART;TZID=America/New_York:20260408T143000
DTEND;TZID=America/New_York:20260408T173000
DTSTAMP:20260421T052542
CREATED:20260226T175153Z
LAST-MODIFIED:20260226T175310Z
UID:23332-1775658600-1775669400@wolfcreektrackclub.com
SUMMARY:Pittsburgh City League #3
DESCRIPTION:
URL:https://wolfcreektrackclub.com/event/pittsburgh-city-league-3/
LOCATION:Oliver High School\, 2323 Brighton Rd\, Pittsburgh\, PA\, 15212\, United States
ATTACH;FMTTYPE=image/png:https://wolfcreektrackclub.com/wp-content/uploads/2026/02/11AR-City-League-e1772049377981.png
END:VEVENT
BEGIN:VEVENT
DTSTART;TZID=America/New_York:20260407T160000
DTEND;TZID=America/New_York:20260407T190000
DTSTAMP:20260421T052542
CREATED:20260120T155115Z
LAST-MODIFIED:20260305T021400Z
UID:22991-1775577600-1775588400@wolfcreektrackclub.com
SUMMARY:Riverside & Union Area @ Mohawk HS T&F Meet
DESCRIPTION:
URL:https://wolfcreektrackclub.com/event/mohawk-hs-tf-meet-2/
LOCATION:Mohawk High School\, 385 Mohawk School Road\, Bessemer\, PA\, 16112\, United States
END:VEVENT
BEGIN:VEVENT
DTSTART;TZID=America/New_York:20260407T154500
DTEND;TZID=America/New_York:20260407T184500
DTSTAMP:20260421T052542
CREATED:20260120T155144Z
LAST-MODIFIED:20260406T163645Z
UID:22999-1775576700-1775587500@wolfcreektrackclub.com
SUMMARY:CANCELLED - Grove City @ Hickory HS T&F Meet
DESCRIPTION:
URL:https://wolfcreektrackclub.com/event/grove-city-hickory-hs-tf-meet-2/
LOCATION:Hickory High School\, 640 N Hermitage Road\, Hermitage\, PA\, 16148\, United States
END:VEVENT
BEGIN:VEVENT
DTSTART;TZID=America/New_York:20260407T154500
DTEND;TZID=America/New_York:20260407T154500
DTSTAMP:20260421T052542
CREATED:20260120T172452Z
LAST-MODIFIED:20260120T172452Z
UID:23061-1775576700-1775576700@wolfcreektrackclub.com
SUMMARY:Seneca Valley\, Woodland Hills @ Pine Richland MS
DESCRIPTION:
URL:https://wolfcreektrackclub.com/event/seneca-valley-woodland-hills-pine-richland-ms/
LOCATION:Pine-Richland High School\, 700 Warrendale Road\, Gibsonia\, PA\, 15044\, United States
END:VEVENT
BEGIN:VEVENT
DTSTART;TZID=America/New_York:20260407T153000
DTEND;TZID=America/New_York:20260407T183000
DTSTAMP:20260421T052542
CREATED:20260312T175920Z
LAST-MODIFIED:20260312T180253Z
UID:23450-1775575800-1775586600@wolfcreektrackclub.com
SUMMARY:Apollo Ridge & Riverview @ Deer Lakes HS T&F Meet
DESCRIPTION:
URL:https://wolfcreektrackclub.com/event/apollo-ridge-riverview-deer-lakes-hs-tf-meet/
LOCATION:Deer Lakes High School\, 163 E Union Rd\, Cheswick\, PA\, 15024\, United States
END:VEVENT
BEGIN:VEVENT
DTSTART;TZID=America/New_York:20260407T153000
DTEND;TZID=America/New_York:20260407T183000
DTSTAMP:20260421T052542
CREATED:20260120T155116Z
LAST-MODIFIED:20260305T020253Z
UID:22992-1775575800-1775586600@wolfcreektrackclub.com
SUMMARY:Beaver Area @ Hopewell HS T&F Meet
DESCRIPTION:
URL:https://wolfcreektrackclub.com/event/hopewell-hs-track-2/
LOCATION:Hopewell High School\, 1215 Longvue Ave\, Aliquippa\, PA\, 15001\, United States
END:VEVENT
BEGIN:VEVENT
DTSTART;TZID=America/New_York:20260406T160000
DTEND;TZID=America/New_York:20260406T190000
DTSTAMP:20260421T052542
CREATED:20260224T205419Z
LAST-MODIFIED:20260225T195303Z
UID:23202-1775491200-1775502000@wolfcreektrackclub.com
SUMMARY:Trinity @ Camp Hill HS T&F Meet
DESCRIPTION:
URL:https://wolfcreektrackclub.com/event/trinity-camp-hill-hs-tf-meet/
LOCATION:Camp Hill High School\, 100 South 24th Street\, Camp Hill\, PA\, 17011\, United States
ATTACH;FMTTYPE=image/png:https://wolfcreektrackclub.com/wp-content/uploads/2026/02/169-AR-Camp-Hill-Logo.png
END:VEVENT
BEGIN:VEVENT
DTSTART;TZID=America/New_York:20260403T133000
DTEND;TZID=America/New_York:20260404T163000
DTSTAMP:20260421T052542
CREATED:20260120T155114Z
LAST-MODIFIED:20260303T204616Z
UID:22989-1775223000-1775320200@wolfcreektrackclub.com
SUMMARY:Dave Labor T&F Invitational
DESCRIPTION:
URL:https://wolfcreektrackclub.com/event/dave-labor-tf-invitational/
LOCATION:Slippery Rock University Track\, 1 Morrow Way\, Slippery Rock\, PA\, 16057\, United States
END:VEVENT
BEGIN:VEVENT
DTSTART;TZID=America/New_York:20260402T150000
DTEND;TZID=America/New_York:20260402T150000
DTSTAMP:20260421T052542
CREATED:20260120T155113Z
LAST-MODIFIED:20260303T203050Z
UID:22988-1775142000-1775142000@wolfcreektrackclub.com
SUMMARY:Lancer Relays Invitational
DESCRIPTION:
URL:https://wolfcreektrackclub.com/event/lancer-relays-invitational/
LOCATION:General McClane High School\, 11761 Edinboro Road\, Edinboro\, PA\, 16412\, United States
END:VEVENT
BEGIN:VEVENT
DTSTART;TZID=America/New_York:20260401T160000
DTEND;TZID=America/New_York:20260401T190000
DTSTAMP:20260421T052542
CREATED:20260120T155101Z
LAST-MODIFIED:20260303T202705Z
UID:22987-1775059200-1775070000@wolfcreektrackclub.com
SUMMARY:Mars @ North Allegheny MS T&F Meet
DESCRIPTION:
URL:https://wolfcreektrackclub.com/event/mars-north-allegheny-ms-tf-meet-2/
LOCATION:North Allegheny High School\, 10375 Perry Hwy\, Wexford\, PA\, 15090\, United States
END:VEVENT
BEGIN:VEVENT
DTSTART;TZID=America/New_York:20260401T153000
DTEND;TZID=America/New_York:20260401T183000
DTSTAMP:20260421T052542
CREATED:20260312T171615Z
LAST-MODIFIED:20260312T171615Z
UID:23448-1775057400-1775068200@wolfcreektrackclub.com
SUMMARY:Leechburg Area @ Deer Lakes HS T&F Meet
DESCRIPTION:
URL:https://wolfcreektrackclub.com/event/leechburg-area-deer-lakes-hs-tf-meet/
LOCATION:Deer Lakes High School\, 163 E Union Rd\, Cheswick\, PA\, 15024\, United States
END:VEVENT
BEGIN:VEVENT
DTSTART;TZID=America/New_York:20260401T153000
DTEND;TZID=America/New_York:20260401T183000
DTSTAMP:20260421T052542
CREATED:20260226T164931Z
LAST-MODIFIED:20260226T165413Z
UID:23325-1775057400-1775068200@wolfcreektrackclub.com
SUMMARY:McGuffey & Brentwood @ Burgettstown HS T&F Meet
DESCRIPTION:
URL:https://wolfcreektrackclub.com/event/mcguffey-brentwood-burgettstown-hs-tf-meet/
LOCATION:Burgettstown High School\, 104 Bavington Road\, Burgettstown\, 15021\, United States
END:VEVENT
END:VCALENDAR