BEGIN:VCALENDAR
VERSION:2.0
PRODID:-//Wolf Creek Race Management - ECPv6.15.20//NONSGML v1.0//EN
CALSCALE:GREGORIAN
METHOD:PUBLISH
X-WR-CALNAME:Wolf Creek Race Management
X-ORIGINAL-URL:https://wolfcreektrackclub.com
X-WR-CALDESC:Events for Wolf Creek Race Management
REFRESH-INTERVAL;VALUE=DURATION:PT1H
X-Robots-Tag:noindex
X-PUBLISHED-TTL:PT1H
BEGIN:VTIMEZONE
TZID:America/New_York
BEGIN:DAYLIGHT
TZOFFSETFROM:-0500
TZOFFSETTO:-0400
TZNAME:EDT
DTSTART:20250309T070000
END:DAYLIGHT
BEGIN:STANDARD
TZOFFSETFROM:-0400
TZOFFSETTO:-0500
TZNAME:EST
DTSTART:20251102T060000
END:STANDARD
BEGIN:DAYLIGHT
TZOFFSETFROM:-0500
TZOFFSETTO:-0400
TZNAME:EDT
DTSTART:20260308T070000
END:DAYLIGHT
BEGIN:STANDARD
TZOFFSETFROM:-0400
TZOFFSETTO:-0500
TZNAME:EST
DTSTART:20261101T060000
END:STANDARD
BEGIN:DAYLIGHT
TZOFFSETFROM:-0500
TZOFFSETTO:-0400
TZNAME:EDT
DTSTART:20270314T070000
END:DAYLIGHT
BEGIN:STANDARD
TZOFFSETFROM:-0400
TZOFFSETTO:-0500
TZNAME:EST
DTSTART:20271107T060000
END:STANDARD
END:VTIMEZONE
BEGIN:VEVENT
DTSTART;TZID=America/New_York:20260411T100000
DTEND;TZID=America/New_York:20260411T100000
DTSTAMP:20260422T160256
CREATED:20260120T155146Z
LAST-MODIFIED:20260306T024033Z
UID:23002-1775901600-1775901600@wolfcreektrackclub.com
SUMMARY:Chartiers Houston Invitational
DESCRIPTION:
URL:https://wolfcreektrackclub.com/event/chartiers-houston-invitational-2/
LOCATION:Buccaneer Stadium\, 2050 West Pike Street\, Houston\, PA\, 15342\, United States
END:VEVENT
BEGIN:VEVENT
DTSTART;TZID=America/New_York:20260411T100000
DTEND;TZID=America/New_York:20260411T100000
DTSTAMP:20260422T160256
CREATED:20260120T155159Z
LAST-MODIFIED:20260306T025436Z
UID:23004-1775901600-1775901600@wolfcreektrackclub.com
SUMMARY:Fort LeBeouf HS Track Invitational
DESCRIPTION:
URL:https://wolfcreektrackclub.com/event/fort-lebeouf-hs-track-invitational/
LOCATION:Fort LeBeouf High School\, 931 N High Street\, Waterford\, PA\, 16441\, United States
END:VEVENT
BEGIN:VEVENT
DTSTART;TZID=America/New_York:20260413T150000
DTEND;TZID=America/New_York:20260413T180000
DTSTAMP:20260422T160256
CREATED:20260120T155200Z
LAST-MODIFIED:20260306T031745Z
UID:23005-1776092400-1776103200@wolfcreektrackclub.com
SUMMARY:Cornell\, Aquinas\, Nazareth Prep\, Sto-Rox\, Eden Christian @ Shady Side Academy HS T&F Meet
DESCRIPTION:
URL:https://wolfcreektrackclub.com/event/shady-side-academy-hs-tf-meet-2/
LOCATION:Shady Side Academy\, 423 Fox Chapel Road\, Pittsburgh\, PA\, 15238\, United States
END:VEVENT
BEGIN:VEVENT
DTSTART;TZID=America/New_York:20260413T153000
DTEND;TZID=America/New_York:20260413T183000
DTSTAMP:20260422T160256
CREATED:20260120T155201Z
LAST-MODIFIED:20260317T201431Z
UID:23006-1776094200-1776105000@wolfcreektrackclub.com
SUMMARY:Carlynton & Eden Christian @ Avonworth HS T&F Meet
DESCRIPTION:
URL:https://wolfcreektrackclub.com/event/carlynton-eden-christian-avonworth-hs-tf-meet/
LOCATION:Avonworth Lenzner Field\, 321 Grandview Rd\, Pittsburgh\, PA\, 15237\, United States
END:VEVENT
BEGIN:VEVENT
DTSTART;TZID=America/New_York:20260413T154500
DTEND;TZID=America/New_York:20260413T154500
DTSTAMP:20260422T160256
CREATED:20260120T172649Z
LAST-MODIFIED:20260120T172649Z
UID:23063-1776095100-1776095100@wolfcreektrackclub.com
SUMMARY:North Hills @ Pine-Richland HS T&F Meet
DESCRIPTION:
URL:https://wolfcreektrackclub.com/event/north-hills-pine-richland-hs-tf-meet-2/
LOCATION:Pine-Richland High School\, 700 Warrendale Road\, Gibsonia\, PA\, 15044\, United States
END:VEVENT
BEGIN:VEVENT
DTSTART;TZID=America/New_York:20260413T160000
DTEND;TZID=America/New_York:20260413T160000
DTSTAMP:20260422T160256
CREATED:20260120T155202Z
LAST-MODIFIED:20260403T170805Z
UID:23007-1776096000-1776096000@wolfcreektrackclub.com
SUMMARY:Shaler @ North Allegheny Middle School
DESCRIPTION:
URL:https://wolfcreektrackclub.com/event/shaler-north-allegheny-middle-school/
LOCATION:North Allegheny Intermediate High School\, 350 Cumberland Road\, Pittsburgh\, PA\, 15237\, United States
END:VEVENT
BEGIN:VEVENT
DTSTART;TZID=America/New_York:20260413T160000
DTEND;TZID=America/New_York:20260413T190000
DTSTAMP:20260422T160256
CREATED:20260120T155213Z
LAST-MODIFIED:20260317T194147Z
UID:23008-1776096000-1776106800@wolfcreektrackclub.com
SUMMARY:Thomas Jefferson & West Mifflin @ Mt. Lebanon HS T&F Meet
DESCRIPTION:
URL:https://wolfcreektrackclub.com/event/mt-lebanon-hs-tf-meet/
LOCATION:Mt. Lebanon High School\, Stadium Drive\, Mt. Lebanon\, PA\, 15228\, United States
END:VEVENT
BEGIN:VEVENT
DTSTART;TZID=America/New_York:20260414T033000
DTEND;TZID=America/New_York:20260414T183000
DTSTAMP:20260422T160256
CREATED:20260120T155215Z
LAST-MODIFIED:20260317T201039Z
UID:23011-1776137400-1776191400@wolfcreektrackclub.com
SUMMARY:Armstrong @ Hampton HS T&F Meet
DESCRIPTION:
URL:https://wolfcreektrackclub.com/event/armstrong-hampton-hs/
LOCATION:Hampton High School\, 2929 McCully Rd\, Allison Park\, PA\, 15202\, United States
END:VEVENT
BEGIN:VEVENT
DTSTART;TZID=America/New_York:20260414T153000
DTEND;TZID=America/New_York:20260414T183000
DTSTAMP:20260422T160256
CREATED:20260120T155214Z
LAST-MODIFIED:20260317T195539Z
UID:23009-1776180600-1776191400@wolfcreektrackclub.com
SUMMARY:Ambridge & Hopewell @ Central Valley HS T&F Meet
DESCRIPTION:
URL:https://wolfcreektrackclub.com/event/central-valley-hs-tf-meet-2/
LOCATION:Central Valley High School\, 160 Baker Road Ext\, Monaca\, PA\, 15061\, United States
END:VEVENT
BEGIN:VEVENT
DTSTART;TZID=America/New_York:20260414T153000
DTEND;TZID=America/New_York:20260414T183000
DTSTAMP:20260422T160256
CREATED:20260120T155216Z
LAST-MODIFIED:20260315T033833Z
UID:23012-1776180600-1776191400@wolfcreektrackclub.com
SUMMARY:Seneca Valley @ North Allegheny HS T&F Meet
DESCRIPTION:
URL:https://wolfcreektrackclub.com/event/seneca-valley-north-allegheny-high-school/
LOCATION:North Allegheny High School\, 10375 Perry Hwy\, Wexford\, PA\, 15090\, United States
END:VEVENT
BEGIN:VEVENT
DTSTART;TZID=America/New_York:20260414T153000
DTEND;TZID=America/New_York:20260414T183000
DTSTAMP:20260422T160256
CREATED:20260315T033312Z
LAST-MODIFIED:20260416T171023Z
UID:23479-1776180600-1776191400@wolfcreektrackclub.com
SUMMARY:CANCELLED North Catholic & Springdale @ Deer Lakes HS T&F Meet
DESCRIPTION:
URL:https://wolfcreektrackclub.com/event/north-catholic-springdale-deer-lakes-hs-tf-meet/
LOCATION:Deer Lakes High School\, 163 E Union Rd\, Cheswick\, PA\, 15024\, United States
END:VEVENT
BEGIN:VEVENT
DTSTART;TZID=America/New_York:20260414T160000
DTEND;TZID=America/New_York:20260414T190000
DTSTAMP:20260422T160256
CREATED:20260120T155215Z
LAST-MODIFIED:20260315T034543Z
UID:23010-1776182400-1776193200@wolfcreektrackclub.com
SUMMARY:Sharon @ Hickory HS T&F Meet
DESCRIPTION:
URL:https://wolfcreektrackclub.com/event/sharon-hickory-hs-tf-meet-3/
LOCATION:Hickory High School\, 640 N Hermitage Road\, Hermitage\, PA\, 16148\, United States
END:VEVENT
BEGIN:VEVENT
DTSTART;TZID=America/New_York:20260414T160000
DTEND;TZID=America/New_York:20260414T190000
DTSTAMP:20260422T160256
CREATED:20260409T172206Z
LAST-MODIFIED:20260409T172206Z
UID:23855-1776182400-1776193200@wolfcreektrackclub.com
SUMMARY:North Hills @ Seneca Valley MS T&F Meet
DESCRIPTION:
URL:https://wolfcreektrackclub.com/event/north-hills-seneca-valley-ms-tf-meet/
LOCATION:Seneca Valley High School\, 128 Seneca School Road\, Harmony\, PA\, 16037\, United States
END:VEVENT
BEGIN:VEVENT
DTSTART;TZID=America/New_York:20260415T143000
DTEND;TZID=America/New_York:20260415T173000
DTSTAMP:20260422T160256
CREATED:20260226T193710Z
LAST-MODIFIED:20260226T193710Z
UID:23339-1776263400-1776274200@wolfcreektrackclub.com
SUMMARY:Pittsburgh City League Meet #4
DESCRIPTION:
URL:https://wolfcreektrackclub.com/event/pittsburgh-city-league-meet-4/
LOCATION:Oliver High School\, 2323 Brighton Rd\, Pittsburgh\, PA\, 15212\, United States
ATTACH;FMTTYPE=image/png:https://wolfcreektrackclub.com/wp-content/uploads/2026/02/11AR-City-League-e1772049377981.png
END:VEVENT
BEGIN:VEVENT
DTSTART;TZID=America/New_York:20260415T154500
DTEND;TZID=America/New_York:20260415T180000
DTSTAMP:20260422T160256
CREATED:20260120T155229Z
LAST-MODIFIED:20260403T171443Z
UID:23014-1776267900-1776276000@wolfcreektrackclub.com
SUMMARY:Chartiers Houston Quad Meet
DESCRIPTION:
URL:https://wolfcreektrackclub.com/event/chartiers-houston-quad-meet/
LOCATION:Buccaneer Stadium\, 2050 West Pike Street\, Houston\, PA\, 15342\, United States
END:VEVENT
BEGIN:VEVENT
DTSTART;TZID=America/New_York:20260415T160000
DTEND;TZID=America/New_York:20260415T190000
DTSTAMP:20260422T160256
CREATED:20260120T155228Z
LAST-MODIFIED:20260403T172752Z
UID:23013-1776268800-1776279600@wolfcreektrackclub.com
SUMMARY:Fox Chapel\, Woodland Hills @ North Allegheny Middle School
DESCRIPTION:
URL:https://wolfcreektrackclub.com/event/fox-chapel-woodland-hills-north-allegheny-middle-school/
LOCATION:North Allegheny Intermediate High School\, 350 Cumberland Road\, Pittsburgh\, PA\, 15237\, United States
END:VEVENT
BEGIN:VEVENT
DTSTART;TZID=America/New_York:20260415T160000
DTEND;TZID=America/New_York:20260415T190000
DTSTAMP:20260422T160256
CREATED:20260120T155230Z
LAST-MODIFIED:20260414T145205Z
UID:23016-1776268800-1776279600@wolfcreektrackclub.com
SUMMARY:Shaler @ Mars MS T&F Meet
DESCRIPTION:
URL:https://wolfcreektrackclub.com/event/shaler-mars-ms-tf-meet-2/
LOCATION:Mars Athletic Complex\, 1775 Three Degree Road\, Mars\, PA\, 16046\, United States
END:VEVENT
BEGIN:VEVENT
DTSTART;TZID=America/New_York:20260416T000000
DTEND;TZID=America/New_York:20260416T000000
DTSTAMP:20260422T160256
CREATED:20260120T155243Z
LAST-MODIFIED:20260120T155243Z
UID:23018-1776297600-1776297600@wolfcreektrackclub.com
SUMMARY:John Papa Invitational
DESCRIPTION:
URL:https://wolfcreektrackclub.com/event/john-papa-invitational/
LOCATION:PA
END:VEVENT
BEGIN:VEVENT
DTSTART;TZID=America/New_York:20260416T110000
DTEND;TZID=America/New_York:20260416T200000
DTSTAMP:20260422T160256
CREATED:20260416T190233Z
LAST-MODIFIED:20260416T190233Z
UID:23988-1776337200-1776369600@wolfcreektrackclub.com
SUMMARY:SRU John Pappa Invitational
DESCRIPTION:
URL:https://wolfcreektrackclub.com/event/sru-john-pappa-invitational/
LOCATION:Slippery Rock University Track\, 1 Morrow Way\, Slippery Rock\, PA\, 16057\, United States
END:VEVENT
BEGIN:VEVENT
DTSTART;TZID=America/New_York:20260416T153000
DTEND;TZID=America/New_York:20260416T183000
DTSTAMP:20260422T160256
CREATED:20260120T155231Z
LAST-MODIFIED:20260403T173513Z
UID:23017-1776353400-1776364200@wolfcreektrackclub.com
SUMMARY:Highlands @ Mars HS T&F Meet
DESCRIPTION:
URL:https://wolfcreektrackclub.com/event/highlands-mars-hs-tf-meet-2/
LOCATION:Mars Athletic Complex\, 1775 Three Degree Road\, Mars\, PA\, 16046\, United States
END:VEVENT
BEGIN:VEVENT
DTSTART;TZID=America/New_York:20260416T153000
DTEND;TZID=America/New_York:20260416T183000
DTSTAMP:20260422T160256
CREATED:20260227T021214Z
LAST-MODIFIED:20260416T193811Z
UID:23351-1776353400-1776364200@wolfcreektrackclub.com
SUMMARY:New Brighton & Rochester @ Freedom Area HS T&F Meet
DESCRIPTION:
URL:https://wolfcreektrackclub.com/event/new-brighton-rochester-freedom-area-hs-tf-meet/
LOCATION:Freedom High School\, 1190 Bulldog Dr\, Freedom\, PA\, 15042\, United States
END:VEVENT
BEGIN:VEVENT
DTSTART;TZID=America/New_York:20260416T154500
DTEND;TZID=America/New_York:20260416T184500
DTSTAMP:20260422T160256
CREATED:20260120T155229Z
LAST-MODIFIED:20260416T173302Z
UID:23015-1776354300-1776365100@wolfcreektrackclub.com
SUMMARY:Hampton @ Butler MS T&F Meet
DESCRIPTION:
URL:https://wolfcreektrackclub.com/event/butler-hampton-ms/
LOCATION:Butler High School\, 120 Campus Lane\, Butler\, PA\, United States
END:VEVENT
BEGIN:VEVENT
DTSTART;TZID=America/New_York:20260417T133000
DTEND;TZID=America/New_York:20260417T183000
DTSTAMP:20260422T160256
CREATED:20260120T155244Z
LAST-MODIFIED:20260322T203851Z
UID:23019-1776432600-1776450600@wolfcreektrackclub.com
SUMMARY:SRU HS Invitational
DESCRIPTION:
URL:https://wolfcreektrackclub.com/event/sru-hs-invitational/
LOCATION:Slippery Rock University Track\, 1 Morrow Way\, Slippery Rock\, PA\, 16057\, United States
END:VEVENT
BEGIN:VEVENT
DTSTART;TZID=America/New_York:20260418T100000
DTEND;TZID=America/New_York:20260418T140000
DTSTAMP:20260422T160256
CREATED:20260120T155244Z
LAST-MODIFIED:20260325T013948Z
UID:23020-1776506400-1776520800@wolfcreektrackclub.com
SUMMARY:Seneca Valley Marcie Peaco Invitational
DESCRIPTION:
URL:https://wolfcreektrackclub.com/event/marcie-peaco-invitational/
LOCATION:Seneca Valley High School\, 128 Seneca School Road\, Harmony\, PA\, 16037\, United States
END:VEVENT
BEGIN:VEVENT
DTSTART;TZID=America/New_York:20260418T103000
DTEND;TZID=America/New_York:20260418T193000
DTSTAMP:20260422T160256
CREATED:20260120T155245Z
LAST-MODIFIED:20260403T174647Z
UID:23021-1776508200-1776540600@wolfcreektrackclub.com
SUMMARY:Butler Invitational - 61st Annual
DESCRIPTION:
URL:https://wolfcreektrackclub.com/event/butler-invitational-2/
LOCATION:Butler High School\, 120 Campus Lane\, Butler\, PA\, United States
END:VEVENT
BEGIN:VEVENT
DTSTART;TZID=America/New_York:20260420T143000
DTEND;TZID=America/New_York:20260420T173000
DTSTAMP:20260422T160256
CREATED:20260227T010205Z
LAST-MODIFIED:20260227T010205Z
UID:23343-1776695400-1776706200@wolfcreektrackclub.com
SUMMARY:Pittsburgh City League Meet #5
DESCRIPTION:
URL:https://wolfcreektrackclub.com/event/pittsburgh-city-league-meet-5/
LOCATION:Oliver High School\, 2323 Brighton Rd\, Pittsburgh\, PA\, 15212\, United States
ATTACH;FMTTYPE=image/png:https://wolfcreektrackclub.com/wp-content/uploads/2026/02/11AR-City-League-e1772049377981.png
END:VEVENT
BEGIN:VEVENT
DTSTART;TZID=America/New_York:20260420T160000
DTEND;TZID=America/New_York:20260420T190000
DTSTAMP:20260422T160256
CREATED:20260120T155246Z
LAST-MODIFIED:20260403T175907Z
UID:23022-1776700800-1776711600@wolfcreektrackclub.com
SUMMARY:Seneca Valley @ North Allegheny MS T&F Meet
DESCRIPTION:
URL:https://wolfcreektrackclub.com/event/seneca-valley-north-allegheny-middle-school/
LOCATION:North Allegheny Intermediate High School\, 350 Cumberland Road\, Pittsburgh\, PA\, 15237\, United States
END:VEVENT
BEGIN:VEVENT
DTSTART;TZID=America/New_York:20260420T160000
DTEND;TZID=America/New_York:20260420T190000
DTSTAMP:20260422T160256
CREATED:20260227T005835Z
LAST-MODIFIED:20260227T005835Z
UID:23341-1776700800-1776711600@wolfcreektrackclub.com
SUMMARY:East Pennsboro @ Camp Hill HS T&F Meet
DESCRIPTION:
URL:https://wolfcreektrackclub.com/event/east-pennsboro-camp-hill-hs-tf-meet/
LOCATION:Camp Hill High School\, 100 South 24th Street\, Camp Hill\, PA\, 17011\, United States
END:VEVENT
BEGIN:VEVENT
DTSTART;TZID=America/New_York:20260421T153000
DTEND;TZID=America/New_York:20260421T183000
DTSTAMP:20260422T160256
CREATED:20260317T182554Z
LAST-MODIFIED:20260317T182554Z
UID:23486-1776785400-1776796200@wolfcreektrackclub.com
SUMMARY:Bethel Park @ Trinity HS T&F Meet
DESCRIPTION:
URL:https://wolfcreektrackclub.com/event/bethel-park-trinity-hs-tf-meet/
LOCATION:Trinity High School\, 231 Park Avenue\, Washington\, PA\, 15301\, United States
END:VEVENT
BEGIN:VEVENT
DTSTART;TZID=America/New_York:20260421T154500
DTEND;TZID=America/New_York:20260421T184500
DTSTAMP:20260422T160256
CREATED:20260120T172945Z
LAST-MODIFIED:20260403T180242Z
UID:23065-1776786300-1776797100@wolfcreektrackclub.com
SUMMARY:Fox Chapel\, North Allegheny @ Pine Richland HS T&F Meet
DESCRIPTION:
URL:https://wolfcreektrackclub.com/event/fox-chapel-north-allegheny-pine-richland-hs/
LOCATION:Pine-Richland High School\, 700 Warrendale Road\, Gibsonia\, PA\, 15044\, United States
END:VEVENT
END:VCALENDAR