BEGIN:VCALENDAR
VERSION:2.0
PRODID:-//Wolf Creek Race Management - ECPv6.15.20//NONSGML v1.0//EN
CALSCALE:GREGORIAN
METHOD:PUBLISH
X-ORIGINAL-URL:https://wolfcreektrackclub.com
X-WR-CALDESC:Events for Wolf Creek Race Management
REFRESH-INTERVAL;VALUE=DURATION:PT1H
X-Robots-Tag:noindex
X-PUBLISHED-TTL:PT1H
BEGIN:VTIMEZONE
TZID:America/New_York
BEGIN:DAYLIGHT
TZOFFSETFROM:-0500
TZOFFSETTO:-0400
TZNAME:EDT
DTSTART:20250309T070000
END:DAYLIGHT
BEGIN:STANDARD
TZOFFSETFROM:-0400
TZOFFSETTO:-0500
TZNAME:EST
DTSTART:20251102T060000
END:STANDARD
BEGIN:DAYLIGHT
TZOFFSETFROM:-0500
TZOFFSETTO:-0400
TZNAME:EDT
DTSTART:20260308T070000
END:DAYLIGHT
BEGIN:STANDARD
TZOFFSETFROM:-0400
TZOFFSETTO:-0500
TZNAME:EST
DTSTART:20261101T060000
END:STANDARD
BEGIN:DAYLIGHT
TZOFFSETFROM:-0500
TZOFFSETTO:-0400
TZNAME:EDT
DTSTART:20270314T070000
END:DAYLIGHT
BEGIN:STANDARD
TZOFFSETFROM:-0400
TZOFFSETTO:-0500
TZNAME:EST
DTSTART:20271107T060000
END:STANDARD
END:VTIMEZONE
BEGIN:VEVENT
DTSTART;TZID=America/New_York:20260423T143000
DTEND;TZID=America/New_York:20260423T143000
DTSTAMP:20260422T202931
CREATED:20260120T155313Z
LAST-MODIFIED:20260403T191950Z
UID:23028-1776954600-1776954600@wolfcreektrackclub.com
SUMMARY:Butler 9/10 Grade Invitational
DESCRIPTION:
URL:https://wolfcreektrackclub.com/event/butler-9-10/
LOCATION:Butler High School\, 120 Campus Lane\, Butler\, PA\, United States
END:VEVENT
BEGIN:VEVENT
DTSTART;TZID=America/New_York:20260423T160000
DTEND;TZID=America/New_York:20260423T183000
DTSTAMP:20260422T202931
CREATED:20260120T155301Z
LAST-MODIFIED:20260403T181916Z
UID:23027-1776960000-1776969000@wolfcreektrackclub.com
SUMMARY:Ambridge and Carlynton @ Avonworth MS T&F Meet
DESCRIPTION:
URL:https://wolfcreektrackclub.com/event/ambridge-and-carlynton-avonworth-ms/
LOCATION:Avonworth Lenzner Field\, 321 Grandview Rd\, Pittsburgh\, PA\, 15237\, United States
END:VEVENT
BEGIN:VEVENT
DTSTART;TZID=America/New_York:20260423T160000
DTEND;TZID=America/New_York:20260423T190000
DTSTAMP:20260422T202931
CREATED:20260322T184708Z
LAST-MODIFIED:20260322T184708Z
UID:23537-1776960000-1776970800@wolfcreektrackclub.com
SUMMARY:Cavalier Invitational
DESCRIPTION:
URL:https://wolfcreektrackclub.com/event/cavalier-invitational-4/
LOCATION:Chillicothe High School\, 425 Yoctangee Parkway\, Chillicothe\, OH\, 45601\, United States
END:VEVENT
BEGIN:VEVENT
DTSTART;VALUE=DATE:20260424
DTEND;VALUE=DATE:20260425
DTSTAMP:20260422T202931
CREATED:20260120T160517Z
LAST-MODIFIED:20260120T160517Z
UID:23055-1776988800-1777075199@wolfcreektrackclub.com
SUMMARY:Allegheny College Gator Invitational
DESCRIPTION:
URL:https://wolfcreektrackclub.com/event/allegheny-college-gator-invitational/
LOCATION:MI
END:VEVENT
BEGIN:VEVENT
DTSTART;TZID=America/New_York:20260424T143000
DTEND;TZID=America/New_York:20260424T193000
DTSTAMP:20260422T202931
CREATED:20260120T155314Z
LAST-MODIFIED:20260406T154218Z
UID:23030-1777041000-1777059000@wolfcreektrackclub.com
SUMMARY:Seneca Valley Invitational
DESCRIPTION:
URL:https://wolfcreektrackclub.com/event/seneca-valley-invitational-2/
LOCATION:Seneca Valley High School\, 128 Seneca School Road\, Harmony\, PA\, 16037\, United States
END:VEVENT
BEGIN:VEVENT
DTSTART;TZID=America/New_York:20260425T080000
DTEND;TZID=America/New_York:20260425T130000
DTSTAMP:20260422T202931
CREATED:20260406T164704Z
LAST-MODIFIED:20260406T164704Z
UID:23787-1777104000-1777122000@wolfcreektrackclub.com
SUMMARY:RTCS Invitational @ RMU
DESCRIPTION:
URL:https://wolfcreektrackclub.com/event/rtcs-invitational-rmu/
LOCATION:RMU Island Sports Center\, 7600 Grand Ave\, Pittsburgh\, PA\, 15225\, United States
END:VEVENT
BEGIN:VEVENT
DTSTART;TZID=America/New_York:20260425T090000
DTEND;TZID=America/New_York:20260425T150000
DTSTAMP:20260422T202931
CREATED:20260120T155328Z
LAST-MODIFIED:20260406T165630Z
UID:23033-1777107600-1777129200@wolfcreektrackclub.com
SUMMARY:City of Hermitage Invitational
DESCRIPTION:
URL:https://wolfcreektrackclub.com/event/city-of-hermitage-invitational/
LOCATION:Hickory High School\, 640 N Hermitage Road\, Hermitage\, PA\, 16148\, United States
END:VEVENT
BEGIN:VEVENT
DTSTART;TZID=America/New_York:20260425T140000
DTEND;TZID=America/New_York:20260425T200000
DTSTAMP:20260422T202931
CREATED:20260120T155316Z
LAST-MODIFIED:20260406T165020Z
UID:23032-1777125600-1777147200@wolfcreektrackclub.com
SUMMARY:RMU Benson Hodge Memorial Invitational
DESCRIPTION:
URL:https://wolfcreektrackclub.com/event/rmu-benson-hodge-memorial-invitational/
LOCATION:RMU Island Sports Center\, 7600 Grand Ave\, Pittsburgh\, PA\, 15225\, United States
END:VEVENT
BEGIN:VEVENT
DTSTART;TZID=America/New_York:20260426T070000
DTEND;TZID=America/New_York:20260426T120000
DTSTAMP:20260422T202931
CREATED:20260120T155315Z
LAST-MODIFIED:20260322T190148Z
UID:23031-1777186800-1777204800@wolfcreektrackclub.com
SUMMARY:NYC Runs Brooklyn Half Marathon
DESCRIPTION:
URL:https://wolfcreektrackclub.com/event/nyc-runs-brooklyn-half-marathon-2/
LOCATION:MI
END:VEVENT
BEGIN:VEVENT
DTSTART;TZID=America/New_York:20260426T090000
DTEND;TZID=America/New_York:20260426T120000
DTSTAMP:20260422T202931
CREATED:20260120T155329Z
LAST-MODIFIED:20260322T195017Z
UID:23034-1777194000-1777204800@wolfcreektrackclub.com
SUMMARY:Run for the Hill of It Challenge
DESCRIPTION:
URL:https://wolfcreektrackclub.com/event/run-for-the-hill-of-it/
LOCATION:MI
END:VEVENT
BEGIN:VEVENT
DTSTART;TZID=America/New_York:20260427T160000
DTEND;TZID=America/New_York:20260427T190000
DTSTAMP:20260422T202931
CREATED:20260322T192431Z
LAST-MODIFIED:20260322T192431Z
UID:23542-1777305600-1777316400@wolfcreektrackclub.com
SUMMARY:MS Raider Relay Invitational
DESCRIPTION:
URL:https://wolfcreektrackclub.com/event/ms-raider-relay-invitational/
LOCATION:Seneca Valley High School\, 128 Seneca School Road\, Harmony\, PA\, 16037\, United States
END:VEVENT
BEGIN:VEVENT
DTSTART;TZID=America/New_York:20260428T150000
DTEND;TZID=America/New_York:20260428T150000
DTSTAMP:20260422T202931
CREATED:20260120T155330Z
LAST-MODIFIED:20260120T155330Z
UID:23036-1777388400-1777388400@wolfcreektrackclub.com
SUMMARY:WPIAL Team Playoff @ North Allegheny (tentative)
DESCRIPTION:
URL:https://wolfcreektrackclub.com/event/wpial-team-playoff-north-allegheny-tentative/
LOCATION:MI
END:VEVENT
BEGIN:VEVENT
DTSTART;TZID=America/New_York:20260428T150000
DTEND;TZID=America/New_York:20260428T150000
DTSTAMP:20260422T202931
CREATED:20260120T155331Z
LAST-MODIFIED:20260120T155331Z
UID:23037-1777388400-1777388400@wolfcreektrackclub.com
SUMMARY:WPIAL Team Playoff @ Butler (tentative)
DESCRIPTION:
URL:https://wolfcreektrackclub.com/event/wpial-team-playoff-butler-tentative/
LOCATION:MI
END:VEVENT
BEGIN:VEVENT
DTSTART;TZID=America/New_York:20260428T160000
DTEND;TZID=America/New_York:20260428T190000
DTSTAMP:20260422T202931
CREATED:20260227T013239Z
LAST-MODIFIED:20260227T013239Z
UID:23347-1777392000-1777402800@wolfcreektrackclub.com
SUMMARY:Northern @ Camp Hill HS T&F Meet
DESCRIPTION:
URL:https://wolfcreektrackclub.com/event/northern-camp-hill-hs-tf-meet/
LOCATION:Camp Hill High School\, 100 South 24th Street\, Camp Hill\, PA\, 17011\, United States
END:VEVENT
BEGIN:VEVENT
DTSTART;TZID=America/New_York:20260429T143000
DTEND;TZID=America/New_York:20260429T173000
DTSTAMP:20260422T202931
CREATED:20260227T011052Z
LAST-MODIFIED:20260227T011052Z
UID:23345-1777473000-1777483800@wolfcreektrackclub.com
SUMMARY:Pittsburgh City League Meet #6
DESCRIPTION:
URL:https://wolfcreektrackclub.com/event/pittsburgh-city-league-meet-6/
LOCATION:Oliver High School\, 2323 Brighton Rd\, Pittsburgh\, PA\, 15212\, United States
ATTACH;FMTTYPE=image/png:https://wolfcreektrackclub.com/wp-content/uploads/2026/02/11AR-City-League-e1772049377981.png
END:VEVENT
BEGIN:VEVENT
DTSTART;TZID=America/New_York:20260429T153000
DTEND;TZID=America/New_York:20260429T183000
DTSTAMP:20260422T202931
CREATED:20260120T155343Z
LAST-MODIFIED:20260414T155449Z
UID:23038-1777476600-1777487400@wolfcreektrackclub.com
SUMMARY:North Hills @ Hampton MS H&F Meet
DESCRIPTION:
URL:https://wolfcreektrackclub.com/event/north-hills-hampton-ms/
LOCATION:Hampton High School\, 2929 McCully Rd\, Allison Park\, PA\, 15202\, United States
END:VEVENT
BEGIN:VEVENT
DTSTART;TZID=America/New_York:20260430T130000
DTEND;TZID=America/New_York:20260430T170000
DTSTAMP:20260422T202931
CREATED:20260322T193523Z
LAST-MODIFIED:20260322T193523Z
UID:23545-1777554000-1777568400@wolfcreektrackclub.com
SUMMARY:Bobby Mo Don't Run Slow Invitational
DESCRIPTION:
URL:https://wolfcreektrackclub.com/event/bobby-mo-dont-run-slow-invitational-2/
LOCATION:RMU Island Sports Center\, 7600 Grand Ave\, Pittsburgh\, PA\, 15225\, United States
END:VEVENT
BEGIN:VEVENT
DTSTART;TZID=America/New_York:20260430T140000
DTEND;TZID=America/New_York:20260430T140000
DTSTAMP:20260422T202931
CREATED:20260120T155344Z
LAST-MODIFIED:20260414T161227Z
UID:23040-1777557600-1777557600@wolfcreektrackclub.com
SUMMARY:Mercer County Jr High T&F Championships
DESCRIPTION:
URL:https://wolfcreektrackclub.com/event/mercer-county-jr-high-tf-championships/
LOCATION:Greenville Senior High School\, 9 Donation Road\, Greenville\, PA\, 16125\, United States
END:VEVENT
BEGIN:VEVENT
DTSTART;TZID=America/New_York:20260430T160000
DTEND;TZID=America/New_York:20260430T190000
DTSTAMP:20260422T202931
CREATED:20260413T225739Z
LAST-MODIFIED:20260413T225739Z
UID:23889-1777564800-1777575600@wolfcreektrackclub.com
SUMMARY:Butler @ Seneca Valley MS T&F Meet
DESCRIPTION:
URL:https://wolfcreektrackclub.com/event/butler-seneca-valley-ms-tf-meet/
LOCATION:Seneca Valley High School\, 128 Seneca School Road\, Harmony\, PA\, 16037\, United States
END:VEVENT
BEGIN:VEVENT
DTSTART;TZID=America/New_York:20260501T000000
DTEND;TZID=America/New_York:20260501T000000
DTSTAMP:20260422T202931
CREATED:20260121T131838Z
LAST-MODIFIED:20260416T211943Z
UID:23069-1777593600-1777593600@wolfcreektrackclub.com
SUMMARY:Coudersport Invitational
DESCRIPTION:
URL:https://wolfcreektrackclub.com/event/coudersport-invitational-3/
LOCATION:Coudersport Area Recreational Park\, Carp Park Rd\, Coudersport\, PA\, 16915\, United States
END:VEVENT
BEGIN:VEVENT
DTSTART;TZID=America/New_York:20260501T080000
DTEND;TZID=America/New_York:20260501T170000
DTSTAMP:20260422T202931
CREATED:20260416T212407Z
LAST-MODIFIED:20260416T212407Z
UID:23996-1777622400-1777654800@wolfcreektrackclub.com
SUMMARY:Larry Cogan Warrior Invitational
DESCRIPTION:
URL:https://wolfcreektrackclub.com/event/larry-cogan-warrior-invitational-2/
LOCATION:MI
END:VEVENT
BEGIN:VEVENT
DTSTART;TZID=America/New_York:20260501T103000
DTEND;TZID=America/New_York:20260501T163000
DTSTAMP:20260422T202931
CREATED:20260416T211555Z
LAST-MODIFIED:20260416T211555Z
UID:23994-1777631400-1777653000@wolfcreektrackclub.com
SUMMARY:Pine-Richland Invitational
DESCRIPTION:
URL:https://wolfcreektrackclub.com/event/pine-richland-invitational-2/
LOCATION:Pine-Richland High School\, 700 Warrendale Road\, Gibsonia\, PA\, 15044\, United States
END:VEVENT
BEGIN:VEVENT
DTSTART;TZID=America/New_York:20260502T000000
DTEND;TZID=America/New_York:20260502T000000
DTSTAMP:20260422T202931
CREATED:20260120T155344Z
LAST-MODIFIED:20260120T155344Z
UID:23041-1777680000-1777680000@wolfcreektrackclub.com
SUMMARY:Farrell Invitational
DESCRIPTION:
URL:https://wolfcreektrackclub.com/event/farrell-invitational/
LOCATION:MI
END:VEVENT
BEGIN:VEVENT
DTSTART;TZID=America/New_York:20260502T080000
DTEND;TZID=America/New_York:20260502T120000
DTSTAMP:20260422T202931
CREATED:20260414T121803Z
LAST-MODIFIED:20260414T121906Z
UID:23902-1777708800-1777723200@wolfcreektrackclub.com
SUMMARY:Pittsburgh Diocese Meet @ Pine Richland HS
DESCRIPTION:
URL:https://wolfcreektrackclub.com/event/pittsburgh-diocese-meet-pine-richland-hs/
LOCATION:Pine-Richland High School\, 700 Warrendale Road\, Gibsonia\, PA\, 15044\, United States
END:VEVENT
BEGIN:VEVENT
DTSTART;TZID=America/New_York:20260502T093000
DTEND;TZID=America/New_York:20260502T133000
DTSTAMP:20260422T202931
CREATED:20260416T193255Z
LAST-MODIFIED:20260416T193255Z
UID:23990-1777714200-1777728600@wolfcreektrackclub.com
SUMMARY:North East Invitational
DESCRIPTION:
URL:https://wolfcreektrackclub.com/event/north-east-invitational/
LOCATION:North East High School\, 1901 Freeport Road\, North East\, PA\, 16428\, United States
END:VEVENT
BEGIN:VEVENT
DTSTART;TZID=America/New_York:20260502T203000
DTEND;TZID=America/New_York:20260502T220000
DTSTAMP:20260422T202931
CREATED:20260322T194257Z
LAST-MODIFIED:20260322T194257Z
UID:23548-1777753800-1777759200@wolfcreektrackclub.com
SUMMARY:Neon Nights 5K
DESCRIPTION:
URL:https://wolfcreektrackclub.com/event/neon-nights-5k-3/
LOCATION:Connellsville PA
END:VEVENT
BEGIN:VEVENT
DTSTART;TZID=America/New_York:20260505T143000
DTEND;TZID=America/New_York:20260505T173000
DTSTAMP:20260422T202931
CREATED:20260314T173512Z
LAST-MODIFIED:20260403T190500Z
UID:23470-1777991400-1778002200@wolfcreektrackclub.com
SUMMARY:Avonworth @ North Hills HS T&F Meet
DESCRIPTION:
URL:https://wolfcreektrackclub.com/event/avonworth-north-hills-hs-t-f-meet/
LOCATION:North Hills HS Martorelli Stadium\, 5336 Perrysville Ave\, Pittsburgh\, PA\, 15229\, United States
END:VEVENT
BEGIN:VEVENT
DTSTART;TZID=America/New_York:20260506T153000
DTEND;TZID=America/New_York:20260506T153000
DTSTAMP:20260422T202931
CREATED:20260120T155358Z
LAST-MODIFIED:20260120T155358Z
UID:23043-1778081400-1778081400@wolfcreektrackclub.com
SUMMARY:NA Jim LeDonne T&F Invitational
DESCRIPTION:
URL:https://wolfcreektrackclub.com/event/na-jim-ledonne-tf-invitational-2/
LOCATION:MI
END:VEVENT
BEGIN:VEVENT
DTSTART;TZID=America/New_York:20260506T153000
DTEND;TZID=America/New_York:20260506T183000
DTSTAMP:20260422T202931
CREATED:20260414T205610Z
LAST-MODIFIED:20260414T205610Z
UID:23943-1778081400-1778092200@wolfcreektrackclub.com
SUMMARY:Rochester @ Hopewell HS T&F Meet
DESCRIPTION:
URL:https://wolfcreektrackclub.com/event/rochester-hopewell-hs-tf-meet/
LOCATION:Tony Dorsett Stadium\, 1215 Longvue Ave\, Aliquippa\, PA\, 15001\, United States
END:VEVENT
BEGIN:VEVENT
DTSTART;TZID=America/New_York:20260507T130000
DTEND;TZID=America/New_York:20260507T180000
DTSTAMP:20260422T202931
CREATED:20260414T163021Z
LAST-MODIFIED:20260414T163140Z
UID:23929-1778158800-1778176800@wolfcreektrackclub.com
SUMMARY:Mercer County Track and Field Invitational 2026
DESCRIPTION:
URL:https://wolfcreektrackclub.com/event/mercer-county-track-and-field-invitational-2026/
LOCATION:Wilmington High School\, 300 Wood Street\, New Wilmington\, PA\, 16142\, United States
END:VEVENT
END:VCALENDAR