BEGIN:VCALENDAR
VERSION:2.0
PRODID:-//Wolf Creek Race Management - ECPv6.15.20//NONSGML v1.0//EN
CALSCALE:GREGORIAN
METHOD:PUBLISH
X-ORIGINAL-URL:https://wolfcreektrackclub.com
X-WR-CALDESC:Events for Wolf Creek Race Management
REFRESH-INTERVAL;VALUE=DURATION:PT1H
X-Robots-Tag:noindex
X-PUBLISHED-TTL:PT1H
BEGIN:VTIMEZONE
TZID:America/New_York
BEGIN:DAYLIGHT
TZOFFSETFROM:-0500
TZOFFSETTO:-0400
TZNAME:EDT
DTSTART:20250309T070000
END:DAYLIGHT
BEGIN:STANDARD
TZOFFSETFROM:-0400
TZOFFSETTO:-0500
TZNAME:EST
DTSTART:20251102T060000
END:STANDARD
BEGIN:DAYLIGHT
TZOFFSETFROM:-0500
TZOFFSETTO:-0400
TZNAME:EDT
DTSTART:20260308T070000
END:DAYLIGHT
BEGIN:STANDARD
TZOFFSETFROM:-0400
TZOFFSETTO:-0500
TZNAME:EST
DTSTART:20261101T060000
END:STANDARD
BEGIN:DAYLIGHT
TZOFFSETFROM:-0500
TZOFFSETTO:-0400
TZNAME:EDT
DTSTART:20270314T070000
END:DAYLIGHT
BEGIN:STANDARD
TZOFFSETFROM:-0400
TZOFFSETTO:-0500
TZNAME:EST
DTSTART:20271107T060000
END:STANDARD
END:VTIMEZONE
BEGIN:VEVENT
DTSTART;TZID=America/New_York:20260406T160000
DTEND;TZID=America/New_York:20260406T190000
DTSTAMP:20260421T075810
CREATED:20260224T205419Z
LAST-MODIFIED:20260225T195303Z
UID:23202-1775491200-1775502000@wolfcreektrackclub.com
SUMMARY:Trinity @ Camp Hill HS T&F Meet
DESCRIPTION:
URL:https://wolfcreektrackclub.com/event/trinity-camp-hill-hs-tf-meet/
LOCATION:Camp Hill High School\, 100 South 24th Street\, Camp Hill\, PA\, 17011\, United States
ATTACH;FMTTYPE=image/png:https://wolfcreektrackclub.com/wp-content/uploads/2026/02/169-AR-Camp-Hill-Logo.png
END:VEVENT
BEGIN:VEVENT
DTSTART;TZID=America/New_York:20260403T133000
DTEND;TZID=America/New_York:20260404T163000
DTSTAMP:20260421T075810
CREATED:20260120T155114Z
LAST-MODIFIED:20260303T204616Z
UID:22989-1775223000-1775320200@wolfcreektrackclub.com
SUMMARY:Dave Labor T&F Invitational
DESCRIPTION:
URL:https://wolfcreektrackclub.com/event/dave-labor-tf-invitational/
LOCATION:Slippery Rock University Track\, 1 Morrow Way\, Slippery Rock\, PA\, 16057\, United States
END:VEVENT
BEGIN:VEVENT
DTSTART;TZID=America/New_York:20260402T150000
DTEND;TZID=America/New_York:20260402T150000
DTSTAMP:20260421T075810
CREATED:20260120T155113Z
LAST-MODIFIED:20260303T203050Z
UID:22988-1775142000-1775142000@wolfcreektrackclub.com
SUMMARY:Lancer Relays Invitational
DESCRIPTION:
URL:https://wolfcreektrackclub.com/event/lancer-relays-invitational/
LOCATION:General McClane High School\, 11761 Edinboro Road\, Edinboro\, PA\, 16412\, United States
END:VEVENT
BEGIN:VEVENT
DTSTART;TZID=America/New_York:20260401T160000
DTEND;TZID=America/New_York:20260401T190000
DTSTAMP:20260421T075810
CREATED:20260120T155101Z
LAST-MODIFIED:20260303T202705Z
UID:22987-1775059200-1775070000@wolfcreektrackclub.com
SUMMARY:Mars @ North Allegheny MS T&F Meet
DESCRIPTION:
URL:https://wolfcreektrackclub.com/event/mars-north-allegheny-ms-tf-meet-2/
LOCATION:North Allegheny High School\, 10375 Perry Hwy\, Wexford\, PA\, 15090\, United States
END:VEVENT
BEGIN:VEVENT
DTSTART;TZID=America/New_York:20260401T153000
DTEND;TZID=America/New_York:20260401T183000
DTSTAMP:20260421T075810
CREATED:20260312T171615Z
LAST-MODIFIED:20260312T171615Z
UID:23448-1775057400-1775068200@wolfcreektrackclub.com
SUMMARY:Leechburg Area @ Deer Lakes HS T&F Meet
DESCRIPTION:
URL:https://wolfcreektrackclub.com/event/leechburg-area-deer-lakes-hs-tf-meet/
LOCATION:Deer Lakes High School\, 163 E Union Rd\, Cheswick\, PA\, 15024\, United States
END:VEVENT
BEGIN:VEVENT
DTSTART;TZID=America/New_York:20260401T153000
DTEND;TZID=America/New_York:20260401T183000
DTSTAMP:20260421T075810
CREATED:20260226T164931Z
LAST-MODIFIED:20260226T165413Z
UID:23325-1775057400-1775068200@wolfcreektrackclub.com
SUMMARY:McGuffey & Brentwood @ Burgettstown HS T&F Meet
DESCRIPTION:
URL:https://wolfcreektrackclub.com/event/mcguffey-brentwood-burgettstown-hs-tf-meet/
LOCATION:Burgettstown High School\, 104 Bavington Road\, Burgettstown\, 15021\, United States
END:VEVENT
BEGIN:VEVENT
DTSTART;TZID=America/New_York:20260401T153000
DTEND;TZID=America/New_York:20260401T153000
DTSTAMP:20260421T075810
CREATED:20260226T170127Z
LAST-MODIFIED:20260226T174737Z
UID:23328-1775057400-1775057400@wolfcreektrackclub.com
SUMMARY:Penn Hills\, Oakland Catholic\, Central Catholic @ Woodland Hills HS T&F Meet
DESCRIPTION:
URL:https://wolfcreektrackclub.com/event/penn-hills-oakland-catholic-central-catholic-woodland-hills-hs-tf-meet/
LOCATION:Woodland Hills High School\, 2550 Greensburg Pike\, Pittsburgh\, 15221\, United States
END:VEVENT
BEGIN:VEVENT
DTSTART;TZID=America/New_York:20260401T153000
DTEND;TZID=America/New_York:20260401T153000
DTSTAMP:20260421T075810
CREATED:20260120T155100Z
LAST-MODIFIED:20260226T170507Z
UID:22986-1775057400-1775057400@wolfcreektrackclub.com
SUMMARY:Beaver Falls & Mohawk @ Neshannock MS T&F Meet
DESCRIPTION:
URL:https://wolfcreektrackclub.com/event/beaver-falls-mohawk-neshannock-ms-tf-meet/
LOCATION:Neshannock High School\, 3834 Michell Rd\, New Castle\, PA\, 16105\, United States
END:VEVENT
BEGIN:VEVENT
DTSTART;TZID=America/New_York:20260331T160000
DTEND;TZID=America/New_York:20260331T190000
DTSTAMP:20260421T075810
CREATED:20260314T175344Z
LAST-MODIFIED:20260315T023602Z
UID:23472-1774972800-1774983600@wolfcreektrackclub.com
SUMMARY:Union Area @ Laurel HS T&F Meet
DESCRIPTION:
URL:https://wolfcreektrackclub.com/event/union-area-laurel-hs-t-f-meet/
LOCATION:Laurel High School\, 2497 Harlansburg Road\, New Castle\, PA\, 16101\, United States
END:VEVENT
BEGIN:VEVENT
DTSTART;TZID=America/New_York:20260331T160000
DTEND;TZID=America/New_York:20260331T190000
DTSTAMP:20260421T075810
CREATED:20260120T155100Z
LAST-MODIFIED:20260303T200949Z
UID:22985-1774972800-1774983600@wolfcreektrackclub.com
SUMMARY:Slippery Rock @ Hickory HS T&F Meet
DESCRIPTION:
URL:https://wolfcreektrackclub.com/event/slippery-rock-hickory-hs-tf-meet-2/
LOCATION:Hickory High School\, 640 N Hermitage Road\, Hermitage\, PA\, 16148\, United States
END:VEVENT
BEGIN:VEVENT
DTSTART;TZID=America/New_York:20260331T160000
DTEND;TZID=America/New_York:20260331T190000
DTSTAMP:20260421T075810
CREATED:20260120T155023Z
LAST-MODIFIED:20260303T193637Z
UID:22982-1774972800-1774983600@wolfcreektrackclub.com
SUMMARY:Montour & South Fayette @ Avonworth MS T&S Meet
DESCRIPTION:
URL:https://wolfcreektrackclub.com/event/montour-south-fayette-avonworth-ms/
LOCATION:Avonworth Lenzner Field\, 321 Grandview Rd\, Pittsburgh\, PA\, 15237\, United States
END:VEVENT
BEGIN:VEVENT
DTSTART;TZID=America/New_York:20260331T153000
DTEND;TZID=America/New_York:20260331T183000
DTSTAMP:20260421T075810
CREATED:20260120T155059Z
LAST-MODIFIED:20260303T200712Z
UID:22984-1774971000-1774981800@wolfcreektrackclub.com
SUMMARY:Beaver Falls & Mohawk @ Neshannock HS T&F Meet
DESCRIPTION:
URL:https://wolfcreektrackclub.com/event/beaver-falls-mohawk-neshannock-hs-tf-meet/
LOCATION:Neshannock High School\, 3834 Michell Rd\, New Castle\, PA\, 16105\, United States
END:VEVENT
BEGIN:VEVENT
DTSTART;TZID=America/New_York:20260331T153000
DTEND;TZID=America/New_York:20260331T183000
DTSTAMP:20260421T075810
CREATED:20260120T155058Z
LAST-MODIFIED:20260303T200511Z
UID:22983-1774971000-1774981800@wolfcreektrackclub.com
SUMMARY:Armstrong @ Mars HS T&F Meet
DESCRIPTION:
URL:https://wolfcreektrackclub.com/event/armstrong-mars-hs-tf-meet-2/
LOCATION:Mars Athletic Complex\, 1775 Three Degree Road\, Mars\, PA\, 16046\, United States
END:VEVENT
BEGIN:VEVENT
DTSTART;TZID=America/New_York:20260330T160000
DTEND;TZID=America/New_York:20260330T190000
DTSTAMP:20260421T075810
CREATED:20260120T155021Z
LAST-MODIFIED:20260303T191738Z
UID:22979-1774886400-1774897200@wolfcreektrackclub.com
SUMMARY:Hampton @ North Allegheny MS T&F Meet
DESCRIPTION:
URL:https://wolfcreektrackclub.com/event/hampton-north-allegheny-middle-school/
LOCATION:North Allegheny High School\, 10375 Perry Hwy\, Wexford\, PA\, 15090\, United States
END:VEVENT
BEGIN:VEVENT
DTSTART;TZID=America/New_York:20260330T160000
DTEND;TZID=America/New_York:20260330T190000
DTSTAMP:20260421T075810
CREATED:20260120T155021Z
LAST-MODIFIED:20260303T190226Z
UID:22980-1774886400-1774897200@wolfcreektrackclub.com
SUMMARY:Mercyhurst Prep & McDowell @ General McLane HS T&F Meet
DESCRIPTION:
URL:https://wolfcreektrackclub.com/event/mercyhurst-prep-mcdowell-general-mclane/
LOCATION:General McClane High School\, 11761 Edinboro Road\, Edinboro\, PA\, 16412\, United States
END:VEVENT
BEGIN:VEVENT
DTSTART;TZID=America/New_York:20260330T160000
DTEND;TZID=America/New_York:20260330T190000
DTSTAMP:20260421T075810
CREATED:20260120T155020Z
LAST-MODIFIED:20260303T191431Z
UID:22978-1774886400-1774897200@wolfcreektrackclub.com
SUMMARY:Montour @ Seneca Valley HS T&F Meet
DESCRIPTION:
URL:https://wolfcreektrackclub.com/event/montour-seneca-valley-hs-tf-meet/
LOCATION:Seneca Valley High School\, 128 Seneca School Road\, Harmony\, PA\, 16037\, United States
ATTACH;FMTTYPE=image/png:https://wolfcreektrackclub.com/wp-content/uploads/2026/01/Seneca-Valley-07.png
END:VEVENT
BEGIN:VEVENT
DTSTART;TZID=America/New_York:20260330T153000
DTEND;TZID=America/New_York:20260330T183000
DTSTAMP:20260421T075810
CREATED:20260120T155022Z
LAST-MODIFIED:20260303T191137Z
UID:22981-1774884600-1774895400@wolfcreektrackclub.com
SUMMARY:BCC\, Aliquippa\, Western Beaver @ New Brighton Area HS T&F Meet
DESCRIPTION:
URL:https://wolfcreektrackclub.com/event/bcc-aliquippa-western-beaver-new-brighton-hs/
LOCATION:New Brighton High School\, 3202 43rd St\, New Brighton\, PA\, 15066\, United States
END:VEVENT
BEGIN:VEVENT
DTSTART;TZID=America/New_York:20260328T100000
DTEND;TZID=America/New_York:20260328T160000
DTSTAMP:20260421T075810
CREATED:20260120T154822Z
LAST-MODIFIED:20260303T184552Z
UID:22977-1774692000-1774713600@wolfcreektrackclub.com
SUMMARY:Butler County Classic @ Seneca Valley HS
DESCRIPTION:
URL:https://wolfcreektrackclub.com/event/butler-county-classic-seneca-valley/
LOCATION:Seneca Valley High School\, 128 Seneca School Road\, Harmony\, PA\, 16037\, United States
ATTACH;FMTTYPE=image/png:https://wolfcreektrackclub.com/wp-content/uploads/2026/01/Seneca-Valley-07.png
END:VEVENT
BEGIN:VEVENT
DTSTART;TZID=America/New_York:20260328T090000
DTEND;TZID=America/New_York:20260328T090000
DTSTAMP:20260421T075810
CREATED:20260303T202047Z
LAST-MODIFIED:20260303T202047Z
UID:23398-1774688400-1774688400@wolfcreektrackclub.com
SUMMARY:40th Annual Steubenville Earlybird Invitational
DESCRIPTION:
URL:https://wolfcreektrackclub.com/event/40th-annual-steubenville-earlybird-invitational/
LOCATION:Steubenville HS Track\, 1928 Sunset Blvd\, Steubenville\, OH\, 43952\, United States
END:VEVENT
BEGIN:VEVENT
DTSTART;TZID=America/New_York:20260327T153000
DTEND;TZID=America/New_York:20260327T183000
DTSTAMP:20260421T075810
CREATED:20260312T170106Z
LAST-MODIFIED:20260312T170106Z
UID:23446-1774625400-1774636200@wolfcreektrackclub.com
SUMMARY:North Allegheny @ North Hills MS T&F Meet
DESCRIPTION:
URL:https://wolfcreektrackclub.com/event/north-allegheny-north-hills-ms-tf-meet-2/
LOCATION:North Hills HS Martorelli Stadium\, 5336 Perrysville Ave\, Pittsburgh\, PA\, 15229\, United States
END:VEVENT
BEGIN:VEVENT
DTSTART;TZID=America/New_York:20260327T153000
DTEND;TZID=America/New_York:20260327T153000
DTSTAMP:20260421T075810
CREATED:20260120T154821Z
LAST-MODIFIED:20260226T155503Z
UID:22976-1774625400-1774625400@wolfcreektrackclub.com
SUMMARY:12 Team Varsity Super Dual Meet
DESCRIPTION:
URL:https://wolfcreektrackclub.com/event/12-team-varsity-super-dual-meet/
LOCATION:West Middlesex Area High School\, 3591 Sharon Road\, West Middlesex\, 16159\, United States
END:VEVENT
BEGIN:VEVENT
DTSTART;TZID=America/New_York:20260326T160000
DTEND;TZID=America/New_York:20260326T190000
DTSTAMP:20260421T075810
CREATED:20260316T045955Z
LAST-MODIFIED:20260316T045955Z
UID:23483-1774540800-1774551600@wolfcreektrackclub.com
SUMMARY:Hampton & New Castle @ Seneca Valley MS T&F Meet
DESCRIPTION:
URL:https://wolfcreektrackclub.com/event/hampton-new-castle-seneca-valley-ms-tf-meet/
LOCATION:Seneca Valley High School\, 128 Seneca School Road\, Harmony\, PA\, 16037\, United States
END:VEVENT
BEGIN:VEVENT
DTSTART;TZID=America/New_York:20260326T153000
DTEND;TZID=America/New_York:20260326T183000
DTSTAMP:20260421T075810
CREATED:20260226T152041Z
LAST-MODIFIED:20260318T172927Z
UID:23317-1774539000-1774549800@wolfcreektrackclub.com
SUMMARY:Burgettstown & South Park @ Carlyton HS T&F Meet
DESCRIPTION:
URL:https://wolfcreektrackclub.com/event/burgettstown-south-park-carlyton-hs-tf-meet/
LOCATION:Carlynton High School\, 435 Kings Highway\, Carnegie\, PA\, 15106\, United States
END:VEVENT
BEGIN:VEVENT
DTSTART;TZID=America/New_York:20260326T153000
DTEND;TZID=America/New_York:20260326T183000
DTSTAMP:20260421T075810
CREATED:20260120T154821Z
LAST-MODIFIED:20260303T183536Z
UID:22975-1774539000-1774549800@wolfcreektrackclub.com
SUMMARY:Kiski @ Hampton HS T&F Meet
DESCRIPTION:
URL:https://wolfcreektrackclub.com/event/kiski-hampton-hs/
LOCATION:Hampton High School\, 2929 McCully Rd\, Allison Park\, PA\, 15202\, United States
END:VEVENT
BEGIN:VEVENT
DTSTART;TZID=America/New_York:20260326T153000
DTEND;TZID=America/New_York:20260326T183000
DTSTAMP:20260421T075810
CREATED:20260120T154820Z
LAST-MODIFIED:20260303T184035Z
UID:22974-1774539000-1774549800@wolfcreektrackclub.com
SUMMARY:Shenango & Union @ Neshannock MS T&F Meet
DESCRIPTION:
URL:https://wolfcreektrackclub.com/event/shenango-union-neshannock-ms-tf-meet/
LOCATION:Neshannock High School\, 3834 Michell Rd\, New Castle\, PA\, 16105\, United States
END:VEVENT
BEGIN:VEVENT
DTSTART;TZID=America/New_York:20260326T143000
DTEND;TZID=America/New_York:20260326T173000
DTSTAMP:20260421T075810
CREATED:20260226T150702Z
LAST-MODIFIED:20260226T150702Z
UID:23315-1774535400-1774546200@wolfcreektrackclub.com
SUMMARY:Pittsburgh City League Meet #2
DESCRIPTION:
URL:https://wolfcreektrackclub.com/event/pittsburgh-city-league-meet-2/
LOCATION:Oliver High School\, 2323 Brighton Rd\, Pittsburgh\, PA\, 15212\, United States
ATTACH;FMTTYPE=image/png:https://wolfcreektrackclub.com/wp-content/uploads/2026/02/11AR-City-League-e1772049377981.png
END:VEVENT
BEGIN:VEVENT
DTSTART;TZID=America/New_York:20260325T153000
DTEND;TZID=America/New_York:20260325T183000
DTSTAMP:20260421T075810
CREATED:20260120T154819Z
LAST-MODIFIED:20260303T165005Z
UID:22973-1774452600-1774463400@wolfcreektrackclub.com
SUMMARY:West Mifflin & Peters @ Upper Saint Clair HS T&F Meet
DESCRIPTION:
URL:https://wolfcreektrackclub.com/event/west-mifflin-peters-upper-saint-clair-high-school/
LOCATION:Upper St. Clair\, 1825 McLaughlin Run Rd\, Pittsburgh\, PA\, 15241\, United States
END:VEVENT
BEGIN:VEVENT
DTSTART;TZID=America/New_York:20260325T153000
DTEND;TZID=America/New_York:20260325T183000
DTSTAMP:20260421T075810
CREATED:20260120T154806Z
LAST-MODIFIED:20260303T165439Z
UID:22971-1774452600-1774463400@wolfcreektrackclub.com
SUMMARY:Woodland Hills @ McKeesport HS T&F Meet
DESCRIPTION:
URL:https://wolfcreektrackclub.com/event/woodland-hills-mckeesport-high-school-track/
LOCATION:McKeesport High School\, 1960 Eden Park Blvd\, McKeesport\, PA\, 15132\, United States
END:VEVENT
BEGIN:VEVENT
DTSTART;TZID=America/New_York:20260325T153000
DTEND;TZID=America/New_York:20260325T183000
DTSTAMP:20260421T075810
CREATED:20260120T154806Z
LAST-MODIFIED:20260303T170110Z
UID:22972-1774452600-1774463400@wolfcreektrackclub.com
SUMMARY:Butler & North Hills @ Fox Chapel HS T&F Meet
DESCRIPTION:
URL:https://wolfcreektrackclub.com/event/butler-north-hills-fox-chapel-high-school/
LOCATION:Fox Chapel High School\, 611 Field Club Road\, Pittsburgh\, PA\, 15238\, United States
END:VEVENT
BEGIN:VEVENT
DTSTART;TZID=America/New_York:20260325T153000
DTEND;TZID=America/New_York:20260325T183000
DTSTAMP:20260421T075810
CREATED:20260120T154805Z
LAST-MODIFIED:20260303T164215Z
UID:22970-1774452600-1774463400@wolfcreektrackclub.com
SUMMARY:New Castle @ Hopewell HS T&F Meet
DESCRIPTION:
URL:https://wolfcreektrackclub.com/event/hopewell-hs-track/
LOCATION:Hopewell High School\, 1215 Longvue Ave\, Aliquippa\, PA\, 15001\, United States
END:VEVENT
END:VCALENDAR