BEGIN:VCALENDAR
VERSION:2.0
PRODID:-//Wolf Creek Race Management - ECPv6.15.20//NONSGML v1.0//EN
CALSCALE:GREGORIAN
METHOD:PUBLISH
X-ORIGINAL-URL:https://wolfcreektrackclub.com
X-WR-CALDESC:Events for Wolf Creek Race Management
REFRESH-INTERVAL;VALUE=DURATION:PT1H
X-Robots-Tag:noindex
X-PUBLISHED-TTL:PT1H
BEGIN:VTIMEZONE
TZID:America/New_York
BEGIN:DAYLIGHT
TZOFFSETFROM:-0500
TZOFFSETTO:-0400
TZNAME:EDT
DTSTART:20240310T070000
END:DAYLIGHT
BEGIN:STANDARD
TZOFFSETFROM:-0400
TZOFFSETTO:-0500
TZNAME:EST
DTSTART:20241103T060000
END:STANDARD
BEGIN:DAYLIGHT
TZOFFSETFROM:-0500
TZOFFSETTO:-0400
TZNAME:EDT
DTSTART:20250309T070000
END:DAYLIGHT
BEGIN:STANDARD
TZOFFSETFROM:-0400
TZOFFSETTO:-0500
TZNAME:EST
DTSTART:20251102T060000
END:STANDARD
BEGIN:DAYLIGHT
TZOFFSETFROM:-0500
TZOFFSETTO:-0400
TZNAME:EDT
DTSTART:20260308T070000
END:DAYLIGHT
BEGIN:STANDARD
TZOFFSETFROM:-0400
TZOFFSETTO:-0500
TZNAME:EST
DTSTART:20261101T060000
END:STANDARD
BEGIN:DAYLIGHT
TZOFFSETFROM:-0500
TZOFFSETTO:-0400
TZNAME:EDT
DTSTART:20270314T070000
END:DAYLIGHT
BEGIN:STANDARD
TZOFFSETFROM:-0400
TZOFFSETTO:-0500
TZNAME:EST
DTSTART:20271107T060000
END:STANDARD
END:VTIMEZONE
BEGIN:VTIMEZONE
TZID:America/Chicago
BEGIN:DAYLIGHT
TZOFFSETFROM:-0600
TZOFFSETTO:-0500
TZNAME:CDT
DTSTART:20250309T080000
END:DAYLIGHT
BEGIN:STANDARD
TZOFFSETFROM:-0500
TZOFFSETTO:-0600
TZNAME:CST
DTSTART:20251102T070000
END:STANDARD
BEGIN:DAYLIGHT
TZOFFSETFROM:-0600
TZOFFSETTO:-0500
TZNAME:CDT
DTSTART:20260308T080000
END:DAYLIGHT
BEGIN:STANDARD
TZOFFSETFROM:-0500
TZOFFSETTO:-0600
TZNAME:CST
DTSTART:20261101T070000
END:STANDARD
BEGIN:DAYLIGHT
TZOFFSETFROM:-0600
TZOFFSETTO:-0500
TZNAME:CDT
DTSTART:20270314T080000
END:DAYLIGHT
BEGIN:STANDARD
TZOFFSETFROM:-0500
TZOFFSETTO:-0600
TZNAME:CST
DTSTART:20271107T070000
END:STANDARD
END:VTIMEZONE
BEGIN:VEVENT
DTSTART;TZID=America/New_York:20260309T160000
DTEND;TZID=America/New_York:20260309T183000
DTSTAMP:20260421T141709
CREATED:20260120T135832Z
LAST-MODIFIED:20260305T014158Z
UID:22939-1773072000-1773081000@wolfcreektrackclub.com
SUMMARY:Slippery Rock & West Allegheny @ Seneca Valley HS T&F Scrimmage
DESCRIPTION:
URL:https://wolfcreektrackclub.com/event/slippery-rock-west-allegheny-seneca-valley-hs-tf-scrimmage/
LOCATION:Seneca Valley High School\, 128 Seneca School Road\, Harmony\, PA\, 16037\, United States
ATTACH;FMTTYPE=image/png:https://wolfcreektrackclub.com/wp-content/uploads/2026/01/Seneca-Valley-07.png
END:VEVENT
BEGIN:VEVENT
DTSTART;TZID=America/New_York:20260307T090000
DTEND;TZID=America/New_York:20260307T130000
DTSTAMP:20260421T141709
CREATED:20260120T135409Z
LAST-MODIFIED:20260120T135410Z
UID:22936-1772874000-1772888400@wolfcreektrackclub.com
SUMMARY:South Park Half Marathon
DESCRIPTION:On March 7\, experience the beauty of one of Western Pennsylvania’s most popular running locations – South Park! Starting from the museum\, this paved road course consists of two loops. After the race\, be sure to stick around for refreshments. See you on Saturday\, March 7th! Runners and walkers welcome!
URL:https://wolfcreektrackclub.com/event/south-park-half-marathon-3/
LOCATION:South Park Fairgrounds\, 1888 Brownsville Road\, South Park Township\, PA\, 15129\, United States
ATTACH;FMTTYPE=image/png:https://wolfcreektrackclub.com/wp-content/uploads/2026/01/south-park-logo.png
ORGANIZER;CN="Wolf Creek Race Management":MAILTO:info@wolfcreektrackclub.com
END:VEVENT
BEGIN:VEVENT
DTSTART;VALUE=DATE:20260131
DTEND;VALUE=DATE:20260201
DTSTAMP:20260421T141709
CREATED:20260120T134727Z
LAST-MODIFIED:20260120T134859Z
UID:22934-1769817600-1769903999@wolfcreektrackclub.com
SUMMARY:Hot Springs Half Marathon
DESCRIPTION:Take a trip to the Ouachita Mountains of Hot Springs Arkansas. Join us at Hot Springs National Park on Saturday\, January 31\, 2026 for this memorable trail half marathon. Known for its thermal fountains\, open springs\, mountain views\, and stunning forested trails\, The Hot Springs Half Marathon occurs within the Northwoods Trails & Cedar Glades Park adjacent to Hot Springs National Park making this a unique opportunity to experience all that Hot Springs has to offer!
URL:https://wolfcreektrackclub.com/event/hot-springs-half-marathon-4/
LOCATION:Northwoods\, 300 Pineland Dr\, Hot Springs\, AR\, 71901\, United States
ATTACH;FMTTYPE=image/png:https://wolfcreektrackclub.com/wp-content/uploads/2023/11/Hot-Springs-Blog-Banner-Pic-1.png
ORGANIZER;CN="Wolf Creek Race Management":MAILTO:info@wolfcreektrackclub.com
END:VEVENT
BEGIN:VEVENT
DTSTART;TZID=America/New_York:20260110T090000
DTEND;TZID=America/New_York:20260110T130000
DTSTAMP:20260421T141709
CREATED:20250731T155636Z
LAST-MODIFIED:20250731T155854Z
UID:21789-1768035600-1768050000@wolfcreektrackclub.com
SUMMARY:North Park Half Marathon
DESCRIPTION:
URL:https://wolfcreektrackclub.com/event/north-park-half-marathon-5/
LOCATION:North Park Boathouse\, 10301 Pearce Mill Road\, Allison Park\, PA\, 15101\, United States
ATTACH;FMTTYPE=image/jpeg:https://wolfcreektrackclub.com/wp-content/uploads/2024/11/np007-scaled.jpg
ORGANIZER;CN="Wolf Creek Race Management":MAILTO:info@wolfcreektrackclub.com
END:VEVENT
BEGIN:VEVENT
DTSTART;TZID=America/New_York:20251231T153000
DTEND;TZID=America/New_York:20251231T170000
DTSTAMP:20260421T141709
CREATED:20250731T154851Z
LAST-MODIFIED:20250731T154851Z
UID:21786-1767195000-1767200400@wolfcreektrackclub.com
SUMMARY:Harmony Silvester
DESCRIPTION:
URL:https://wolfcreektrackclub.com/event/harmony-silvester-2/
LOCATION:Grace Church of Harmony\, 538 Main St\, Harmony\, PA\, 16037\, United States
ATTACH;FMTTYPE=image/png:https://wolfcreektrackclub.com/wp-content/uploads/2025/07/genericImage-websiteLogo-105268-1752869215.9695-0.bOEQLF.png
END:VEVENT
BEGIN:VEVENT
DTSTART;TZID=America/New_York:20251130T180000
DTEND;TZID=America/New_York:20251130T193000
DTSTAMP:20260421T141709
CREATED:20250829T170942Z
LAST-MODIFIED:20250829T170942Z
UID:21998-1764525600-1764531000@wolfcreektrackclub.com
SUMMARY:Oglebay Twinkle Trot 5k
DESCRIPTION:
URL:https://wolfcreektrackclub.com/event/oglebay-twinkle-trot-5k/
LOCATION:Oglebay Park\, 465 Lodge Drive\, Wheeling\, WV\, 26003\, United States
ATTACH;FMTTYPE=image/png:https://wolfcreektrackclub.com/wp-content/uploads/2024/10/Twinkletrot.png
END:VEVENT
BEGIN:VEVENT
DTSTART;TZID=America/New_York:20251127T090000
DTEND;TZID=America/New_York:20251127T103000
DTSTAMP:20260421T141709
CREATED:20250829T171619Z
LAST-MODIFIED:20250829T171619Z
UID:22000-1764234000-1764239400@wolfcreektrackclub.com
SUMMARY:Wheeling Turkey Trot
DESCRIPTION:
URL:https://wolfcreektrackclub.com/event/wheeling-turkey-trot-2/
LOCATION:Wheeling University\, 316 Washington Ave\, Wheeling\, WV\, 26003\, United States
ATTACH;FMTTYPE=image/png:https://wolfcreektrackclub.com/wp-content/uploads/2024/10/wtt.png
END:VEVENT
BEGIN:VEVENT
DTSTART;TZID=America/New_York:20251127T090000
DTEND;TZID=America/New_York:20251127T103000
DTSTAMP:20260421T141709
CREATED:20250808T135833Z
LAST-MODIFIED:20250808T135900Z
UID:21822-1764234000-1764239400@wolfcreektrackclub.com
SUMMARY:9th Annual Bobcats Turkey Trot 5K
DESCRIPTION:
URL:https://wolfcreektrackclub.com/event/9th-annual-bobcats-turkey-trot-5k/
LOCATION:Irvine Park\, 799 Corporations St.\, Beaver\, PA\, 15009\, United States
ATTACH;FMTTYPE=image/png:https://wolfcreektrackclub.com/wp-content/uploads/2022/10/bobcat-1.png
END:VEVENT
BEGIN:VEVENT
DTSTART;TZID=America/New_York:20251127T090000
DTEND;TZID=America/New_York:20251127T103000
DTSTAMP:20260421T141709
CREATED:20250730T145448Z
LAST-MODIFIED:20250730T145448Z
UID:21776-1764234000-1764239400@wolfcreektrackclub.com
SUMMARY:Seneca Valley Cross Country Turkey Chase 5K
DESCRIPTION:
URL:https://wolfcreektrackclub.com/event/seneca-valley-cross-country-turkey-chase-5k/
LOCATION:PA
ATTACH;FMTTYPE=image/png:https://wolfcreektrackclub.com/wp-content/uploads/2021/10/SV-TC.png
END:VEVENT
BEGIN:VEVENT
DTSTART;TZID=America/New_York:20251127T073000
DTEND;TZID=America/New_York:20251127T090000
DTSTAMP:20260421T141709
CREATED:20250701T153518Z
LAST-MODIFIED:20250701T153518Z
UID:21622-1764228600-1764234000@wolfcreektrackclub.com
SUMMARY:Thanksgiving Day Bethel Park Recreation Turkey Trot 5k Run & Walk
DESCRIPTION:
URL:https://wolfcreektrackclub.com/event/thanksgiving-day-bethel-park-recreation-turkey-trot-5k-run-walk-2/
LOCATION:Montour Trail\, 515 Clifton Road\, Bethel Park\, PA\, 15102\, United States
ATTACH;FMTTYPE=image/png:https://wolfcreektrackclub.com/wp-content/uploads/2021/10/BP-TT.png
END:VEVENT
BEGIN:VEVENT
DTSTART;TZID=America/New_York:20251115T083000
DTEND;TZID=America/New_York:20251115T110000
DTSTAMP:20260421T141709
CREATED:20250701T105127Z
LAST-MODIFIED:20250701T105127Z
UID:21583-1763195400-1763204400@wolfcreektrackclub.com
SUMMARY:Harvest Moon Race
DESCRIPTION:
URL:https://wolfcreektrackclub.com/event/harvest-moon-race-3/
LOCATION:St. Philip’s Church\, 1629 Beaver Grade Road\, Coraopolis\, PA\, 15108\, United States
ATTACH;FMTTYPE=image/png:https://wolfcreektrackclub.com/wp-content/uploads/2024/10/harvest-moon.png
END:VEVENT
BEGIN:VEVENT
DTSTART;TZID=America/New_York:20251108T080000
DTEND;TZID=America/New_York:20251108T163000
DTSTAMP:20260421T141709
CREATED:20250701T104743Z
LAST-MODIFIED:20250701T104838Z
UID:21580-1762588800-1762619400@wolfcreektrackclub.com
SUMMARY:Veterans Trail Festival presented by Flick Financial
DESCRIPTION:
URL:https://wolfcreektrackclub.com/event/veterans-trail-festival-presented-by-flick-financial/
LOCATION:Raccoon Creek State Park\, 195 Cabin Rd #15050\, Georgetown\, PA\, 15043\, United States
ATTACH;FMTTYPE=image/png:https://wolfcreektrackclub.com/wp-content/uploads/2025/07/vet.png
END:VEVENT
BEGIN:VEVENT
DTSTART;TZID=America/New_York:20251101T110000
DTEND;TZID=America/New_York:20251101T140000
DTSTAMP:20260421T141709
CREATED:20250703T135225Z
LAST-MODIFIED:20250703T135225Z
UID:21645-1761994800-1762005600@wolfcreektrackclub.com
SUMMARY:Presidents Athletic Conference XC Championships
DESCRIPTION:
URL:https://wolfcreektrackclub.com/event/presidents-athletic-conference-xc-championships/
LOCATION:Allegheny College\, 204 Park Ave\, Meadville\, PA\, United States
ATTACH;FMTTYPE=image/png:https://wolfcreektrackclub.com/wp-content/uploads/2021/10/pacxc.png
END:VEVENT
BEGIN:VEVENT
DTSTART;TZID=America/New_York:20251101T090000
DTEND;TZID=America/New_York:20251101T120000
DTSTAMP:20260421T141709
CREATED:20250701T104258Z
LAST-MODIFIED:20250701T104258Z
UID:21578-1761987600-1761998400@wolfcreektrackclub.com
SUMMARY:Run of the Dead
DESCRIPTION:
URL:https://wolfcreektrackclub.com/event/run-of-the-dead-4/
LOCATION:Patton Park\, 2301 Woodmere St\, Detroit\, MI\, 48209\, United States
ATTACH;FMTTYPE=image/png:https://wolfcreektrackclub.com/wp-content/uploads/2023/08/roftdead.png
END:VEVENT
BEGIN:VEVENT
DTSTART;TZID=America/New_York:20251101T090000
DTEND;TZID=America/New_York:20251101T103000
DTSTAMP:20260421T141709
CREATED:20250829T161850Z
LAST-MODIFIED:20250829T161850Z
UID:21987-1761987600-1761993000@wolfcreektrackclub.com
SUMMARY:Trick or Trot 5k
DESCRIPTION:
URL:https://wolfcreektrackclub.com/event/trick-or-trot-5k-3/
LOCATION:Camp Hill Methodist Church\, 417 South 22nd Street\, Camp Hill\, PA\, 17011\, United States
ATTACH;FMTTYPE=image/png:https://wolfcreektrackclub.com/wp-content/uploads/2025/08/raceBanner-tN5M3Ra3-bOM5Hz-huge.png
END:VEVENT
BEGIN:VEVENT
DTSTART;TZID=America/New_York:20251025T110000
DTEND;TZID=America/New_York:20251025T143000
DTSTAMP:20260421T141709
CREATED:20250731T162255Z
LAST-MODIFIED:20250731T162255Z
UID:21795-1761390000-1761402600@wolfcreektrackclub.com
SUMMARY:PSAC XC Championships
DESCRIPTION:
URL:https://wolfcreektrackclub.com/event/psac-xc-championships/
LOCATION:PennWest Edinboro\, 219 Meadville Street\, Edinboro\, PA\, 16444\, United States
ATTACH;FMTTYPE=image/jpeg:https://wolfcreektrackclub.com/wp-content/uploads/2025/07/psac-pennsylvania-state-athletic-conference5728.jpg
END:VEVENT
BEGIN:VEVENT
DTSTART;TZID=America/New_York:20251025T090000
DTEND;TZID=America/New_York:20251025T120000
DTSTAMP:20260421T141709
CREATED:20250829T163257Z
LAST-MODIFIED:20250829T163257Z
UID:21990-1761382800-1761393600@wolfcreektrackclub.com
SUMMARY:John's Journey
DESCRIPTION:
URL:https://wolfcreektrackclub.com/event/johns-journey/
LOCATION:North Park Boathouse\, 10301 Pearce Mill Road\, Allison Park\, PA\, 15101\, United States
ATTACH;FMTTYPE=image/png:https://wolfcreektrackclub.com/wp-content/uploads/2024/09/natrick-2.png
END:VEVENT
BEGIN:VEVENT
DTSTART;TZID=America/New_York:20251025T090000
DTEND;TZID=America/New_York:20251025T110000
DTSTAMP:20260421T141709
CREATED:20250808T123416Z
LAST-MODIFIED:20250808T123416Z
UID:21817-1761382800-1761390000@wolfcreektrackclub.com
SUMMARY:Steps with St. Dymphna 5k Walk/Run
DESCRIPTION:
URL:https://wolfcreektrackclub.com/event/steps-with-st-dymphna-5k-walk-run-2/
LOCATION:St. Vincent College\, 300 Fraser Purchase Road\, Latrobe\, PA\, 15650\, United States
ATTACH;FMTTYPE=image/png:https://wolfcreektrackclub.com/wp-content/uploads/2025/08/genericImage-websiteLogo-215907-1754507196.0584-0.bOK6E8.png
END:VEVENT
BEGIN:VEVENT
DTSTART;TZID=America/New_York:20251025T083000
DTEND;TZID=America/New_York:20251025T110000
DTSTAMP:20260421T141709
CREATED:20250808T135118Z
LAST-MODIFIED:20250808T135118Z
UID:21820-1761381000-1761390000@wolfcreektrackclub.com
SUMMARY:NA Foundation Trick or Trot
DESCRIPTION:
URL:https://wolfcreektrackclub.com/event/na-foundation-trick-or-trot-3/
LOCATION:North Alleghey Marshall Middle School\, 5145 Wexford Run Road\, Wexford\, PA\, 15090\, United States
ATTACH;FMTTYPE=image/png:https://wolfcreektrackclub.com/wp-content/uploads/2024/08/natrick-1.png
END:VEVENT
BEGIN:VEVENT
DTSTART;TZID=America/New_York:20251025T083000
DTEND;TZID=America/New_York:20251025T103000
DTSTAMP:20260421T141709
CREATED:20250730T145012Z
LAST-MODIFIED:20250730T145106Z
UID:21774-1761381000-1761388200@wolfcreektrackclub.com
SUMMARY:Monsters at the Mall Race Weekend
DESCRIPTION:
URL:https://wolfcreektrackclub.com/event/monsters-at-the-mall-race-weekend/
LOCATION:Ohio Valley Mall\, 67800 Mall Road\, St. Clairsville\, OH\, 43950\, United States
ATTACH;FMTTYPE=image/png:https://wolfcreektrackclub.com/wp-content/uploads/2021/09/monsters-at-the-mall.png
END:VEVENT
BEGIN:VEVENT
DTSTART;TZID=America/New_York:20251012T090000
DTEND;TZID=America/New_York:20251012T103000
DTSTAMP:20260421T141709
CREATED:20250902T155531Z
LAST-MODIFIED:20250902T155531Z
UID:22031-1760259600-1760265000@wolfcreektrackclub.com
SUMMARY:Sherrard 5k Monster Dash
DESCRIPTION:
URL:https://wolfcreektrackclub.com/event/sherrard-5k-monster-dash/
LOCATION:1000 Fairmont Pike\, 1000 Fairmont Pike\, Wheeling\, WV\, United States
ATTACH;FMTTYPE=image/png:https://wolfcreektrackclub.com/wp-content/uploads/2025/09/SHERRARD-5K.png
END:VEVENT
BEGIN:VEVENT
DTSTART;TZID=America/New_York:20251012T083000
DTEND;TZID=America/New_York:20251012T100000
DTSTAMP:20260421T141709
CREATED:20250626T171225Z
LAST-MODIFIED:20250626T171225Z
UID:21509-1760257800-1760263200@wolfcreektrackclub.com
SUMMARY:Alpha Pi 5k
DESCRIPTION:
URL:https://wolfcreektrackclub.com/event/alpha-pi-5k-2/
LOCATION:Washington & Jefferson College\, 50 S Lincoln St\, Washington\, PA\, 15301\, United States
ATTACH;FMTTYPE=image/jpeg:https://wolfcreektrackclub.com/wp-content/uploads/2024/07/ATO-1.jpg
END:VEVENT
BEGIN:VEVENT
DTSTART;TZID=America/New_York:20251011T090000
DTEND;TZID=America/New_York:20251011T160000
DTSTAMP:20260421T141709
CREATED:20250626T170932Z
LAST-MODIFIED:20250626T170932Z
UID:21505-1760173200-1760198400@wolfcreektrackclub.com
SUMMARY:West Penn Trail Triathlon
DESCRIPTION:
URL:https://wolfcreektrackclub.com/event/west-penn-trail-triathlon-2/
LOCATION:West Penn Trail\, Saltsburg\, PA\, United States
ATTACH;FMTTYPE=image/png:https://wolfcreektrackclub.com/wp-content/uploads/2025/06/wptt.png
END:VEVENT
BEGIN:VEVENT
DTSTART;TZID=America/New_York:20251011T090000
DTEND;TZID=America/New_York:20251011T120000
DTSTAMP:20260421T141709
CREATED:20250730T191144Z
LAST-MODIFIED:20250730T191144Z
UID:21784-1760173200-1760184000@wolfcreektrackclub.com
SUMMARY:John Marshal XC Invitational
DESCRIPTION:
URL:https://wolfcreektrackclub.com/event/john-marshal-xc-invitational/
LOCATION:Grand Vue Park\, 250 Trail Drive\, Moundsville\, WV\, 26041\, United States
ATTACH;FMTTYPE=image/png:https://wolfcreektrackclub.com/wp-content/uploads/2024/08/jm.png
END:VEVENT
BEGIN:VEVENT
DTSTART;TZID=America/New_York:20251011T090000
DTEND;TZID=America/New_York:20251011T110000
DTSTAMP:20260421T141709
CREATED:20250730T144553Z
LAST-MODIFIED:20250730T144553Z
UID:21770-1760173200-1760180400@wolfcreektrackclub.com
SUMMARY:Beverly's PGH - 5K For Good
DESCRIPTION:
URL:https://wolfcreektrackclub.com/event/beverlys-pgh-5k-for-good/
LOCATION:2399 Tilbrook Rd Monroeville\, PA US 15146\, 2399 Tilbrook Rd\, Monroeville\, PA\, 15146\, United States
ATTACH;FMTTYPE=image/png:https://wolfcreektrackclub.com/wp-content/uploads/2025/07/genericImage-websiteLogo-258721-1753885181.6589-0.bOIIN9_.png
END:VEVENT
BEGIN:VEVENT
DTSTART;TZID=America/New_York:20251010T183000
DTEND;TZID=America/New_York:20251010T203000
DTSTAMP:20260421T141709
CREATED:20250731T161514Z
LAST-MODIFIED:20250731T161514Z
UID:21793-1760121000-1760128200@wolfcreektrackclub.com
SUMMARY:Grove City College XC Alumni 5k & 3k Fun Run
DESCRIPTION:
URL:https://wolfcreektrackclub.com/event/grove-city-college-xc-alumni-5k-3k-fun-run-2/
LOCATION:Grove City College\, 100 Campus Lane\, Grove City\, PA\, 16127\, United States
ATTACH;FMTTYPE=image/jpeg:https://wolfcreektrackclub.com/wp-content/uploads/2023/08/dji_fly_20221023_163442_187_1666558289354_photo_optimized-2-scaled.jpg
END:VEVENT
BEGIN:VEVENT
DTSTART;TZID=America/New_York:20251010T160000
DTEND;TZID=America/New_York:20251010T173000
DTSTAMP:20260421T141709
CREATED:20250829T165121Z
LAST-MODIFIED:20250829T165121Z
UID:21994-1760112000-1760117400@wolfcreektrackclub.com
SUMMARY:St. Kilian XC Invitational
DESCRIPTION:
URL:https://wolfcreektrackclub.com/event/st-kilian-xc-invitational-4/
LOCATION:Adams Township Park\, Mars\, PA\, United States
ATTACH;FMTTYPE=image/png:https://wolfcreektrackclub.com/wp-content/uploads/2022/08/st-kilian.png
END:VEVENT
BEGIN:VEVENT
DTSTART;TZID=America/New_York:20251009T160000
DTEND;TZID=America/New_York:20251009T183000
DTSTAMP:20260421T141709
CREATED:20250630T155525Z
LAST-MODIFIED:20250630T155525Z
UID:21545-1760025600-1760034600@wolfcreektrackclub.com
SUMMARY:JV XC Twilight Showcase
DESCRIPTION:
URL:https://wolfcreektrackclub.com/event/jv-xc-twilight-showcase-4/
LOCATION:Seneca Valley High School\, 128 Seneca School Road\, Harmony\, PA\, 16037\, United States
ATTACH;FMTTYPE=image/png:https://wolfcreektrackclub.com/wp-content/uploads/2022/08/show.png
END:VEVENT
BEGIN:VEVENT
DTSTART;TZID=America/New_York:20251008T150000
DTEND;TZID=America/New_York:20251008T183000
DTSTAMP:20260421T141709
CREATED:20250626T171508Z
LAST-MODIFIED:20250626T171508Z
UID:21511-1759935600-1759948200@wolfcreektrackclub.com
SUMMARY:MAC XC Championships
DESCRIPTION:
URL:https://wolfcreektrackclub.com/event/mac-xc-championships/
LOCATION:Brush Creek Park\, Route 588\, Beaver Falls\, PA\, 15010\, United States
ATTACH;FMTTYPE=image/png:https://wolfcreektrackclub.com/wp-content/uploads/2024/09/mac.png
END:VEVENT
BEGIN:VEVENT
DTSTART;TZID=America/New_York:20251007T153000
DTEND;TZID=America/New_York:20251007T180000
DTSTAMP:20260421T141709
CREATED:20250829T165444Z
LAST-MODIFIED:20250829T165444Z
UID:21996-1759851000-1759860000@wolfcreektrackclub.com
SUMMARY:North Allegheny Middle School XC Invitational
DESCRIPTION:
URL:https://wolfcreektrackclub.com/event/north-allegheny-middle-school-xc-invitational-4/
LOCATION:North Alleghey Marshall Middle School\, 5145 Wexford Run Road\, Wexford\, PA\, 15090\, United States
ATTACH;FMTTYPE=image/png:https://wolfcreektrackclub.com/wp-content/uploads/2021/09/na-ms-xc.png
END:VEVENT
END:VCALENDAR