BEGIN:VCALENDAR
VERSION:2.0
PRODID:-//Wolf Creek Race Management - ECPv6.15.20//NONSGML v1.0//EN
CALSCALE:GREGORIAN
METHOD:PUBLISH
X-ORIGINAL-URL:https://wolfcreektrackclub.com
X-WR-CALDESC:Events for Wolf Creek Race Management
REFRESH-INTERVAL;VALUE=DURATION:PT1H
X-Robots-Tag:noindex
X-PUBLISHED-TTL:PT1H
BEGIN:VTIMEZONE
TZID:America/New_York
BEGIN:DAYLIGHT
TZOFFSETFROM:-0500
TZOFFSETTO:-0400
TZNAME:EDT
DTSTART:20240310T070000
END:DAYLIGHT
BEGIN:STANDARD
TZOFFSETFROM:-0400
TZOFFSETTO:-0500
TZNAME:EST
DTSTART:20241103T060000
END:STANDARD
BEGIN:DAYLIGHT
TZOFFSETFROM:-0500
TZOFFSETTO:-0400
TZNAME:EDT
DTSTART:20250309T070000
END:DAYLIGHT
BEGIN:STANDARD
TZOFFSETFROM:-0400
TZOFFSETTO:-0500
TZNAME:EST
DTSTART:20251102T060000
END:STANDARD
BEGIN:DAYLIGHT
TZOFFSETFROM:-0500
TZOFFSETTO:-0400
TZNAME:EDT
DTSTART:20260308T070000
END:DAYLIGHT
BEGIN:STANDARD
TZOFFSETFROM:-0400
TZOFFSETTO:-0500
TZNAME:EST
DTSTART:20261101T060000
END:STANDARD
END:VTIMEZONE
BEGIN:VEVENT
DTSTART;TZID=America/New_York:20251101T090000
DTEND;TZID=America/New_York:20251101T103000
DTSTAMP:20260424T201005
CREATED:20250829T161850Z
LAST-MODIFIED:20250829T161850Z
UID:21987-1761987600-1761993000@wolfcreektrackclub.com
SUMMARY:Trick or Trot 5k
DESCRIPTION:
URL:https://wolfcreektrackclub.com/event/trick-or-trot-5k-3/
LOCATION:Camp Hill Methodist Church\, 417 South 22nd Street\, Camp Hill\, PA\, 17011\, United States
ATTACH;FMTTYPE=image/png:https://wolfcreektrackclub.com/wp-content/uploads/2025/08/raceBanner-tN5M3Ra3-bOM5Hz-huge.png
END:VEVENT
BEGIN:VEVENT
DTSTART;TZID=America/New_York:20251101T090000
DTEND;TZID=America/New_York:20251101T120000
DTSTAMP:20260424T201005
CREATED:20250701T104258Z
LAST-MODIFIED:20250701T104258Z
UID:21578-1761987600-1761998400@wolfcreektrackclub.com
SUMMARY:Run of the Dead
DESCRIPTION:
URL:https://wolfcreektrackclub.com/event/run-of-the-dead-4/
LOCATION:Patton Park\, 2301 Woodmere St\, Detroit\, MI\, 48209\, United States
ATTACH;FMTTYPE=image/png:https://wolfcreektrackclub.com/wp-content/uploads/2023/08/roftdead.png
END:VEVENT
BEGIN:VEVENT
DTSTART;TZID=America/New_York:20251101T110000
DTEND;TZID=America/New_York:20251101T140000
DTSTAMP:20260424T201005
CREATED:20250703T135225Z
LAST-MODIFIED:20250703T135225Z
UID:21645-1761994800-1762005600@wolfcreektrackclub.com
SUMMARY:Presidents Athletic Conference XC Championships
DESCRIPTION:
URL:https://wolfcreektrackclub.com/event/presidents-athletic-conference-xc-championships/
LOCATION:Allegheny College\, 204 Park Ave\, Meadville\, PA\, United States
ATTACH;FMTTYPE=image/png:https://wolfcreektrackclub.com/wp-content/uploads/2021/10/pacxc.png
END:VEVENT
BEGIN:VEVENT
DTSTART;TZID=America/New_York:20251108T080000
DTEND;TZID=America/New_York:20251108T163000
DTSTAMP:20260424T201005
CREATED:20250701T104743Z
LAST-MODIFIED:20250701T104838Z
UID:21580-1762588800-1762619400@wolfcreektrackclub.com
SUMMARY:Veterans Trail Festival presented by Flick Financial
DESCRIPTION:
URL:https://wolfcreektrackclub.com/event/veterans-trail-festival-presented-by-flick-financial/
LOCATION:Raccoon Creek State Park\, 195 Cabin Rd #15050\, Georgetown\, PA\, 15043\, United States
ATTACH;FMTTYPE=image/png:https://wolfcreektrackclub.com/wp-content/uploads/2025/07/vet.png
END:VEVENT
BEGIN:VEVENT
DTSTART;TZID=America/New_York:20251115T083000
DTEND;TZID=America/New_York:20251115T110000
DTSTAMP:20260424T201005
CREATED:20250701T105127Z
LAST-MODIFIED:20250701T105127Z
UID:21583-1763195400-1763204400@wolfcreektrackclub.com
SUMMARY:Harvest Moon Race
DESCRIPTION:
URL:https://wolfcreektrackclub.com/event/harvest-moon-race-3/
LOCATION:St. Philip’s Church\, 1629 Beaver Grade Road\, Coraopolis\, PA\, 15108\, United States
ATTACH;FMTTYPE=image/png:https://wolfcreektrackclub.com/wp-content/uploads/2024/10/harvest-moon.png
END:VEVENT
BEGIN:VEVENT
DTSTART;TZID=America/New_York:20251127T073000
DTEND;TZID=America/New_York:20251127T090000
DTSTAMP:20260424T201005
CREATED:20250701T153518Z
LAST-MODIFIED:20250701T153518Z
UID:21622-1764228600-1764234000@wolfcreektrackclub.com
SUMMARY:Thanksgiving Day Bethel Park Recreation Turkey Trot 5k Run & Walk
DESCRIPTION:
URL:https://wolfcreektrackclub.com/event/thanksgiving-day-bethel-park-recreation-turkey-trot-5k-run-walk-2/
LOCATION:Montour Trail\, 515 Clifton Road\, Bethel Park\, PA\, 15102\, United States
ATTACH;FMTTYPE=image/png:https://wolfcreektrackclub.com/wp-content/uploads/2021/10/BP-TT.png
END:VEVENT
BEGIN:VEVENT
DTSTART;TZID=America/New_York:20251127T090000
DTEND;TZID=America/New_York:20251127T103000
DTSTAMP:20260424T201005
CREATED:20250730T145448Z
LAST-MODIFIED:20250730T145448Z
UID:21776-1764234000-1764239400@wolfcreektrackclub.com
SUMMARY:Seneca Valley Cross Country Turkey Chase 5K
DESCRIPTION:
URL:https://wolfcreektrackclub.com/event/seneca-valley-cross-country-turkey-chase-5k/
ATTACH;FMTTYPE=image/png:https://wolfcreektrackclub.com/wp-content/uploads/2021/10/SV-TC.png
END:VEVENT
BEGIN:VEVENT
DTSTART;TZID=America/New_York:20251127T090000
DTEND;TZID=America/New_York:20251127T103000
DTSTAMP:20260424T201005
CREATED:20250808T135833Z
LAST-MODIFIED:20250808T135900Z
UID:21822-1764234000-1764239400@wolfcreektrackclub.com
SUMMARY:9th Annual Bobcats Turkey Trot 5K
DESCRIPTION:
URL:https://wolfcreektrackclub.com/event/9th-annual-bobcats-turkey-trot-5k/
LOCATION:Irvine Park\, 799 Corporations St.\, Beaver\, PA\, 15009\, United States
ATTACH;FMTTYPE=image/png:https://wolfcreektrackclub.com/wp-content/uploads/2022/10/bobcat-1.png
END:VEVENT
BEGIN:VEVENT
DTSTART;TZID=America/New_York:20251127T090000
DTEND;TZID=America/New_York:20251127T103000
DTSTAMP:20260424T201005
CREATED:20250829T171619Z
LAST-MODIFIED:20250829T171619Z
UID:22000-1764234000-1764239400@wolfcreektrackclub.com
SUMMARY:Wheeling Turkey Trot
DESCRIPTION:
URL:https://wolfcreektrackclub.com/event/wheeling-turkey-trot-2/
LOCATION:Wheeling University\, 316 Washington Ave\, Wheeling\, WV\, 26003\, United States
ATTACH;FMTTYPE=image/png:https://wolfcreektrackclub.com/wp-content/uploads/2024/10/wtt.png
END:VEVENT
BEGIN:VEVENT
DTSTART;TZID=America/New_York:20251130T180000
DTEND;TZID=America/New_York:20251130T193000
DTSTAMP:20260424T201005
CREATED:20250829T170942Z
LAST-MODIFIED:20250829T170942Z
UID:21998-1764525600-1764531000@wolfcreektrackclub.com
SUMMARY:Oglebay Twinkle Trot 5k
DESCRIPTION:
URL:https://wolfcreektrackclub.com/event/oglebay-twinkle-trot-5k/
LOCATION:Oglebay Park\, 465 Lodge Drive\, Wheeling\, WV\, 26003\, United States
ATTACH;FMTTYPE=image/png:https://wolfcreektrackclub.com/wp-content/uploads/2024/10/Twinkletrot.png
END:VEVENT
END:VCALENDAR